Workbook
Name _: #REF!
Name _: #REF!
Name _: #REF!
Name _: #REF!
Name _.4: #REF!
Name _.4: #REF!
Name _.4: #REF!
Name _?: [1]손익합산!$L$5:$L$92
Name _?__C: #REF!
Name _?__C: #REF!
Name __?: [1]손익합산!$L$5:$L$92
Name __?__C: #REF!
Name __?__C: #REF!
Name ___?: [1]손익합산!$L$5:$L$92
Name ___?__C: #REF!
Name ___?__C: #REF!
Name ____?: [1]손익합산!$L$5:$L$92
Name ____?__C: #REF!
Name ____?__C: #REF!
Name _____A100000: #REF!
Name _____A100000: #REF!
Name _____A70000: #REF!
Name _____A70000: #REF!
Name _____COM1: #N/A
Name _____DAT1: #REF!
Name _____DAT1: #REF!
Name _____DAT10: #REF!
Name _____DAT10: #REF!
Name _____DAT11: #REF!
Name _____DAT11: #REF!
Name _____DAT12: #REF!
Name _____DAT12: #REF!
Name _____DAT13: #REF!
Name _____DAT13: #REF!
Name _____DAT14: #REF!
Name _____DAT14: #REF!
Name _____DAT15: #REF!
Name _____DAT15: #REF!
Name _____DAT16: #REF!
Name _____DAT16: #REF!
Name _____DAT17: #REF!
Name _____DAT17: #REF!
Name _____DAT18: #REF!
Name _____DAT18: #REF!
Name _____DAT19: #REF!
Name _____DAT19: #REF!
Name _____DAT2: #REF!
Name _____DAT2: #REF!
Name _____DAT20: #REF!
Name _____DAT20: #REF!
Name _____DAT21: #REF!
Name _____DAT21: #REF!
Name _____DAT22: #REF!
Name _____DAT22: #REF!
Name _____DAT23: #REF!
Name _____DAT23: #REF!
Name _____DAT24: #REF!
Name _____DAT24: #REF!
Name _____DAT25: #REF!
Name _____DAT25: #REF!

Sheet 검토보고서
A2: 지방자치단체 재무제표에 대한 검토보고서
A4: 진천군수 귀하
B6: 우리는 첨부된 진천군의 2016년 12월31일로 종료되는 회계연도의 재무제표(현금흐름표는 ｢지방자치단체 회계기준에 관한 규칙｣의 부칙에 따라 작성되지 아니하였습니다)를 검토하였습니다. 이 재무제표를 작성할 책임은 지방자치단체의 장에게 있으며, 우리의 책임은 동 재무제표에 대하여 검토를 실시하고 이를 근거로 이 재무제표에 대하여 검토결과를 보고하는데 있습니다.
B8: 우리는 ｢지방자치단체 재무제표 검토 기준｣에 따라 검토를 실시하였습니다. 이 기준은 우리가 재무제표가 중대하게 왜곡표시되지 아니하였다는 것에 관해 보통수준의 확신을 얻도록 검토를 계획하고 실시할 것을 요구하고 있습니다. 검토는 주로 질문과 분석적 절차에 의거 수행되므로 감사보다는 낮은 수준의 확신을 제공합니다. 우리는 감사를 실시하지 않았으므로 감사의견을 표명하지 아니합니다.
B10: 우리의 검토결과 상기 재무제표는 ｢지방자치단체 회계기준에 관한 규칙｣ 및 ｢지방자치단체 재무회계 운영규정｣에 중요하게 위배되어 표시되었다는 점이 발견되지 아니하였습니다.
A12: 서울시 강남구 역삼로 221
A13: 회계법인 성 지
A14: 대표이사 공인회계사 김 진 헌
A15: 42797

Sheet Sheet4

Sheet 목차
A5: 목 차
A12: I . 재무제표 총괄설명 . . . . . . . . . . . . . . . . . . . . . . . . . 1
A17: Ⅱ. 재무제표 . . . . . . . . . . . . . . . . . . . . . . 11
A22: Ⅲ. 재무제표에 대한 주석 . . . . . . . . . . . . . . . . . . . . . 23
A27: Ⅳ. 필수보충정보 . . . . . . . . . . . . . . . . . . . . . 47
A32: Ⅴ. 부속명세서 . . . . . . . . . . . . . . . . . . . . . 87
A37: Ⅵ. 재무제표의 첨부서류 . . . . . . . . . . . . . . . . . . . . . . . 97

Sheet Sheet5

Sheet 간지1
A16: Ⅰ. 재무제표 총괄설명

Sheet Sheet7

Sheet 총괄설명1
A2: 제1장. 재무제표 총괄설명
A4: 1. 재무제표의 구성
A6: 지방자치단체의 재정상황을 표시하는 가장 중요한 요소로서 재정상태표, 재정운영표, 순자산변동표 및 현금흐름표로 구성되며, 뒤에 설명되는 재무제표에 대한 주석을 포함하는 것입니다. 다만, 현금흐름표는 ‘지방자치단체의 회계기준에 관한 규칙(이하 “지방회계기준”)’ 부칙에 따라 작성이 유예되어 포함되지 않았습니다. 한편, 재정운영표는 비용항목을 기능별로 분류하여 나타내는 기능별재정운영표와 비용항목을 성질별로 분류하여 나타내는 성질별재정운영표 두 가지를 작성하고 있는데, 재무제표에는 기능별재정운영표가 포함되며, 성질별재정운영표는 필수보충정보에 포함되어 있습니다.
A8: (1) 재정상태표
A10: 특정 시점의 지방자치단체의 자산과 부채의 내역 및 상호관계 등 재정상태를 나타내는 재무제표로서 자산, 부채 및 순자산으로 구성됩니다.
A12: (2) 재정운영표
A14: 회계연도 동안의 재정운영 결과인 수익(사업수익, 비배분수익, 일반수익)과 비용(총원가, 관리운영비, 비배분비용)의 내역을 일정기준에 따라 체계적으로 표시하는 재무제표로서 수익, 비용 및 재정운영결과로 구성됩니다. 기업회계와는 달리 재정운영표는 회계연도 동안의 이익 또는 손실의 산정을 목적으로 하지 않습니다.
A16: (3) 순자산변동표
A18: 회계연도 동안의 순자산의 증감내역을 표시하는 재무제표로서 재정운영에 따른 재정운영결과와 기타순자산의 변동을 기재합니다.
A20: (4) 재무제표에 대한 주석
A22: 정보이용자에게 충분한 회계정보를 제공하기 위하여 지방자치단체가 채택한 주요한 회계정책과 재무제표에 표시된 회계과목의 세부내역 및 기타 재무제표에 중대한 영향을 미치는 사항을 설명하는 것입니다.
A24: (5) 필수보충정보
... A34: 「지방회계법」 제17조, 「지방회계법 시행령」 제14조에 따라 재무제표에 첨부하는 서류로서 채무관리보고서, 채권현재액보고서가 포함되어 있습니다.

Sheet 총괄설명2.3
A2: 2. 주요 제도적 변화
A4: 진천군은 2012회계연도부터 적용되는 지방자치단체 원가계산준칙 (훈령 제1호)에 따라 원가 개념을 반영한 재정운영표를 작성 및 공시하였습니다. 지방자치단체의 경우, 기업과 달리 수익 창출이 아닌 공공서비스나 재화를 생산, 제공하여 주민들의 복지를 높이는데 목적이 있기 때문에 기존의 수익과 비용으로 표시된 재정운영표가 아닌, 사업성과와 사업원가를 나타내는 재정운영표를 작성하게 되었습니다.
A6: 3. 재무제표에 대한 요약 설명
A8: (1) 재정상태
A10: 재정상태표는 특정시점(2016.12.31 현재)의 재정상태를 나타내는 재무제표로 자산, 부채, 순자산으로 구성되어 있습니다.
A12: 재정상태표에 의하면, 진천군의 총자산은 1,944,649,814,437원이고, 총부채는 100,546,854,121원으로 총자산에서 총부채를 차감한 순자산 규모는 1,844,102,960,316원입니다.
A14: 순자산은 지방자치단체가 장래에 공공서비스 제공을 위해 보유하고 있는 자원을 의미하며, 순자산 규모가 부채에 비해 상대적으로 큰 것은 민간기업과 다른 지방자치단체의 고유특성에 기인하는 것으로 이해됩니다. 이와 같은 재정상태를 각 계정별 구체적으로 살펴보면 다음과 같습니다.
A16: (1)-1. 자산
A18: 자산의 구성내역은 유동자산이 127,931백만원(6.58%)이고, 유동자산을 제외한 비유동자산이 1,816,719백만원(93.42%)으로 비유동자산이 상대적으로 큰 비중을 차지하고 있습니다.
A20: 유동자산은 현금및현금성자산 48,141백만원(2.48%), 단기금융상품 64,899백만원(3.34%) 등으로 구성되어 있으며, 지방세에 대한 미수채권인 미수세금은 5,050백만원, 세외수입에 대한 미수채권인 미수세외수입금은 6,843백만원, 재고자산 137백만원, 기타유동자산 791백만원이며 결손을 예상한 대손충당금이 904백만원입니다.
A22: 비유동자산은 투자자산 5,729백만원(0.29%), 일반유형자산 235,446백만원(12.11%), 주민편의시설 279,888백만원(14.39%), 사회기반시설 1,289,143백만원(66.29%), 기타비유동자산 6,513백만원(0.33%) 등으로 구성되어 있습니다.
A24: 지난해에 비해 190,809백만원의 자산이 증가하였으며 이것은 주로 사회기반시설(87,217백만원, 7.26% 증가)의 증가에 의한 것입니다. 유동자산의 총액은 127,931백만원으로 작년에 비해 24,483백만원이 증가하였으며 이것은 주로 현금및현금성자산(20,253백만원, 72.62% 증가)에 의한 것입니다. 비유동성 자산의 총액은 1,816,719백만원으로 작년에 비해 166,326백만원이 증가하였으며 이것은 주로 사회기반시설(87,217백만원, 7.26% 증가) 등의 증가에 의한 것입니다.
... A32: [요약재정상태표]
J33: (단위:백만원)
A34: 구 분 | D34: 2016년 | H34: 2015년
D35: 금 액 | F35: 구성비 | H35: 금 액 | J35: 구성비
A36: 유동자산 | D36: 127931 | F36: 6.58 | H36: 103447 | J36: 5.9
A37: 투자자산 | D37: 5729 | F37: 0.29 | H37: 5403 | J37: 0.31
A38: 일반유형자산 | D38: 235446 | F38: 12.11 | H38: 209612 | J38: 11.95
A39: 주민편의시설 | D39: 279888 | F39: 14.39 | H39: 227639 | J39: 12.98
A40: 사회기반시설 | D40: 1289143 | F40: 66.29 | H40: 1201926 | J40: 68.53
A41: 기타비유동자산 | D41: 6513 | F41: 0.34 | H41: 5814 | J41: 0.33
A42: 자산총계 | D42: 1944650 | F42: 100 | H42: 1753841 | J42: 100
A44: 구 분 | D44: 2016년 | H44: 2015년
D45: 금 액 | F45: 구성비 | H45: 금 액 | J45: 구성비
A46: 유동부채 | D46: 39599 | F46: 39.38 | H46: 34265 | J46: 34.87
A47: 장기차입부채 | D47: 13300 | F47: 13.23 | H47: 16100 | J47: 16.38
A48: 기타비유동부채 | D48: 47648 | F48: 47.39 | H48: 47902 | J48: 48.75
A49: 부채총계 | D49: 100547 | F49: 100 | H49: 98267 | J49: 100
A50: 고정순자산 | D50: 1747290 | F50: 94.75 | H50: 1575942 | J50: 95.19
A51: 특정순자산 | D51: 6669 | F51: 0.36 | H51: 5840 | J51: 0.35
A52: 일반순자산 | D52: 90144 | F52: 4.89 | H52: 73792 | J52: 4.46
A53: 순자산총계 | D53: 1844103 | F53: 100 | H53: 1655574 | J53: 100
A54: 부채및순자산총계 | D54: 1944650 | F54: - | H54: 1753841 | J54: -
A56: (1)-3. 지방공사 · 공단의 자산 · 부채를 포함한 재정상태
A58: 지방자치단체가 출자한 지방공사 · 공단의 자산 · 부채를 포함할 경우 진천군의 총자산은 이고, 총부채는 입니다.
A60: [시의 지방공사 · 공단의 자산 · 부채를 포함한 재정상태]
J61: (단위:백만원)
A62: 구분 | C62: 계 | F62: 지방자치단체 | I62: 지방공사 · 공단
A63: 총자산*
A64: 총부채
A66: * 총자산 백만원은 지방공사 · 공단 출자금 백만원을 포함하고 있으며, 지방공사 · 공단 출자금을 차감할 경우 총자산은 백만원 입니다.
A68: (2) 재정운영결과
A70: (2)-1. 기능별 분류
A72: 기능별 재정운영표에 의하면, 2016회계연도 진천군의 사업순원가는 91,937백만원이고 관리운영비(48,113백만원), 비배분비용(25,225백만원) 및 비배분수익(21,761백만원)을 가감한 재정운영순원가는 143,514백만원입니다.
A74: 한편, 재정운영순원가에서 일반수익 208,158백만원을 차감한 2016회계연도 (진천군)의 재정운영결과는 Δ64,644백만원입니다.
A76: [ 요약재정운영표(기능별) ]
J77: (단위:백만원)
A78: 구 분 | B78: 2016년 | G78: 2015년
B79: 총원가 | C79: 사업수익 | D79: 순원가 | E79: 내부 거래 | F79: 계 | G79: 총원가 | H79: 사업수익 | I79: 순원가 | J79: 내부 거래 | K79: 계
A80: Ⅰ. 사업순원가 | B80: 218694 | C80: 126756 | D80: 91937 | E80: 0 | F80: 91937 | G80: 210116 | H80: 125719 | I80: 84397 | J80: 0 | K80: 84397
A81: Ⅱ. 관리운영비 | B81: 0 | C81: 0 | D81: 69981 | E81: -21868 | F81: 48113 | G81: 0 | H81: 0 | I81: 59694 | J81: -14383 | K81: 45311
A82: Ⅲ. 비배분비용 | B82: 0 | C82: 0 | D82: 25225 | E82: 0 | F82: 25225 | G82: 0 | H82: 0 | I82: 17302 | J82: 0 | K82: 17302
A83: Ⅳ. 비배분수익 | B83: 0 | C83: 0 | D83: 21761 | E83: 0 | F83: 21761 | G83: 0 | H83: 0 | I83: 10778 | J83: 0 | K83: 10778
A84: Ⅴ. 재정운영순원가 | B84: 0 | C84: 0 | D84: 165382 | E84: -21868 | F84: 143514 | G84: 0 | H84: 0 | I84: 150615 | J84: -14383 | K84: 136231
A85: (Ⅰ+Ⅱ+Ⅲ-Ⅳ)
A86: Ⅵ. 일반수익 | B86: 0 | C86: 0 | D86: 230026 | E86: -21868 | F86: 208158 | G86: 0 | H86: 0 | I86: 201121 | J86: -14383 | K86: 186737
A87: Ⅶ. 재정운영결과 | B87: 0 | C87: 0 | D87: -64644 | E87: 0 | F87: -64644 | G87: 0 | H87: 0 | I87: -50506 | J87: 0 | K87: -50506
A88: (Ⅴ-Ⅵ)
A90: (2)-2. 성질별 분류
A92: 비용을 성질별로 살펴볼 때 인건비 51,429백만원(17.61%), 운영비 105,021백만원(35.96%), 정부간이전비용 5,484백만원(1.88%), 민간 등 이전비용 100,421백만원(34.39%), 기타비용 29,677백만원(10.16%)등으로 구성되어 있습니다.
A94: 수익은 자체조달수익이 119,396백만원(33.47%)이고, 정부간이전수익 236,632백만원(66.34%), 기타수익 648백만원(0.18%)으로 정부간이전수익의 비중이 상대적으로 높음을 알 수 있습니다.
A96: 비용은 292,032백만원으로 전년에 비해 19,304백만원 증가하였으며 이것은 주로 운영비(11,591백만원, 12.41% 증가)에 의한 것입니다.
A98: 수익은 356,676백만원이며 이 중 자체조달수익이 119,396백만원으로 전년에 비해 25,335백만원 증가하였으며 이것은 주로 지방세수익(10,227백만원, 15.85% 증가)에 의한 것이다. 중앙정부( 및 시도)로부터 이전받은 수익은 236,632백만원으로 전년에 비해 8,306백만원 증가하였으며 이것은 주로 지방교부세수익(9,442백만원, 9.94% 증가)에 의한 것입니다.
A100: 재정운영결과(비용-수익)은 Δ64,644백만원으로 전년에 비해 14,138백만원 감소하였으며 이것은 정부간이전수익 및 자체조달수익의 증가에 따른 수익 총액(33,442백만원, 10.35% 증가)의 증가가 비용 총액(19,304백만원, 7.08% 증가)의 증가를 초과함에 따른 것입니다.
A102: [ 요약재정운영표(성질별) ]
J103: (단위:백만원)
A104: 구 분 | D104: 2016년 | H104: 2015년
D105: 금 액 | F105: 구성비 | H105: 금 액 | J105: 구성비
A106: 인건비 | D106: 51429 | F106: 17.61 | H106: 49110 | J106: 18.01
A107: 운영비 | D107: 105021 | F107: 35.96 | H107: 93430 | J107: 34.26
A108: 정부간이전비용 | D108: 5484 | F108: 1.88 | H108: 5828 | J108: 2.14
A109: 민간등이전비용 | D109: 100421 | F109: 34.39 | H109: 92244 | J109: 33.82
A110: 기타비용 | D110: 29677 | F110: 10.16 | H110: 32116 | J110: 11.78
A111: 비용총계 | D111: 292032 | F111: 100 | H111: 272728 | J111: 100
A112: 자체조달수익 | D112: 119396 | F112: 33.48 | H112: 94061 | J112: 29.1
A113: 정부간이전수익 | D113: 236632 | F113: 66.34 | H113: 228326 | J113: 70.64
A114: 기타수익 | D114: 648 | F114: 0.18 | H114: 847 | J114: 0.26
A115: 수익총계 | D115: 356676 | F115: 100 | H115: 323234 | J115: 100
A116: 재정운영결과 (비용-수익) | D116: -64644 | F116: - | H116: -50506 | J116: -

Sheet 결산총평4.재무분석
A1: 4. 발생주의 복식부기 재무분석
E2: (단위 : 원, %)
A3: 분야 | B3: 지 표 명 | C3: 산 식 | D3: 2016 | E3: 2015
A4: 재정 상태 | B4: ① 총자산 대비 총부채 비율 | C4: 총부채 / 총자산 × 100 | D4: 5.17 | E4: 5.6
B5: ② 총부채 대비 차입부채 비율 | C5: 차입부채 / 총부채 × 100 | D5: 58 | E5: 64.94
B6: ③ 유형고정자산 대비 부채비율 | C6: 부채 / 유형고정자산 × 100 ※ 부채 : 유동부채+장기차입부채 ※ 유형고정자산 : 일반유형자산+주민편의시설+사회기반시설 | D6: 2.93 | E6: 3.07
B7: ④ 재정자금 대비 금융상품 비율 | C7: 장·단기 금융상품 / 재정자금 × 100 | D7: 58.11 | E7: 68.95
B8: ⑤ 현금창출자산 대비 총부채 비율 | C8: 총부채 / 현금창출자산 × 100 ※ 현금창출자산:(유동자산-기타유동자산+일반미수금)+ 장기금융상품+(장기융자금-학자금위탁대여금)+기타투자자산 | D8: 77.76 | E8: 95.79
B9: ⑥ 재정자금 대비 차입부채 비율 | C9: 차입부채 / 재정자금 × 100 ※ 재정자금 : 현금 및 현금성자산+장·단기 금융상품 | D9: 50.74 | E9: 71.05
B10: ⑦ 유동자산 대비 유동부채 비율 | C10: 유동부채 / 유동자산 × 100 | D10: 30.95 | E10: 33.12
B11: ⑧ 미수세금 대비 대손충당금 비율 | C11: 미수세금 대손충당금 / 미수세금(대손충당금 차감전) × 100 | D11: 11.38 | E11: 9.88
B12: ⑨ 단기민간융자금 비율 | C12: 단기민간융자금 / 장·단기 민간융자금 × 100 | D12: 87.88 | E12: 81.59
A13: 재정 운영 | B13: ① 예산 대비 세출 비율 | C13: 세출액(일반회계+기타특별회계) / 예산현액(일반회계+기타특별회계) × 100 | D13: 81.49 | E13: 82.47
B14: ② 경상수익 대비 경상비용 비율 | C14: 경상비용 / 경상수익 × 100 ※ 경상비용 : 인건비+운영비+재정보전금+조정교부금+교육비특별회계전출금 ※ 경상수익 : 지방세수익+경상세외수익+지방교부세+재정보전금+조정교부금 | D14: 69.68 | E14: 73.23
B15: ③ 경상비용 대비 이자비용 비율 | C15: 이자비용 / 경상비용 × 100 ※ 이자비용 : 차입부채 이자비용 | D15: 1.38 | E15: 1.86
B16: ④ 이자수익 대비 이자비용 비율 | C16: 이자비용 / 이자수익 × 100 | D16: 193.57 | E16: 186.87
B17: ⑤ 총수익 대비 경상수익 비율 | C17: 경상수익 / 총수익 × 100 | D17: 62.95 | E17: 60.22
B18: ⑥ 경상수익 대비 경상자체조달수익 비율 | C18: 경상자체조달수익 / 경상수익 × 100 ※ 경상자체조달수익 : 지방세수익+경상세외수익 | D18: 43.46 | E18: 42.35
B19: ⑦ 자체조달수익 대비 채권 비율 | C19: 미수자체조달수익(대손충당금 차감후) / 자체조달수익 × 100 ※ 미수자체조달수익 : 미수세금+미수세외수입금+일반미수금 | D19: 9.34 | E19: 12.44
B20: ⑧ 세외수익 대비 채권 비율 | C20: 미수세외수익(대손충당금 차감후) / 세외수익 × 100 ※ 미수세외수익 : 미수세외수입금+일반미수금 | D20: 14.96 | E20: 25.47
B21: ⑨ 총비용 대비 경상비용 비율 | C21: 경상비용 / 총비용 × 100 | D21: 53.57 | E21: 52.26
B22: ⑩ 지출액 대비 자산취득 비율 | C22: 자산 취득액 / 지출액 × 100 | D22: 21.35 | E22: 25.49
A23: 회계 책임 | B23: ① 주민 1인당 총자산 | C23: 총자산 / 인구수(회계연도말 인구수) | D23: 27800569 | E23: 25798991
B24: ② 주민 1인당 총부채 | C24: 총부채 / 인구수(회계연도말 인구수) | D24: 1437410.4 | E24: 1445505.4
B25: ③ 주민 1인당 실질부채 | C25: 실질부채 / 인구수(회계연도말 인구수) | D25: 1437410.4 | E25: 1445505.4
B26: ④ 주민 1인당 총수익 | C26: 총수익 / 인구수(회계연도말 인구수) | D26: 5099006.9 | E26: 4754769.2
B27: ⑤ 주민 1인당 자체조달수익 | C27: 자체조달수익 / 인구수(회계연도말 인구수) | D27: 1706877 | E27: 1383641.6
B28: ⑥ 주민 1인당 지방세수익 | C28: 지방세수익 / 인구수(회계연도말 인구수) | D28: 1068459.6 | E28: 948966.68
B29: ⑦ 주민 1인당 총비용 | C29: 총비용 / 인구수(회계연도말 인구수) | D29: 4174858.5 | E29: 4011825.4
B30: ⑧ 주민 1인당 민간등이전비용 | C30: 기타이전비용 / 인구수(회계연도말 인구수) | D30: 1435604.5 | E30: 1356906.1
B31: ⑨ 공무원 1인당 총수익 | C31: 총수익 / 공무원( 현원=(기초+기말)/2 ) | D31: 6.0147644e+08 | E31: 5.6117008e+08
B32: ⑩ 공무원 1인당 총비용 | C32: 총비용 / 공무원( 현원=(기초+기말)/2 ) | D32: 4.9246434e+08 | E32: 4.7348594e+08
B33: ⑪ 공무원 1인당 급여 | C33: 총급여 / 공무원( 현원=(기초+기말)/2 ) | D33: 55263684 | E33: 54763650

Sheet Sheet6

Sheet 간지2
A16: Ⅱ. 재무제표
E19: 1. 재정상태표
E21: 2. 재정운영표
E23: 3. 순자산변동표

Sheet Sheet9

Sheet 재정상태(당기)
A1: 재정상태표
A3: 해당연도 2016년 12월 31일 현재
A4: 직전연도 2015년 12월 31일 현재
A5: 진천군청 | I5: (단위: 원)
A6: 과 목 | D6: 해당연도(2016년)
D7: 일반회계 | E7: 기타 특별회계 | F7: 기금 | G7: 지방공기업 특별회계 | H7: 내부거래 | I7: 계
A9: 자 산
A10: 1. 유동자산 | D10: 82912570632 | E10: 14544608828 | F10: 4813444617 | G10: 25659919240 | H10: 0 | I10: 127930543317
B11: 현금및현금성자산 | D11: 10346569930 | E11: 11994646220 | F11: 564924304 | G11: 25235248650 | H11: 0 | I11: 48141389104
B12: 단기금융상품 | D12: 59000000000 | E12: 1750000000 | F12: 4149013199 | G12: 0 | H12: 0 | I12: 64899013199
B13: 미수세금 | D13: 5049988700 | E13: 0 | F13: 0 | G13: 0 | H13: 0 | I13: 5049988700
B14: 미수세금대손충당금 | D14: -574614760 | E14: 0 | F14: 0 | G14: 0 | H14: 0 | I14: -574614760
B15: 미수세외수입금 | D15: 6039120530 | E15: 462479390 | F15: 0 | G15: 341273240 | H15: 0 | I15: 6842873160
B16: 미수세외수입금대손충당금 | D16: -308771220 | E16: -4624800 | F16: 0 | G16: -11445540 | H16: 0 | I16: -324841560
B17: 미수징수교부금 | D17: 284028000 | E17: 0 | F17: 0 | G17: 0 | H17: 0 | I17: 284028000
B18: 미수정부간이전수익 | D18: 2240207000 | E18: 0 | F18: 0 | G18: 0 | H18: 0 | I18: 2240207000
B19: 단기대여금 | D19: 274096690 | E19: 175260000 | F19: 0 | G19: 0 | H19: 0 | I19: 449356690
B20: 단기대여금대손충당금 | D20: -2740970 | E20: -1752600 | F20: 0 | G20: 0 | H20: 0 | I20: -4493570
B21: 재고자산 | D21: 48154525 | E21: 0 | F21: 0 | G21: 88969510 | H21: 0 | I21: 137124035
B22: 기타유동자산 | D22: 516532207 | E22: 168600618 | F22: 99507114 | G22: 5873380 | H22: 0 | I22: 790513319
A24: 2. 투자자산 | D24: 4282275300 | E24: 0 | F24: 1880000000 | G24: 0 | H24: -433269000 | I24: 5729006300
B25: 장기금융상품 | D25: 0 | E25: 0 | F25: 1880000000 | G25: 0 | H25: 0 | I25: 1880000000
B26: 장기대여금 | D26: 2681526300 | E26: 0 | F26: 0 | G26: 0 | H26: 0 | I26: 2681526300
B27: 장기대여금대손충당금 | D27: -620000 | E27: 0 | F27: 0 | G27: 0 | H27: 0 | I27: -620000
B28: 장기투자증권 | D28: 1110000000 | E28: 0 | F28: 0 | G28: 0 | H28: 0 | I28: 1110000000
B29: 기타투자자산 | D29: 491369000 | E29: 0 | F29: 0 | G29: 0 | H29: -433269000 | I29: 58100000
A31: 3. 일반유형자산 | D31: 212938880344 | E31: 21950076928 | F31: 556686125 | G31: 0 | H31: 0 | I31: 235445643397
B32: 토지 | D32: 149181013291 | E32: 14437156350 | F32: 0 | G32: 0 | H32: 0 | I32: 163618169641
B33: 입목 | D33: 28327396730 | E33: 0 | F33: 0 | G33: 0 | H33: 0 | I33: 28327396730
B34: 건물 | D34: 33216047179 | E34: 1197150407 | F34: 0 | G34: 0 | H34: 0 | I34: 34413197586
B35: 건물감가상각누계액 | D35: -12935248254 | E35: -669106558 | F35: 0 | G35: 0 | H35: 0 | I35: -13604354812
B36: 구축물 | D36: 7749094100 | E36: 12213115420 | F36: 95442290 | G36: 0 | H36: 0 | I36: 20057651810
B37: 구축물감가상각누계액 | D37: -3000253315 | E37: -5247732492 | F37: -19088458 | G37: 0 | H37: 0 | I37: -8267074265
B38: 기계장치 | D38: 5035033330 | E38: 26046890 | F38: 773242210 | G38: 0 | H38: 0 | I38: 5834322430
B39: 기계장치감가상각누계액 | D39: -2572844734 | E39: -14573854 | F39: -297443464 | G39: 0 | H39: 0 | I39: -2884862052
B40: 차량운반구 | D40: 3962283700 | E40: 0 | F40: 0 | G40: 0 | H40: 0 | I40: 3962283700
B41: 차량운반구감가상각누계액 | D41: -2014446529 | E41: 0 | F41: 0 | G41: 0 | H41: 0 | I41: -2014446529
B42: 집기비품 | D42: 19136128114 | E42: 22372880 | F42: 7260000 | G42: 0 | H42: 0 | I42: 19165760994
B43: 집기비품감가상각누계액 | D43: -15371462312 | E43: -14352115 | F43: -2726453 | G43: 0 | H43: 0 | I43: -15388540880
... B48: 건설중인일반유형자산 | D48: 2154463020 | E48: 0 | F48: 0 | G48: 0 | H48: 0 | I48: 2154463020
A50: 4. 주민편의시설 | D50: 279670584096 | E50: 217653897 | F50: 0 | G50: 0 | H50: 0 | I50: 279888237993
B51: 도서관 | D51: 15753894210 | E51: 0 | F51: 0 | G51: 0 | H51: 0 | I51: 15753894210
B52: 도서관감가상각누계액 | D52: -2809475536 | E52: 0 | F52: 0 | G52: 0 | H52: 0 | I52: -2809475536
B53: 주차장 | D53: 5658665180 | E53: 3350000 | F53: 0 | G53: 0 | H53: 0 | I53: 5662015180
B54: 주차장감가상각누계액 | D54: -2501442078 | E54: -1408777 | F54: 0 | G54: 0 | H54: 0 | I54: -2502850855
B55: 공원 | D55: 75599286200 | E55: 199332940 | F55: 0 | G55: 0 | H55: 0 | I55: 75798619140
B56: 공원감가상각누계액 | D56: -7637704511 | E56: 0 | F56: 0 | G56: 0 | H56: 0 | I56: -7637704511
B57: 박물관및미술관 | D57: 10536761645 | E57: 0 | F57: 0 | G57: 0 | H57: 0 | I57: 10536761645
B58: 박물관및미술관감가상각누계액 | D58: -2892010527 | E58: 0 | F58: 0 | G58: 0 | H58: 0 | I58: -2892010527
B59: 동물원 | D59: 0 | E59: 0 | F59: 0 | G59: 0 | H59: 0 | I59: 0
B60: 동물원감가상각누계액 | D60: 0 | E60: 0 | F60: 0 | G60: 0 | H60: 0 | I60: 0
B61: 수목원및휴양림 | D61: 10046231140 | E61: 0 | F61: 0 | G61: 0 | H61: 0 | I61: 10046231140
B62: 수목원및휴양림감가상각누계액 | D62: -835476685 | E62: 0 | F62: 0 | G62: 0 | H62: 0 | I62: -835476685
... B78: 건설중인주민편의시설 | D78: 21934774660 | E78: 0 | F78: 0 | G78: 0 | H78: 0 | I78: 21934774660
A80: 5. 사회기반시설 | D80: 1069066476380 | E80: 54939557745 | F80: 1991718155 | G80: 163145354204 | H80: 0 | I80: 1289143106484
B81: 도로 | D81: 715860771451 | E81: 13099469630 | F81: 0 | G81: 0 | H81: 0 | I81: 728960241081
B82: 상수도시설 | D82: 31483753910 | E82: 0 | F82: 0 | G82: 93731857706 | H82: 0 | I82: 125215611616
B83: 상수도시설감가상각누계액 | D83: -10662347025 | E83: 0 | F83: 0 | G83: -31698529114 | H83: 0 | I83: -42360876139
B84: 수질정화시설 | D84: 36993805326 | E84: 24034507958 | F84: 0 | G84: 142848361711 | H84: 0 | I84: 203876674995
B85: 수질정화시설감가상각누계액 | D85: -11113275297 | E85: -10931375493 | F85: 0 | G85: -51578602149 | H85: 0 | I85: -73623252939
B86: 하천부속시설 | D86: 115447436033 | E86: 0 | F86: 1213537150 | G86: 0 | H86: 0 | I86: 116660973183
B87: 폐기물처리시설 | D87: 7707129899 | E87: 19080000 | F87: 0 | G87: 0 | H87: 0 | I87: 7726209899
B88: 폐기물처리시설감가상각누계액 | D88: -3728209939 | E88: -1033500 | F88: 0 | G88: 0 | H88: 0 | I88: -3729243439
B89: 재활용시설 | D89: 393334720 | E89: 0 | F89: 0 | G89: 0 | H89: 0 | I89: 393334720
B90: 재활용시설감가상각누계액 | D90: -146392871 | E90: 0 | F90: 0 | G90: 0 | H90: 0 | I90: -146392871
B91: 농수산기반시설 | D91: 10273770884 | E91: 0 | F91: 0 | G91: 0 | H91: 0 | I91: 10273770884
B92: 농수산기반시설감가상각누계액 | D92: -3520394940 | E92: 0 | F92: 0 | G92: 0 | H92: 0 | I92: -3520394940
... B97: 건설중인사회기반시설 | D97: 18654716820 | E97: 28619089820 | F97: 203510000 | G97: 9842266050 | H97: 0 | I97: 57319582690
A99: 6. 기타비유동자산 | D99: 5657834219 | E99: 820173727 | F99: 1000 | G99: 35268000 | H99: 0 | I99: 6513276946
B100: 보증금 | D100: 30000000 | E100: 0 | F100: 0 | G100: 0 | H100: 0 | I100: 30000000
B101: 무형자산 | D101: 1091160419 | E101: 2142667 | F101: 1000 | G101: 35268000 | H101: 0 | I101: 1128572086
B102: 기타비유동자산 | D102: 4536673800 | E102: 818031060 | F102: 0 | G102: 0 | H102: 0 | I102: 5354704860
B104: (자산총계) | D104: 1654528620971 | E104: 92472071125 | F104: 9241849897 | G104: 188840541444 | H104: -433269000 | I104: 1944649814437
A106: 부 채
A107: 1. 유동부채 | D107: 4091218270 | E107: 32738403910 | F107: 24795840 | G107: 2744741832 | H107: 0 | I107: 39599159852
B108: 단기차입금 | D108: 0 | E108: 0 | F108: 0 | G108: 0 | H108: 0 | I108: 0
B109: 유동성장기차입부채 | D109: 1100000000 | E109: 0 | F109: 0 | G109: 0 | H109: 0 | I109: 1100000000
B110: 기타유동부채 | D110: 2991218270 | E110: 32738403910 | F110: 24795840 | G110: 2744741832 | H110: 0 | I110: 38499159852
A112: 2. 장기차입부채 | D112: 9700000000 | E112: 3600000000 | F112: 0 | G112: 0 | H112: 0 | I112: 13300000000
B113: 장기차입금 | D113: 9700000000 | E113: 3600000000 | F113: 0 | G113: 0 | H113: 0 | I113: 13300000000
B114: 지방채증권 | D114: 0 | E114: 0 | F114: 0 | G114: 0 | H114: 0 | I114: 0
A116: 3. 기타비유동부채 | D116: 6374148303 | E116: 147698150 | F116: 0 | G116: 41125847816 | H116: 0 | I116: 47647694269
B117: 퇴직급여충당부채 | D117: 1939847185 | E117: 147698150 | F117: 0 | G117: 38556825 | H117: 0 | I117: 2126102160
B118: 기타비유동부채 | D118: 4434301118 | E118: 0 | F118: 0 | G118: 41087290991 | H118: 0 | I118: 45521592109
B120: (부채총계) | D120: 20165366573 | E120: 36486102060 | F120: 24795840 | G120: 43870589648 | H120: 0 | I120: 100546854121
A122: 순 자 산
A123: 순 자 산
B124: 고정순자산 | D124: 1551877474474 | E124: 73509431237 | F124: 2548405280 | G124: 119354462761 | H124: 0 | I124: 1747289773752
B125: 특정순자산 | D125: 0 | E125: 0 | F125: 6668648777 | G125: 0 | H125: 0 | I125: 6668648777
B126: 일반순자산 | D126: 82485779924 | E126: -17523462172 | F126: 0 | G126: 25615489035 | H126: -433269000 | I126: 90144537787
B128: (순자산총계) | D128: 1634363254398 | E128: 55985969065 | F128: 9217054057 | G128: 144969951796 | H128: -433269000 | I128: 1844102960316
B131: (부채및순자산총계) | D131: 1654528620971 | E131: 92472071125 | F131: 9241849897 | G131: 188840541444 | H131: -433269000 | I131: 1944649814437

Sheet 재정상태(전기)
A1: 재정상태표
A3: 해당연도 2016년 12월 31일 현재
A4: 직전연도 2015년 12월 31일 현재
A5: 진천군청 | I5: (단위: 원)
A6: 과 목 | D6: 직전연도(2015년)
D7: 일반회계 | E7: 기타 특별회계 | F7: 기금 | G7: 지방공기업 특별회계 | H7: 내부거래 | I7: 계
A9: 자 산
A10: 1. 유동자산 | D10: 73608104450 | E10: 7873539120 | F10: 3912354103 | G10: 18053459810 | H10: 0 | I10: 103447457483
B11: 현금및현금성자산 | D11: 4940945780 | E11: 4441157810 | F11: 864255295 | G11: 17642114140 | H11: 0 | I11: 27888473025
B12: 단기금융상품 | D12: 55000000000 | E12: 2008404360 | F12: 2991737828 | G12: 0 | H12: 0 | I12: 60000142188
B13: 미수세금 | D13: 4632062380 | E13: 0 | F13: 0 | G13: 0 | H13: 0 | I13: 4632062380
B14: 미수세금대손충당금 | D14: -457419250 | E14: 0 | F14: 0 | G14: 0 | H14: 0 | I14: -457419250
B15: 미수세외수입금 | D15: 6404448710 | E15: 776930940 | F15: 0 | G15: 337982700 | H15: 0 | I15: 7519362350
B16: 미수세외수입금대손충당금 | D16: -121025520 | E16: -7769310 | F16: 0 | G16: -27002890 | H16: 0 | I16: -155797720
B17: 미수징수교부금 | D17: 0 | E17: 0 | F17: 0 | G17: 0 | H17: 0 | I17: 0
B18: 단기대여금 | D18: 0 | E18: 476161130 | F18: 0 | G18: 0 | H18: 0 | I18: 476161130
B19: 단기대여금대손충당금 | D19: 0 | E19: -4761610 | F19: 0 | G19: 0 | H19: 0 | I19: -4761610
B20: 재고자산 | D20: 340913240 | E20: 0 | F20: 0 | G20: 83255050 | H20: 0 | I20: 424168290
B21: 기타유동자산 | D21: 2868179110 | E21: 183415800 | F21: 56360980 | G21: 17110810 | H21: 0 | I21: 3125066700
A23: 2. 투자자산 | D23: 3366237000 | E23: 106345220 | F23: 1930000000 | G23: 0 | H23: 0 | I23: 5402582220
B24: 장기금융상품 | D24: 0 | E24: 0 | F24: 1930000000 | G24: 0 | H24: 0 | I24: 1930000000
B25: 장기대여금 | D25: 2708137000 | E25: 107419410 | F25: 0 | G25: 0 | H25: 0 | I25: 2815556410
B26: 장기대여금대손충당금 | D26: 0 | E26: -1074190 | F26: 0 | G26: 0 | H26: 0 | I26: -1074190
B27: 장기투자증권 | D27: 600000000 | E27: 0 | F27: 0 | G27: 0 | H27: 0 | I27: 600000000
B28: 기타투자자산 | D28: 58100000 | E28: 0 | F28: 0 | G28: 0 | H28: 0 | I28: 58100000
A30: 3. 일반유형자산 | D30: 198789942343 | E30: 10362014433 | F30: 459492362 | G30: 0 | H30: 0 | I30: 209611449138
B31: 토지 | D31: 140235836721 | E31: 2211901450 | F31: 0 | G31: 0 | H31: 0 | I31: 142447738171
B32: 입목 | D32: 28297396730 | E32: 0 | F32: 0 | G32: 0 | H32: 0 | I32: 28297396730
B33: 건물 | D33: 29068237065 | E33: 1197150407 | F33: 0 | G33: 0 | H33: 0 | I33: 30265387472
B34: 건물감가상각누계액 | D34: -12197283747 | E34: -639738424 | F34: 0 | G34: 0 | H34: 0 | I34: -12837022171
B35: 구축물 | D35: 5813511480 | E35: 12213115420 | F35: 0 | G35: 0 | H35: 0 | I35: 18026626900
B36: 구축물감가상각누계액 | D36: -2681360636 | E36: -4637626221 | F36: 0 | G36: 0 | H36: 0 | I36: -7318986857
B37: 기계장치 | D37: 4881832710 | E37: 26046890 | F37: 654317040 | G37: 0 | H37: 0 | I37: 5562196640
B38: 기계장치감가상각누계액 | D38: -2158131418 | E38: -10852870 | F38: -200569985 | G38: 0 | H38: 0 | I38: -2369554273
B39: 차량운반구 | D39: 3383021630 | E39: 0 | F39: 0 | G39: 0 | H39: 0 | I39: 3383021630
B40: 차량운반구감가상각누계액 | D40: -1695418499 | E40: 0 | F40: 0 | G40: 0 | H40: 0 | I40: -1695418499
B41: 집기비품 | D41: 19043333943 | E41: 15042480 | F41: 7260000 | G41: 0 | H41: 0 | I41: 19065636423
B42: 집기비품감가상각누계액 | D42: -14332600491 | E42: -13024699 | F42: -1514693 | G42: 0 | H42: 0 | I42: -14347139883
... B47: 건설중인일반유형자산 | D47: 990932330 | E47: 0 | F47: 0 | G47: 0 | H47: 0 | I47: 990932330
A49: 4. 주민편의시설 | D49: 227416864808 | E49: 222531713 | F49: 0 | G49: 0 | H49: 0 | I49: 227639396521
B50: 도서관 | D50: 15503333100 | E50: 0 | F50: 0 | G50: 0 | H50: 0 | I50: 15503333100
B51: 도서관감가상각누계액 | D51: -2271447728 | E51: 0 | F51: 0 | G51: 0 | H51: 0 | I51: -2271447728
B52: 주차장 | D52: 5690518780 | E52: 3350000 | F52: 0 | G52: 0 | H52: 0 | I52: 5693868780
B53: 주차장감가상각누계액 | D53: -2396805639 | E53: -1325029 | F53: 0 | G53: 0 | H53: 0 | I53: -2398130668
B54: 공원 | D54: 32854679995 | E54: 199332940 | F54: 0 | G54: 0 | H54: 0 | I54: 33054012935
B55: 공원감가상각누계액 | D55: -6792926637 | E55: 0 | F55: 0 | G55: 0 | H55: 0 | I55: -6792926637
B56: 박물관및미술관 | D56: 10470554645 | E56: 0 | F56: 0 | G56: 0 | H56: 0 | I56: 10470554645
B57: 박물관및미술관감가상각누계액 | D57: -2616117893 | E57: 0 | F57: 0 | G57: 0 | H57: 0 | I57: -2616117893
B58: 동물원 | D58: 0 | E58: 0 | F58: 0 | G58: 0 | H58: 0 | I58: 0
B59: 동물원감가상각누계액 | D59: 0 | E59: 0 | F59: 0 | G59: 0 | H59: 0 | I59: 0
B60: 수목원및휴양림 | D60: 10047371630 | E60: 0 | F60: 0 | G60: 0 | H60: 0 | I60: 10047371630
B61: 수목원및휴양림감가상각누계액 | D61: -394066083 | E61: 0 | F61: 0 | G61: 0 | H61: 0 | I61: -394066083
... B75: 건설중인주민편의시설 | D75: 18662058140 | E75: 0 | F75: 0 | G75: 0 | H75: 0 | I75: 18662058140
A77: 5. 사회기반시설 | D77: 992209407278 | E77: 49429528618 | F77: 1807656490 | G77: 158479608720 | H77: 0 | I77: 1201926201106
B78: 도로 | D78: 649820670003 | E78: 12724665380 | F78: 0 | G78: 0 | H78: 0 | I78: 662545335383
B79: 상수도시설 | D79: 25487613636 | E79: 0 | F79: 0 | G79: 84851856876 | H79: 0 | I79: 110339470512
B80: 상수도시설감가상각누계액 | D80: -8861722677 | E80: 0 | F80: 0 | G80: -29106110952 | H80: 0 | I80: -37967833629
B81: 수질정화시설 | D81: 30621352105 | E81: 23520143388 | F81: 0 | G81: 133307260431 | H81: 0 | I81: 187448755924
B82: 수질정화시설감가상각누계액 | D82: -8573235667 | E82: -9689950800 | F82: 0 | G82: -45576899545 | H82: 0 | I82: -63840086012
B83: 하천부속시설 | D83: 104786656176 | E83: 0 | F83: 1213537150 | G83: 0 | H83: 0 | I83: 106000193326
B84: 폐기물처리시설 | D84: 7540375859 | E84: 19080000 | F84: 0 | G84: 0 | H84: 0 | I84: 7559455859
B85: 폐기물처리시설감가상각누계액 | D85: -3457817220 | E85: -79500 | F85: 0 | G85: 0 | H85: 0 | I85: -3457896720
B86: 재활용시설 | D86: 393334720 | E86: 0 | F86: 0 | G86: 0 | H86: 0 | I86: 393334720
B87: 재활용시설감가상각누계액 | D87: -129730121 | E87: 0 | F87: 0 | G87: 0 | H87: 0 | I87: -129730121
B88: 농수산기반시설 | D88: 10118093704 | E88: 0 | F88: 0 | G88: 0 | H88: 0 | I88: 10118093704
B89: 농수산기반시설감가상각누계액 | D89: -3392684551 | E89: 0 | F89: 0 | G89: 0 | H89: 0 | I89: -3392684551
... B94: 건설중인사회기반시설 | D94: 29282161140 | E94: 22755850820 | F94: 19210120 | G94: 15003501910 | H94: 0 | I94: 67060723990
A96: 6. 기타비유동자산 | D96: 4737294235 | E96: 988166438 | F96: 41647223 | G96: 47024000 | H96: 0 | I96: 5814131896
B97: 보증금 | D97: 0 | E97: 0 | F97: 0 | G97: 0 | H97: 0 | I97: 0
B98: 무형자산 | D98: 484378985 | E98: 6529168 | F98: 41647223 | G98: 47024000 | H98: 0 | I98: 579579376
B99: 기타비유동자산 | D99: 4252915250 | E99: 981637270 | F99: 0 | G99: 0 | H99: 0 | I99: 5234552520
B101: (자산총계) | D101: 1500127850114 | E101: 68982125542 | F101: 8151150178 | G101: 176580092530 | H101: 0 | I101: 1753841218364
A103: 부 채
A104: 1. 유동부채 | D104: 6139811078 | E104: 22063662050 | F104: 2002360 | G104: 6059711667 | H104: 0 | I104: 34265187155
B105: 단기차입금 | D105: 0 | E105: 0 | F105: 0 | G105: 0 | H105: 0 | I105: 0
B106: 유동성장기차입부채 | D106: 1100000000 | E106: 0 | F106: 0 | G106: 0 | H106: 0 | I106: 1100000000
B107: 기타유동부채 | D107: 5039811078 | E107: 22063662050 | F107: 2002360 | G107: 6059711667 | H107: 0 | I107: 33165187155
A109: 2. 장기차입부채 | D109: 10800000000 | E109: 5300000000 | F109: 0 | G109: 0 | H109: 0 | I109: 16100000000
B110: 장기차입금 | D110: 10800000000 | E110: 5300000000 | F110: 0 | G110: 0 | H110: 0 | I110: 16100000000
B111: 지방채증권 | D111: 0 | E111: 0 | F111: 0 | G111: 0 | H111: 0 | I111: 0
A113: 3. 기타비유동부채 | D113: 5343798593 | E113: 96629990 | F113: 0 | G113: 42461289057 | H113: 0 | I113: 47901717640
B114: 퇴직급여충당부채 | D114: 1143107600 | E114: 96629990 | F114: 0 | G114: 35557636 | H114: 0 | I114: 1275295226
B115: 기타비유동부채 | D115: 4200690993 | E115: 0 | F115: 0 | G115: 42425731421 | H115: 0 | I115: 46626422414
B117: (부채총계) | D117: 22283609671 | E117: 27460292040 | F117: 2002360 | G117: 48521000724 | H117: 0 | I117: 98266904795
A119: 순 자 산
A120: 순 자 산
B121: 고정순자산 | D121: 1406862812267 | E121: 54720603932 | F121: 2308796075 | G121: 112050068542 | H121: 0 | I121: 1575942280816
B122: 특정순자산 | D122: 0 | E122: 0 | F122: 5840351743 | G122: 0 | H122: 0 | I122: 5840351743
B123: 일반순자산 | D123: 70981428176 | E123: -13198770430 | F123: 0 | G123: 16009023264 | H123: 0 | I123: 73791681010
B125: (순자산총계) | D125: 1477844240443 | E125: 41521833502 | F125: 8149147818 | G125: 128059091806 | H125: 0 | I125: 1655574313569
B128: (부채및순자산총계) | D128: 1500127850114 | E128: 68982125542 | F128: 8151150178 | G128: 176580092530 | H128: 0 | I128: 1753841218364

Sheet 재정운영-기능별(당기)
A1: 재정운영표
A3: 해당연도 2016년 1월 1일 부터 2016년 12월 31일 까지
A4: 직전연도 2015년 1월 1일 부터 2015년 12월 31일 까지
A5: 진천군청 | H5: (단위:원)
A6: 과목 | D6: 해당연도(2016)
D7: 총원가 | E7: 사업수익 | F7: 순원가 | G7: 내부거래 | H7: 계
A9: Ⅰ.사업순원가 | D9: 218693256626 | E9: 126756289960 | F9: 91936966666 | G9: 0 | H9: 91936966666
C10: 일반공공행정 | D10: 14252474197 | E10: 2229711590 | F10: 12022762607 | G10: 0 | H10: 12022762607
C11: 공공질서및안전 | D11: 1354576668 | E11: 140000160 | F11: 1214576508 | G11: 0 | H11: 1214576508
C12: 교육 | D12: 4485892133 | E12: 1401724010 | F12: 3084168123 | G12: 0 | H12: 3084168123
C13: 문화및관광 | D13: 11165043911 | E13: 11440235720 | F13: -275191809 | G13: 0 | H13: -275191809
C14: 환경보호 | D14: 33096735180 | E14: 20027425190 | F14: 13069309990 | G14: 0 | H14: 13069309990
C15: 사회복지 | D15: 62886510754 | E15: 44667504790 | F15: 18219005964 | G15: 0 | H15: 18219005964
C16: 보건 | D16: 5925597947 | E16: 2878207180 | F16: 3047390767 | G16: 0 | H16: 3047390767
C17: 농림해양수산 | D17: 50757582788 | E17: 31779019770 | F17: 18978563018 | G17: 0 | H17: 18978563018
C18: 산업ㆍ중소기업 | D18: 6808429273 | E18: 2538710100 | F18: 4269719173 | G18: 0 | H18: 4269719173
C19: 수송및교통 | D19: 8054280349 | E19: 1196743300 | F19: 6857537049 | G19: 0 | H19: 6857537049
C20: 국토및지역개발 | D20: 19906133426 | E20: 8457008150 | F20: 11449125276 | G20: 0 | H20: 11449125276
C21: 과학기술 | D21: 0 | E21: 0 | F21: 0 | G21: 0 | H21: 0
... C23: 기타 | D23: 0 | E23: 0 | F23: 0 | G23: 0 | H23: 0
A24: Ⅱ.관리운영비 | D24: 0 | E24: 0 | F24: 69981440844 | G24: -21868258750 | H24: 48113182094
B25: 1.인건비 | D25: 0 | E25: 0 | F25: 44884778094 | G25: 0 | H25: 44884778094
C26: 급여 | D26: 0 | E26: 0 | F26: 32876566780 | G26: 0 | H26: 32876566780
C27: 복리후생비 | D27: 0 | E27: 0 | F27: 7494684160 | G27: 0 | H27: 7494684160
C28: 기타인건비 | D28: 0 | E28: 0 | F28: 3577689290 | G28: 0 | H28: 3577689290
C29: 퇴직급여 | D29: 0 | E29: 0 | F29: 935837864 | G29: 0 | H29: 935837864
B30: 2.경비 | D30: 0 | E30: 0 | F30: 3210020000 | G30: 0 | H30: 3210020000
C31: 도서구입및인쇄비 | D31: 0 | E31: 0 | F31: 6983620 | G31: 0 | H31: 6983620
C32: 소모품비 | D32: 0 | E32: 0 | F32: 318287750 | G32: 0 | H32: 318287750
C33: 홍보및광고비 | D33: 0 | E33: 0 | F33: 8761600 | G33: 0 | H33: 8761600
C34: 지급수수료 | D34: 0 | E34: 0 | F34: 27784110 | G34: 0 | H34: 27784110
C35: 일반유형자산수선유지비 | D35: 0 | E35: 0 | F35: 4853000 | G35: 0 | H35: 4853000
C36: 주민편의시설수선유지비 | D36: 0 | E36: 0 | F36: 9171000 | G36: 0 | H36: 9171000
C37: 사회기반시설수선유지비 | D37: 0 | E37: 0 | F37: 1306379270 | G37: 0 | H37: 1306379270
C38: 기타자산수선유지비 | D38: 0 | E38: 0 | F38: 0 | G38: 0 | H38: 0
C39: 교육훈련비 | D39: 0 | E39: 0 | F39: 2736000 | G39: 0 | H39: 2736000
C40: 제세공과금 | D40: 0 | E40: 0 | F40: 128708600 | G40: 0 | H40: 128708600
C41: 보험료및공제료 | D41: 0 | E41: 0 | F41: 538260 | G41: 0 | H41: 538260
C42: 임차료 | D42: 0 | E42: 0 | F42: 7770120 | G42: 0 | H42: 7770120
... C56: 기타운영비 | D56: 0 | E56: 0 | F56: 16408000 | G56: 0 | H56: 16408000
B57: 3.정부간이전비용 | D57: 0 | E57: 0 | F57: 14384000 | G57: 0 | H57: 14384000
C58: 시도비보조금 | D58: 0 | E58: 0 | F58: 0 | G58: 0 | H58: 0
C59: 자치구 조정교부금 | D59: 0 | E59: 0 | F59: 0 | G59: 0 | H59: 0
C60: 시군 조정교부금 | D60: 0 | E60: 0 | F60: 0 | G60: 0 | H60: 0
C61: 지방자치단체간부담금 | D61: 0 | E61: 0 | F61: 0 | G61: 0 | H61: 0
C62: 국가에대한부담금 | D62: 0 | E62: 0 | F62: 14384000 | G62: 0 | H62: 14384000
C63: 교육비특별회계전출금 | D63: 0 | E63: 0 | F63: 0 | G63: 0 | H63: 0
C64: 교육기관운영비보조금 | D64: 0 | E64: 0 | F64: 0 | G64: 0 | H64: 0
B65: 4.민간등이전비용 | D65: 0 | E65: 0 | F65: 21872258750 | G65: -21868258750 | H65: 4000000
C66: 민간보조금 | D66: 0 | E66: 0 | F66: 4000000 | G66: 0 | H66: 4000000
C67: 민간장학금 | D67: 0 | E67: 0 | F67: 0 | G67: 0 | H67: 0
C68: 이차보전금 | D68: 0 | E68: 0 | F68: 0 | G68: 0 | H68: 0
C69: 출연금 | D69: 0 | E69: 0 | F69: 0 | G69: 0 | H69: 0
C70: 전출금비용 | D70: 0 | E70: 0 | F70: 21868258750 | G70: -21868258750 | H70: 0
C71: 지방공공기관보조금 | D71: 0 | E71: 0 | F71: 0 | G71: 0 | H71: 0
C72: 기타이전비용 | D72: 0 | E72: 0 | F72: 0 | G72: 0 | H72: 0
A74: Ⅲ.비배분비용 | D74: 0 | E74: 0 | F74: 25224913270 | G74: 0 | H74: 25224913270
B75: 1.운영비 | D75: 0 | E75: 0 | F75: 2157226729 | G75: 0 | H75: 2157226729
C76: 이자비용 | D76: 0 | E76: 0 | F76: 2157226729 | G76: 0 | H76: 2157226729
B77: 2.기타비용 | D77: 0 | E77: 0 | F77: 23067686541 | G77: 0 | H77: 23067686541
C78: 자산처분손실 | D78: 0 | E78: 0 | F78: 0 | G78: 0 | H78: 0
C79: 자산손상차손 | D79: 0 | E79: 0 | F79: 6000 | G79: 0 | H79: 6000
C80: 일반유형자산감가상각비 | D80: 0 | E80: 0 | F80: 2215367720 | G80: 0 | H80: 2215367720
C81: 주민편의시설감가상각비 | D81: 0 | E81: 0 | F81: 5559543730 | G81: 0 | H81: 5559543730
C82: 사회기반시설감가상각비 | D82: 0 | E82: 0 | F82: 12330737961 | G82: 0 | H82: 12330737961
C83: 무형자산상각비 | D83: 0 | E83: 0 | F83: 13130000 | G83: 0 | H83: 13130000
C84: 외화환산손실 | D84: 0 | E84: 0 | F84: 0 | G84: 0 | H84: 0
C85: 외환차손 | D85: 0 | E85: 0 | F85: 0 | G85: 0 | H85: 0
C86: 대손상각비 | D86: 0 | E86: 0 | F86: 1998961930 | G86: 0 | H86: 1998961930
C87: 기타비용 | D87: 0 | E87: 0 | F87: 949939200 | G87: 0 | H87: 949939200
A88: Ⅳ.비배분수익 | D88: 0 | E88: 0 | F88: 21761361490 | G88: 0 | H88: 21761361490
B89: 1.자체조달수익 | D89: 0 | E89: 0 | F89: 18317386696 | G89: 0 | H89: 18317386696
C90: 경상세외수익 | D90: 0 | E90: 0 | F90: 1116037112 | G90: 0 | H90: 1116037112
C91: 임시세외수익 | D91: 0 | E91: 0 | F91: 17201349584 | G91: 0 | H91: 17201349584
B92: 2.기타수익 | D92: 0 | E92: 0 | F92: 3443974794 | G92: 0 | H92: 3443974794
C93: 전입금수익 | D93: 0 | E93: 0 | F93: 558860000 | G93: 0 | H93: 558860000
C94: 외화환산이익 | D94: 0 | E94: 0 | F94: 0 | G94: 0 | H94: 0
C95: 외환차익 | D95: 0 | E95: 0 | F95: 0 | G95: 0 | H95: 0
C96: 대손충당금환입 | D96: 0 | E96: 0 | F96: 25798060 | G96: 0 | H96: 25798060
C97: 퇴직급여충당부채환입 | D97: 0 | E97: 0 | F97: 0 | G97: 0 | H97: 0
C98: 자산손상차손환입 | D98: 0 | E98: 0 | F98: 0 | G98: 0 | H98: 0
C99: 기타수익 | D99: 0 | E99: 0 | F99: 63024434 | G99: 0 | H99: 63024434
C100: 기타비배분수익 | D100: 0 | E100: 0 | F100: 2796292300 | G100: 0 | H100: 2796292300
A101: Ⅴ.재정운영순원가(Ⅰ+Ⅱ+Ⅲ-Ⅳ) | D101: 0 | E101: 0 | F101: 165381959290 | G101: -21868258750 | H101: 143513700540
A102: Ⅵ.일반수익 | D102: 0 | E102: 0 | F102: 230026136960 | G102: -21868258750 | H102: 208157878210
B103: 1.자체조달수익 | D103: 0 | E103: 0 | F103: 80903839120 | G103: 0 | H103: 80903839120
C104: 지방세수익 | D104: 0 | E104: 0 | F104: 74738747700 | G104: 0 | H104: 74738747700
C105: 경상세외수익 | D105: 0 | E105: 0 | F105: 1886873060 | G105: 0 | H105: 1886873060
C106: 임시세외수익 | D106: 0 | E106: 0 | F106: 4278218360 | G106: 0 | H106: 4278218360
B107: 2.정부간이전수익 | D107: 0 | E107: 0 | F107: 126959248000 | G107: 0 | H107: 126959248000
C108: 지방교부세수익 | D108: 0 | E108: 0 | F108: 104413701000 | G108: 0 | H108: 104413701000
C109: 자치구 조정교부금수익 | D109: 0 | E109: 0 | F109: 0 | G109: 0 | H109: 0
C110: 시군 조정교부금수익 | D110: 0 | E110: 0 | F110: 22545547000 | G110: 0 | H110: 22545547000
C111: 시도비보조금반환금수익 | D111: 0 | E111: 0 | F111: 0 | G111: 0 | H111: 0
C112: 기타정부간이전수익 | D112: 0 | E112: 0 | F112: 0 | G112: 0 | H112: 0
B113: 3.기타수익 | D113: 0 | E113: 0 | F113: 22163049840 | G113: -21868258750 | H113: 294791090
C114: 전입금수익 | D114: 0 | E114: 0 | F114: 21868258750 | G114: -21868258750 | H114: 0
C115: 기부금수익 | D115: 0 | E115: 0 | F115: 0 | G115: 0 | H115: 0
C116: 기타일반수익 | D116: 0 | E116: 0 | F116: 294791090 | G116: 0 | H116: 294791090
A117: Ⅶ.재정운영결과(Ⅴ-Ⅵ) | D117: 0 | E117: 0 | F117: -64644177670 | G117: 0 | H117: -64644177670

Sheet 재정운영-기능별(전기)
A1: 재정운영표
A3: 해당연도 2016년 1월 1일 부터 2016년 12월 31일 까지
A4: 직전연도 2015년 1월 1일 부터 2015년 12월 31일 까지
A5: 진천군청 | H5: (단위:원)
A6: 과목 | D6: 직전연도(2015)
D7: 총원가 | E7: 사업수익 | F7: 순원가 | G7: 내부거래 | H7: 계
A9: Ⅰ.사업순원가 | D9: 210115498467 | E9: 125718551470 | F9: 84396946997 | G9: 0 | H9: 84396946997
C10: 일반공공행정 | D10: 13437229128 | E10: 888058180 | F10: 12549170948 | G10: 0 | H10: 12549170948
C11: 공공질서및안전 | D11: 1150880134 | E11: 485412800 | F11: 665467334 | G11: 0 | H11: 665467334
C12: 교육 | D12: 4388554680 | E12: 777313520 | F12: 3611241160 | G12: 0 | H12: 3611241160
C13: 문화및관광 | D13: 10886584807 | E13: 5018149420 | F13: 5868435387 | G13: 0 | H13: 5868435387
C14: 환경보호 | D14: 37748426602 | E14: 18636501030 | F14: 19111925572 | G14: 0 | H14: 19111925572
C15: 사회복지 | D15: 59609016263 | E15: 44265579300 | F15: 15343436963 | G15: 0 | H15: 15343436963
C16: 보건 | D16: 5403289782 | E16: 2790532230 | F16: 2612757552 | G16: 0 | H16: 2612757552
C17: 농림해양수산 | D17: 55122464956 | E17: 30877417520 | F17: 24245047436 | G17: 0 | H17: 24245047436
C18: 산업ㆍ중소기업 | D18: 5188433233 | E18: 4186106690 | F18: 1002326543 | G18: 0 | H18: 1002326543
C19: 수송및교통 | D19: 6829917226 | E19: 785666520 | F19: 6044250706 | G19: 0 | H19: 6044250706
C20: 국토및지역개발 | D20: 10350701656 | E20: 17007814260 | F20: -6657112604 | G20: 0 | H20: -6657112604
C21: 과학기술 | D21: 0 | E21: 0 | F21: 0 | G21: 0 | H21: 0
... C23: 기타 | D23: 0 | E23: 0 | F23: 0 | G23: 0 | H23: 0
A24: Ⅱ.관리운영비 | D24: 0 | E24: 0 | F24: 59693981388 | G24: -14383274000 | H24: 45310707388
B25: 1.인건비 | D25: 0 | E25: 0 | F25: 43127230334 | G25: 0 | H25: 43127230334
C26: 급여 | D26: 0 | E26: 0 | F26: 31757644190 | G26: 0 | H26: 31757644190
C27: 복리후생비 | D27: 0 | E27: 0 | F27: 7624973300 | G27: 0 | H27: 7624973300
C28: 기타인건비 | D28: 0 | E28: 0 | F28: 3464041140 | G28: 0 | H28: 3464041140
C29: 퇴직급여 | D29: 0 | E29: 0 | F29: 280571704 | G29: 0 | H29: 280571704
B30: 2.경비 | D30: 0 | E30: 0 | F30: 2121277170 | G30: 0 | H30: 2121277170
C31: 도서구입및인쇄비 | D31: 0 | E31: 0 | F31: 3022330 | G31: 0 | H31: 3022330
C32: 소모품비 | D32: 0 | E32: 0 | F32: 174730380 | G32: 0 | H32: 174730380
C33: 홍보및광고비 | D33: 0 | E33: 0 | F33: 10268000 | G33: 0 | H33: 10268000
C34: 지급수수료 | D34: 0 | E34: 0 | F34: 17563970 | G34: 0 | H34: 17563970
C35: 일반유형자산수선유지비 | D35: 0 | E35: 0 | F35: 1920750 | G35: 0 | H35: 1920750
C36: 주민편의시설수선유지비 | D36: 0 | E36: 0 | F36: 0 | G36: 0 | H36: 0
C37: 사회기반시설수선유지비 | D37: 0 | E37: 0 | F37: 0 | G37: 0 | H37: 0
C38: 기타자산수선유지비 | D38: 0 | E38: 0 | F38: 0 | G38: 0 | H38: 0
C39: 교육훈련비 | D39: 0 | E39: 0 | F39: 3193370 | G39: 0 | H39: 3193370
C40: 제세공과금 | D40: 0 | E40: 0 | F40: 119762150 | G40: 0 | H40: 119762150
C41: 보험료및공제료 | D41: 0 | E41: 0 | F41: 5000 | G41: 0 | H41: 5000
C42: 임차료 | D42: 0 | E42: 0 | F42: 0 | G42: 0 | H42: 0
... C56: 기타운영비 | D56: 0 | E56: 0 | F56: 266879180 | G56: 0 | H56: 266879180
B57: 3.정부간이전비용 | D57: 0 | E57: 0 | F57: 20336000 | G57: 0 | H57: 20336000
C58: 시도비보조금 | D58: 0 | E58: 0 | F58: 0 | G58: 0 | H58: 0
C59: 자치구 조정교부금 | D59: 0 | E59: 0 | F59: 0 | G59: 0 | H59: 0
C60: 시군 조정교부금 | D60: 0 | E60: 0 | F60: 0 | G60: 0 | H60: 0
C61: 지방자치단체간부담금 | D61: 0 | E61: 0 | F61: 0 | G61: 0 | H61: 0
C62: 국가에대한부담금 | D62: 0 | E62: 0 | F62: 20336000 | G62: 0 | H62: 20336000
C63: 교육비특별회계전출금 | D63: 0 | E63: 0 | F63: 0 | G63: 0 | H63: 0
C64: 교육기관운영비보조금 | D64: 0 | E64: 0 | F64: 0 | G64: 0 | H64: 0
B65: 4.민간등이전비용 | D65: 0 | E65: 0 | F65: 14425137884 | G65: -14383274000 | H65: 41863884
C66: 민간보조금 | D66: 0 | E66: 0 | F66: 0 | G66: 0 | H66: 0
C67: 민간장학금 | D67: 0 | E67: 0 | F67: 0 | G67: 0 | H67: 0
C68: 이차보전금 | D68: 0 | E68: 0 | F68: 0 | G68: 0 | H68: 0
C69: 출연금 | D69: 0 | E69: 0 | F69: 0 | G69: 0 | H69: 0
C70: 전출금비용 | D70: 0 | E70: 0 | F70: 14383274000 | G70: -14383274000 | H70: 0
C71: 지방공공기관보조금 | D71: 0 | E71: 0 | F71: 0 | G71: 0 | H71: 0
C72: 기타이전비용 | D72: 0 | E72: 0 | F72: 41863884 | G72: 0 | H72: 41863884
A74: Ⅲ.비배분비용 | D74: 0 | E74: 0 | F74: 17301696878 | G74: 0 | H74: 17301696878
B75: 1.운영비 | D75: 0 | E75: 0 | F75: 452809750 | G75: 0 | H75: 452809750
C76: 이자비용 | D76: 0 | E76: 0 | F76: 452809750 | G76: 0 | H76: 452809750
B77: 2.기타비용 | D77: 0 | E77: 0 | F77: 16848887128 | G77: 0 | H77: 16848887128
C78: 자산처분손실 | D78: 0 | E78: 0 | F78: 5313740659 | G78: 0 | H78: 5313740659
C79: 자산손상차손 | D79: 0 | E79: 0 | F79: 778410 | G79: 0 | H79: 778410
C80: 일반유형자산감가상각비 | D80: 0 | E80: 0 | F80: 2077680959 | G80: 0 | H80: 2077680959
C81: 주민편의시설감가상각비 | D81: 0 | E81: 0 | F81: 4335030092 | G81: 0 | H81: 4335030092
C82: 사회기반시설감가상각비 | D82: 0 | E82: 0 | F82: 2581774565 | G82: 0 | H82: 2581774565
C83: 무형자산상각비 | D83: 0 | E83: 0 | F83: 1708113 | G83: 0 | H83: 1708113
C84: 외화환산손실 | D84: 0 | E84: 0 | F84: 0 | G84: 0 | H84: 0
C85: 외환차손 | D85: 0 | E85: 0 | F85: 0 | G85: 0 | H85: 0
C86: 대손상각비 | D86: 0 | E86: 0 | F86: 1316042300 | G86: 0 | H86: 1316042300
C87: 기타비용 | D87: 0 | E87: 0 | F87: 1222132030 | G87: 0 | H87: 1222132030
A88: Ⅳ.비배분수익 | D88: 0 | E88: 0 | F88: 10777964955 | G88: 0 | H88: 10777964955
B89: 1.자체조달수익 | D89: 0 | E89: 0 | F89: 8292682215 | G89: 0 | H89: 8292682215
C90: 경상세외수익 | D90: 0 | E90: 0 | F90: 1421065180 | G90: 0 | H90: 1421065180
C91: 임시세외수익 | D91: 0 | E91: 0 | F91: 6871617035 | G91: 0 | H91: 6871617035
B92: 2.기타수익 | D92: 0 | E92: 0 | F92: 2485282740 | G92: 0 | H92: 2485282740
C93: 전입금수익 | D93: 0 | E93: 0 | F93: 0 | G93: 0 | H93: 0
C94: 외화환산이익 | D94: 0 | E94: 0 | F94: 0 | G94: 0 | H94: 0
C95: 외환차익 | D95: 0 | E95: 0 | F95: 0 | G95: 0 | H95: 0
C96: 대손충당금환입 | D96: 0 | E96: 0 | F96: 10311510 | G96: 0 | H96: 10311510
C97: 퇴직급여충당부채환입 | D97: 0 | E97: 0 | F97: 0 | G97: 0 | H97: 0
C98: 자산손상차손환입 | D98: 0 | E98: 0 | F98: 0 | G98: 0 | H98: 0
C99: 기타수익 | D99: 0 | E99: 0 | F99: 285220 | G99: 0 | H99: 285220
C100: 기타비배분수익 | D100: 0 | E100: 0 | F100: 2474686010 | G100: 0 | H100: 2474686010
A101: Ⅴ.재정운영순원가(Ⅰ+Ⅱ+Ⅲ-Ⅳ) | D101: 0 | E101: 0 | F101: 150614660308 | G101: -14383274000 | H101: 136231386308
A102: Ⅵ.일반수익 | D102: 0 | E102: 0 | F102: 201120725270 | G102: -14383274000 | H102: 186737451270
B103: 1.자체조달수익 | D103: 0 | E103: 0 | F103: 69911918430 | G103: 0 | H103: 69911918430
C104: 지방세수익 | D104: 0 | E104: 0 | F104: 64511703540 | G104: 0 | H104: 64511703540
C105: 경상세외수익 | D105: 0 | E105: 0 | F105: 1193342290 | G105: 0 | H105: 1193342290
C106: 임시세외수익 | D106: 0 | E106: 0 | F106: 4206872600 | G106: 0 | H106: 4206872600
B107: 2.정부간이전수익 | D107: 0 | E107: 0 | F107: 112217903000 | G107: 0 | H107: 112217903000
C108: 지방교부세수익 | D108: 0 | E108: 0 | F108: 94971646000 | G108: 0 | H108: 94971646000
C109: 자치구 조정교부금수익 | D109: 0 | E109: 0 | F109: 0 | G109: 0 | H109: 0
C110: 시군 조정교부금수익 | D110: 0 | E110: 0 | F110: 17246257000 | G110: 0 | H110: 17246257000
C111: 시도비보조금반환금수익 | D111: 0 | E111: 0 | F111: 0 | G111: 0 | H111: 0
C112: 기타정부간이전수익 | D112: 0 | E112: 0 | F112: 0 | G112: 0 | H112: 0
B113: 3.기타수익 | D113: 0 | E113: 0 | F113: 18990903840 | G113: -14383274000 | H113: 4607629840
C114: 전입금수익 | D114: 0 | E114: 0 | F114: 15219274000 | G114: -14383274000 | H114: 836000000
C115: 기부금수익 | D115: 0 | E115: 0 | F115: 0 | G115: 0 | H115: 0
C116: 기타일반수익 | D116: 0 | E116: 0 | F116: 3771629840 | G116: 0 | H116: 3771629840
A117: Ⅶ.재정운영결과(Ⅴ-Ⅵ) | D117: 0 | E117: 0 | F117: -50506064962 | G117: 0 | H117: -50506064962

Sheet 순자산변동
A1: 순자산변동표
A3: 해당연도 2016년 1월 1일 부터 2016년 12월 31일 까지
A4: 직전연도 2015년 1월 1일 부터 2015년 12월 31일 까지
A5: 진천군청 | H5: (단위:원)
A6: 과 목 | C6: 해당연도 (2016년)
C7: 일반회계 | D7: 기타 특별회계 | E7: 기 금 | F7: 지방공기업 특별회계 | G7: 내부거래 | H7: 계
A9: 1. 기초순자산 | C9: 1477844240443 | D9: 41521833502 | E9: 8149147818 | F9: 128059091806 | G9: 0 | H9: 1655574313569
A11: 2. 재정운영결과 | C11: -64592664198 | D11: -3274279703 | E11: -1087116359 | F11: 4309882590 | G11: 0 | H11: -64644177670
A13: 3. 순자산의 증가 | C13: 106106004953 | D13: 12150451960 | E13: 0 | F13: 21222660230 | G13: -882237320 | H13: 138596879823
B15: 전기오류수정이익 | C15: 0 | D15: 0 | E15: 0 | F15: 0 | H15: 0
B16: 회계변경으로생긴누적이익 | C16: 0 | D16: 0 | E16: 0 | F16: 0 | H16: 0
B17: 재산이관·관리전환으로생긴자산증가 | C17: 449468320 | D17: 0 | E17: 0 | F17: 0 | G17: -448968320 | H17: 500000
B18: 양여·기부로생긴자산증가 | C18: 98767355850 | D18: 0 | E18: 0 | F18: 0 | G18: 0 | H18: 98767355850
B19: 기타순자산의 증가 | C19: 6889180783 | D19: 12150451960 | E19: 0 | F19: 21222660230 | G19: -433269000 | H19: 39829023973
A21: 4. 순자산의 감소 | C21: 14179655196 | D21: 960596100 | E21: 19210120 | F21: 1917650 | G21: -448968320 | H21: 14712410746
B23: 전기오류수정손실 | C23: 0 | D23: 0 | E23: 0 | F23: 0 | H23: 0
B24: 회계변경으로생긴누적손실 | C24: 0 | D24: 0 | E24: 0 | F24: 0 | H24: 0
B25: 재산이관·관리전환으로생긴자산감소 | C25: 0 | D25: 429758200 | E25: 19210120 | F25: 0 | G25: -448968320 | H25: 0
B26: 양여·기부로생긴자산감소 | C26: 3485185 | D26: 0 | E26: 0 | F26: 0 | G26: 0 | H26: 3485185
B27: 기타순자산의 감소 | C27: 14176170011 | D27: 530837900 | E27: 0 | F27: 1917650 | G27: 0 | H27: 14708925561
A29: 5. 기말순자산 | C29: 1634363254398 | D29: 55985969065 | E29: 9217054057 | F29: 144969951796 | G29: -433269000 | H29: 1844102960316
A32: 순자산변동표
A34: 해당연도 2016년 1월 1일 부터 2016년 12월 31일 까지
A35: 직전연도 2015년 1월 1일 부터 2015년 12월 31일 까지
A36: 진천군청 | H36: (단위:원)
A37: 과 목 | C37: 직전연도 (2015년)
C38: 일반회계 | D38: 기타 특별회계 | E38: 기 금 | F38: 지방공기업 특별회계 | G38: 내부거래 | H38: 계
A40: 1. 기초순자산 | C40: 1422294152388 | D40: 40727657669 | E40: 7291700283 | F40: 95508230187 | G40: 0 | H40: 1565821740527
A42: 2. 재정운영결과 | C42: -53038419860 | D42: -831101463 | E42: -857447535 | F42: 4220903896 | G42: 0 | H42: -50506064962
A44: 3. 순자산의 증가 | C44: 5318399654 | D44: 0 | E44: 0 | F44: 36771765515 | G44: 0 | H44: 42090165169
B46: 전기오류수정이익 | C46: 0 | D46: 0 | E46: 0 | F46: 154486225 | G46: 0 | H46: 154486225
B47: 회계변경으로생긴누적이익 | C47: 0 | D47: 0 | E47: 0 | F47: 0 | G47: 0 | H47: 0
B48: 재산이관·관리전환으로생긴자산증가 | C48: 24615600 | D48: 0 | E48: 0 | F48: 0 | G48: 0 | H48: 24615600
B49: 양여·기부로생긴자산증가 | C49: 271 | D49: 0 | E49: 0 | F49: 0 | G49: 0 | H49: 271
B50: 기타순자산의 증가 | C50: 5293783783 | D50: 0 | E50: 0 | F50: 36617279290 | G50: 0 | H50: 41911063073
A52: 4. 순자산의 감소 | C52: 2806731459 | D52: 36925630 | E52: 0 | F52: 0 | G52: 0 | H52: 2843657089
B54: 전기오류수정손실 | C54: 0 | D54: 0 | E54: 0 | F54: 0 | G54: 0 | H54: 0
B55: 회계변경으로생긴누적손실 | C55: 0 | D55: 0 | E55: 0 | F55: 0 | G55: 0 | H55: 0
B56: 재산이관·관리전환으로생긴자산감소 | C56: 0 | D56: 0 | E56: 0 | F56: 0 | G56: 0 | H56: 0
B57: 양여·기부로생긴자산감소 | C57: 5102380 | D57: 0 | E57: 0 | F57: 0 | G57: 0 | H57: 5102380
B58: 기타순자산의 감소 | C58: 2801629079 | D58: 36925630 | E58: 0 | F58: 0 | G58: 0 | H58: 2838554709
A60: 5. 기말순자산 | C60: 1477844240443 | D60: 41521833502 | E60: 8149147818 | F60: 128059091806 | G60: 0 | H60: 1655574313569

Sheet Sheet10

Sheet 간지3
A2: Ⅲ. 재무제표에 대한 주석
D4: 1. 주요 회계정책
D6: 2. 재정자금
D8: 3. 미수세금 및 미수세금대손충당금
D10: 4. 미수세외수입금 및 대손충당금
D12: 5. 장·단기대여금
D14: 6. 재고자산
D16: 7. 기타유동자산
D18: 8. 장기투자증권
D20: 9. 기타투자자산
D22: 10. 유형자산 등에 포함된 토지
D24: 11. 일반유형자산에 포함된 일반재산
D26: 12. 감가상각대상에서 제외된 상각자산
... D52: 25. 지방공기업특별회계 원가정보

Sheet Sheet12

Sheet 주석사항
A2: 1. 주요 회계정책
A4: 진천군이 재무제표 작성을 위하여 채택한 회계정책은 지방회계기준과 일관성을 가지고 있으며, 세부적인 회계처리와 관련된 사항은 ‘지방자치단체 재무회계 운영규정’(이하 “운영규정”)을 중요성의 관점에 따라 준수하였습니다.
A6: 재무제표의 작성을 위하여 채택한 회계정책 중 중요한 것은 다음과 같습니다.
A8: 1-1. 재정운영표의 공시사항의 변경
A10: 진천군은 2012회계연도부터 적용되는 지방자치단체 원가계산준칙에 따라 원가 개념을 반영한 재정운영표를 작성 및 공시하였습니다.
A12: 1-2. 지방공기업특별회계의 회계처리기준
A14: 지방공기업특별회계는 지방회계기준을 적용하지 않으며, 재무제표에 표시된 지방공기업특별회계의 수치는 지방공기업법 등에서 정하는 기준에 따라 작성된 재무제표를 통합한 것입니다. 이 때 지방공기업특별회계 재무제표의 과목과 지방회계기준의 과목이 불일치하는 것은 지방회계기준의 적절한 과목으로 재분류한 것이며, 그렇지 않은 경우에는 지방공기업특별회계의 과목체계를 준용하여 표시하였습니다. 한편, 지방공기업특별회계의 과목 체계에 의한 원가정보는 재무제표에 대한 주석 [25]에 제시하였습니다.
A16: 1-3. 지방회계기준 시행일 현재의 자산·부채 평가
A18: 지방회계기준 시행일인 2007년 1월 1일 현재의 자산·부채는 지방회계기준 부칙 제2조에 따라 행정자치부장관이 정하는 바에 따라 평가하였습니다. 평가시 2006년 1월 1일 이전에 취득한 토지와 입목은 모두 대체평가 방법을 적용하였으며, 나머지 자산은 취득원가로 평가하는 것을 원칙으로 하되 취득원가를 확인할 수 없거나 취득원가 확인에 과다한 노력과 비용이 소모되는 자산에 대하여는 대체평가방법에 따라 평가하였습니다.
A20: 한편, 지방공기업특별회계는 2007년 1월 1일 이전부터 발생주의 회계원리에 의한 재무제표를 작성하여 왔기 때문에 별도의 대체평가방법을 적용하지 않고 이미 작성된 2006년 12월 31일 현재의 대차대조표상의 가액으로 평가하였습니다.
A22: 1-4. 출납폐쇄기한 단축에 따른 자금거래의 회계처리
A24: ｢지방회계법｣ 제7조 제1항 본문에 따른 출납 폐쇄기한 및 동항 단서에 따라 발생한 자금의 출납거래는 2016회계연도의 거래로 회계처리 하고, 회계연도 종료일이 경과한 후 발생한 자금의 출납거래는 2017회계연도의 거래로 회계처리 합니다. 따라서 2016회계연도 재정상태표 상 자산·부채 또한 출납 폐쇄기한(｢지방회계법｣ 제7조 제1항 본문) 및 출납 폐쇄기한 내 회계처리의 예외(｢지방회계법｣ 제7조 제1항 단서)의 경우 1월 20일까지 발생한 거래를 반영한 수치로 표시됩니다.
... A84: 유형자산은 추정 내용연수에 따라 정액법에 의하여 계산된 감가상각누계액을 차감하여 표시하고 있습니다. 유형자산 감가상각시 적용된 각 자산별 내용연수는 다음과 같으며, 물품관리지침에 규정된 것은 물품관리지침을 준용하고, 지방공기업특별회계의 유형자산은 지방공기업법시행규칙에서 정하는 내용연수를 준용하고 있습니다.
A86: 구 분 | D86: 내 역 | I86: 내용연수
A87: 건물 · 구축물 | D87: 철골·철근콘크리트, 철근콘크리트, 석조, 연와석조, 철골조인 것 | I87: 40년
D88: 연와조, 블록조, 콘크리트조, 토조, 토벽조, 목조, 목골모르타르조, 기타의 구조인 것 | I88: 20년
D89: 상수도사업특별회계의 것 | I89: 10년~30년
D90: 하수도사업특별회계의 것 | I90: 20년~30년
D91: 위에 속하지 않는 소규모 구축물 | I91: 5년
A92: 기계장치 | D92: 물품관리지침에 규정된 것 | I92: 물품관리지침 준용
D93: 상수도사업특별회계의 것 | I93: 15년
D94: 하수도사업특별회계의 것 | I94: 15년
D95: 공영개발사업특별회계의 것 | I95: 5년
D96: 위에 속하지 않는 기계장치 | I96: 5년
A97: 차량운반구 | D97: 물품관리지침에 규정된 것 | I97: 물품관리지침 준용
D98: 선박 및 항공기 | I98: 12년
D99: 위에 속하지 않는 차량운반구 | I99: 5년
A100: 집기비품 | D100: 물품관리지침에 규정된 것 | I100: 물품관리지침 준용
D101: 위에 속하지 않는 집기비품 | I101: 5년
A102: 기 타 | D102: 위에 속하지 않는 기타의 유형자산 | I102: 5년
A104: 라. 감가상각 제외 유형자산
A106: 사회기반시설 중 유지보수를 통하여 현상이 유지되며 효율적인 사회기반시설 관리시스템 등을 갖추고 있어 취득 후 지속적인 사회기반시설의 유지보수 지출을 통하여 사회기반시설의 공공서비스잠재력을 취득 당시와 동일한 수준으로 유지시킬 수 있다고 판단되는 자산인 도로, 도시철도, 하천부속시설, 농로·소류지·방조제 등의 농수산기반시설, 해안에 위치한 제방, 방조제, 방파제 등의 어항및항만시설, 사방댐 등의 댐, 마을안길·마을광장 포장 등의 기타사회기반시설 등은 감가상각 대상에서 제외하고 있습니다.
A108: 마. 취득 또는 완성 후의 지출
A110: 유형자산을 취득한 이후의 유지보수 중 해당 자산의 내용연수를 연장시키거나 가치를 실질적으로 증가시키는 지출은 해당 자산의 취득원가에 가산되며, 능률유지 또는 손상부위의 원상회복을 위한 지출은 발생한 기간의 비용으로 처리됩니다. 한편 감가상각 대상에서 제외된 사회기반시설에 대한 유지보수 지출은 전부 발생한 기간의 비용으로 처리합니다.
A112: 1-12. 무형자산의 평가 및 감가상각방법
A114: 무형자산은 해당 자산의 개발원가나 매입가액에 부대비용을 더한 취득원가로 평가하고 있으며, 추정 내용연수에 따라 정액법에 의하여 계산된 상각액을 직접 차감하여 표시하고 있습니다.
A116: 무형자산의 내용연수는 독점적·배타적인 권리를 부여하는 관계 법령이나 계약에서 정한 경우를 제외하고는 20년을 넘을 수 없으며, 감가상각시 각 자산별로 적용하고 있는 내용연수는 다음과 같습니다. 다만 용익물권 중 전세권과 구분지상권(존속기간이 사실상 영구인 것에 한합니다)은 감가상각하지 않습니다.
A118: 구 분 | D118: 내 역 | I118: 내용연수
A119: 지적재산권 | D119: 의장권, 실용신안권, 상표권 | I119: 5년
D120: 특허권 | I120: 10년
D121: 저작권 | I121: 저작권 보호기간
A122: 컴퓨터소프트웨어 | D122: 전산소프트웨어 구입비 및 개발비 | I122: 3년
A123: 용익물권 | D123: 지상권, 구분지상권(존속기한이 유한한 것) | I123: 용익물권 존속기간
A125: 한편, 무형자산의 진부화, 시장가치의 급격한 하락 등의 원인으로 인하여 해당 자산의 회수가능가액이 장부가액에 미달하고 그 미달액이 중요한 경우에는 이를 장부가액에서 직접 차감하여 회수가능가액으로 조정하고 있습니다.
A127: 1-13. 퇴직급여충당부채
A129: ｢공무원연금법｣의 적용을 받는 지방공무원을 제외한 무기계약근로자, 예술단원, 운동부원 등 가운데 1년 이상 근속한 인원이 일시에 퇴직할 경우 ｢근로자퇴직급여 보장법｣ [퇴직금지급규정]에 따라 지급해야 하는 퇴직금에 상당하는 퇴직금추계액을 말하며, 종전 ｢국민연금법｣에 따라 종업원이 퇴직할경우 지급할 퇴직금의 일부를 국민연금관리공단에 납부한 것과 종업원의 수급권을 보장하는 종업원 퇴직보험 등에 가입한 예치금을 차감한 것입니다.
A131: 1-14. 관리책임자산
A133: 가. 정 의
A135: 관리책임자산이란 유산자산, 자연자원 등과 같이 합리적인 가치측정이 어렵고 보존을 위한 비용만 발생하며, 처분의 대상이 되지 않는 자산이나 회계실체가 반드시 책임있게 관리할 책무가 있는 자산을 말합니다.
A137: 관리책임자산 중 유산자산은 생산 또는 소비의 목적으로 사용되지 않고 가치의 저장을 목적으로 보유하는 자산으로 유적, 예술작품, 문화재, 역사적 문서, 문화적으로 중요한 건물 등을 들 수 있습니다.
A139: 관리책임자산 중 자연자원은 지하자원, 산림자원, 수자원 등 미개발상태의 자원으로 석탄 및 석유매장량, 공원(동물원)에서 보유하고 있는 동물 등을 들 수 있습니다.
A141: 나. 회계처리 등
A143: 관리책임자산은 자산의 정의에는 부합되지만 그 금액을 신뢰성 있게 측정하기 어려운 점 등을 고려하여 금액의 측정가능성 여부에 관계 없이 자산으로 인식하지 않고 있습니다. 관리책임자산의 내역은 필수보충정보에 제시되어 있습니다.
A145: 1-15. 우발상황의 회계처리
A147: 우발상황은 미래에 어떤 사건이 발생하거나 발생하지 아니함으로 인하여 궁극적으로 확정될 손실 또는 이익으로서 발생여부가 불확실한 현재의 상태 또는 상황을 말하며, 우발상황에는 진행 중인 소송사건, 채무에 대한 지급보증, 배상책임 등이 포함되며 다음과 같이 회계처리합니다.
... A209: 2-1. 회계별 세부내역
J210: (단위: 원)
A211: 구 분 | E211: 내 역 | F211: 일반회계 | G211: 기타 특별회계 | H211: 기금 | I211: 지방공기업 특별회계 | J211: 계
A212: 현금및현금성자산 | E212: 보통예금 등 | F212: 10346569930 | G212: 11994646220 | H212: 564924304 | I212: 25235248650 | J212: 48141389104
A213: 단기금융상품 | E213: 정기예금 등 | F213: 59000000000 | G213: 1750000000 | H213: 4149013199 | I213: 0 | J213: 64899013199
A214: 장기금융상품 | E214: 정기예금 등 | F214: 0 | G214: 0 | H214: 1880000000 | I214: 0 | J214: 1880000000
A215: 계 | F215: 69346569930 | G215: 13744646220 | H215: 6593937503 | I215: 25235248650 | J215: 114920402303
A217: 2-2. 예산회계의 재정자금 구분
J218: (단위: 원)
A219: 구 분 | F219: 일반회계 | G219: 기타 특별회계 | H219: 기금 | I219: 지방공기업 특별회계 | J219: 계
A220: 재정자금(세계잉여금) 총액(A) | F220: 69346569930 | G220: 13744646220 | H220: 6593937503 | I220: 25235248650 | J220: 114920402303
A221: 이월금(B) | C221: 명시이월비 | F221: 32579508940 | G221: 116188000 | H221: 0 | I221: 103652000 | J221: 32799348940
C222: 사고이월비 | F222: 4346949120 | G222: 0 | H222: 0 | I222: 190202420 | J222: 4537151540
C223: 계속비 | F223: 12055643220 | G223: 2275849050 | H223: 0 | I223: 20260734150 | J223: 34592226420
C224: 보조금집행잔액 | F224: 2492574450 | G224: 0 | H224: 24795840 | I224: 281606800 | J224: 2798977090
A225: 순세계잉여금(A-B) | F225: 17871894200 | G225: 11352609170 | H225: 6569141663 | I225: 4399053280 | J225: 40192698313
A227: 3. 미수세금 및 미수세금대손충당금의 세부내역
J228: (단위: 원)
A229: 구 분 | G229: 채권금액 (A) | H229: 대손설정율 | I229: 대손충당금 (B) | J229: 장부가액 (A-B)
A230: 보 통 세 | E230: 미수취득세 | F230: 미수취득세 | G230: 0 | H230: 0 | I230: 0 | J230: 0
E231: 미수등록면허세 | F231: 미수등록면허세 | G231: 0 | H231: 0 | I231: 0 | J231: 0
E232: 미수주민세 | F232: 미수주민세 | G232: 232764470 | H232: 0.14122254 | I232: 32871590 | J232: 199892880
E233: 미수재산세 | F233: 미수재산세 | G233: 1287746250 | H233: 0.084686987 | I233: 109055350 | J233: 1178690900
E234: 미수자동차세 | F234: 미수자동차세 | G234: 1964395760 | H234: 0.03698097 | I234: 72645260 | J234: 1891750500
E235: 미수도축세 | F235: 미수도축세 | G235: 0 | H235: 0 | I235: 0 | J235: 0
E236: 미수레저세 | F236: 미수레저세 | G236: 0 | H236: 0 | I236: 0 | J236: 0
E237: 미수담배소비세 | F237: 미수담배소비세 | G237: 0 | H237: 0 | I237: 0 | J237: 0
E238: 미수주행세 | F238: 미수주행세 | G238: 0 | H238: 0 | I238: 0 | J238: 0
E239: 미수지방소비세 | F239: 미수지방소비세 | G239: 0 | H239: 0 | I239: 0 | J239: 0
E240: 미수지방소득세 | F240: 미수지방소득세 | G240: 1565082220 | H240: 0.23004706 | I240: 360042560 | J240: 1205039660
E241: 소 계 | G241: 5049988700 | H241: 0.11378536 | I241: 574614760 | J241: 4475373940
A242: 목 적 세 | E242: 미수도시계획세 | F242: 미수도시계획세 | G242: 0 | H242: 0 | I242: 0 | J242: 0
E243: 미수지역자원시설세 | F243: 미수지역자원시설세 | G243: 0 | H243: 0 | I243: 0 | J243: 0
E244: 미수지방교육세 | F244: 미수지방교육세 | G244: 0 | H244: 0 | I244: 0 | J244: 0
E245: 소 계 | G245: 0 | H245: 0 | I245: 0 | J245: 0
A246: 계 | G246: 5049988700 | H246: 0.11378536 | I246: 574614760 | J246: 4475373940
A248: 4. 미수세외수입금 및 대손충당금의 세부내역
A250: 4-1. 미수세외수입금
J251: (단위: 원)
A252: 구 분 | E252: 일반회계 | F252: 기타 특별회계 | G252: 기금 | H252: 지방공기업 특별회계 | I252: 내부거래 | J252: 계
A253: 미수재산임대료수익 | E253: 31009740 | F253: 0 | G253: 0 | H253: 0 | I253: 0 | J253: 31009740
A254: 미수사용료수익 | E254: 110434750 | F254: 0 | G254: 0 | H254: 341273240 | I254: 0 | J254: 451707990
A255: 미수수수료수익 | E255: 39027710 | F255: 0 | G255: 0 | H255: 0 | I255: 0 | J255: 39027710
A256: 미수사업수익 | E256: 500 | F256: 0 | G256: 0 | H256: 0 | I256: 0 | J256: 500
A257: 미수부담금 | D257: 미수부담금 | E257: 1147441300 | F257: 0 | G257: 0 | H257: 0 | I257: 0 | J257: 1147441300
...

Sheet 간지4
D16: Ⅳ. 필수보충정보
D19: 1. 예산결산요약표
D21: 2. 성질별 재정운영표
D23: 3. 관리책임자산명세서
D25: 4. 예산회계와 재무회계의 차이에 대한 명세서
D27: 5. 재정운영표

Sheet Sheet1

Sheet 세입
A1: 1. 예산결산요약표
A3: 1-1. 세입결산총괄(2016 회계연도)
G4: (단위: 원) | N4: (단위: 원)
A5: 구 분 | D5: 예산액 | E5: 전년도이월액 | F5: 예산현액 | G5: 징수결정액 | I5: 수납총액 | J5: 과오납환부액 | K5: 실제수납액 | L5: 미수납액 | M5: 결손처분 | N5: 다음연도이월액
A6: 합 계 | D6: 413349581000 | E6: 67070715430 | F6: 480420296430 | G6: 501648385980 | I6: 492173959840 | J6: 4066102930 | K6: 488107856910 | L6: 13540529070 | M6: 1671868750 | N6: 11868660320
A7: 일 반 회 계 | D7: 345225811000 | E7: 51452600890 | F7: 396678411890 | G7: 413460911890 | I7: 404252889440 | J7: 3520753990 | K7: 400732135450 | L7: 12728776440 | M7: 1671868750 | N7: 11056907690
B8: 지방세수입 | D8: 69070564000 | E8: 0 | F8: 69070564000 | G8: 79370810080 | I8: 74897406310 | J8: 1518955640 | K8: 73378450670 | L8: 5992359410 | M8: 942370710 | N8: 5049988700
C9: 보통세 | D9: 68244564000 | E9: 0 | F9: 68244564000 | G9: 75300006890 | I9: 73510926810 | J9: 750980070 | K9: 72759946740 | L9: 2540060150 | M9: 243338750 | N9: 2296721400
C10: 지난년도수입 | D10: 826000000 | E10: 0 | F10: 826000000 | G10: 4070803190 | I10: 1386479500 | J10: 767975570 | K10: 618503930 | L10: 3452299260 | M10: 699031960 | N10: 2753267300
B11: 세외수입 | D11: 25769818000 | E11: 0 | F11: 25769818000 | G11: 37304517690 | I11: 31558283340 | J11: 990182680 | K11: 30568100660 | L11: 6736417030 | M11: 729498040 | N11: 6006918990
C12: 경상적세외수입 | D12: 7127971000 | E12: 0 | F12: 7127971000 | G12: 7643169270 | I12: 8492716410 | J12: 957703210 | K12: 7535013200 | L12: 108156070 | M12: 0 | N12: 108156070
C13: 임시적세외수입 | D13: 18641847000 | E13: 0 | F13: 18641847000 | G13: 29661348420 | I13: 23065566930 | J13: 32479470 | K13: 23033087460 | L13: 6628260960 | M13: 729498040 | N13: 5898762920
B14: 지방교부세 | D14: 104004496000 | E14: 0 | F14: 104004496000 | G14: 104413701000 | I14: 104413701000 | J14: 0 | K14: 104413701000 | L14: 0 | M14: 0 | N14: 0
C15: 지방교부세 | D15: 104004496000 | E15: 0 | F15: 104004496000 | G15: 104413701000 | I15: 104413701000 | J15: 0 | K15: 104413701000 | L15: 0 | M15: 0 | N15: 0
B16: 조정교부금등 | D16: 18503252000 | E16: 0 | F16: 18503252000 | G16: 20305340000 | I16: 20305340000 | J16: 0 | K16: 20305340000 | L16: 0 | M16: 0 | N16: 0
C17: 시ㆍ군조정교부금등 | D17: 18503252000 | E17: 0 | F17: 18503252000 | G17: 20305340000 | I17: 20305340000 | J17: 0 | K17: 20305340000 | L17: 0 | M17: 0 | N17: 0
B18: 보조금 | D18: 110405747000 | E18: 0 | F18: 110405747000 | G18: 107359912590 | I18: 108371528260 | J18: 1011615670 | K18: 107359912590 | L18: 0 | M18: 0 | N18: 0
C19: 국고보조금등 | D19: 81523526000 | E19: 0 | F19: 81523526000 | G19: 80052736160 | I19: 80841633160 | J19: 788897000 | K19: 80052736160 | L19: 0 | M19: 0 | N19: 0
C20: 시ㆍ도비보조금등 | D20: 28882221000 | E20: 0 | F20: 28882221000 | G20: 27307176430 | I20: 27529895100 | J20: 222718670 | K20: 27307176430 | L20: 0 | M20: 0 | N20: 0
B21: 보전수입등및내부거래 | D21: 17471934000 | E21: 51452600890 | F21: 68924534890 | G21: 64706630530 | I21: 64706630530 | J21: 0 | K21: 64706630530 | L21: 0 | M21: 0 | N21: 0
C22: 보전수입등 | D22: 12698404000 | E22: 51452600890 | F22: 64151004890 | G22: 59947770530 | I22: 59947770530 | J22: 0 | K22: 59947770530 | L22: 0 | M22: 0 | N22: 0
B23: 내부거래 | D23: 4773530000 | E23: 0 | F23: 4773530000 | G23: 4758860000 | I23: 4758860000 | J23: 0 | K23: 4758860000 | L23: 0 | M23: 0 | N23: 0
A24: 특 별 회 계 | D24: 68123770000 | E24: 15618114540 | F24: 83741884540 | G24: 88187474090 | I24: 87921070400 | J24: 545348940 | K24: 87375721460 | L24: 811752630 | M24: 0 | N24: 811752630
B25: 공기업특별회계 | D25: 38539506000 | E25: 14925051490 | F25: 53464557490 | G25: 57439055390 | I25: 57643124850 | J25: 545342700 | K25: 57097782150 | L25: 341273240 | M25: 0 | N25: 341273240
C26: 상수도공기업특별회계 | D26: 13905025000 | E26: 2496558100 | F26: 16401583100 | G26: 19391520390 | I26: 19269473380 | J26: 129509850 | K26: 19139963530 | L26: 251556860 | M26: 0 | N26: 251556860
C27: 하수도공기업특별회계 | D27: 24634481000 | E27: 12428493390 | F27: 37062974390 | G27: 38047535000 | I27: 38373651470 | J27: 415832850 | K27: 37957818620 | L27: 89716380 | M27: 0 | N27: 89716380
B28: 기타특별회계 | D28: 29584264000 | E28: 693063050 | F28: 30277327050 | G28: 30748418700 | I28: 30277945550 | J28: 6240 | K28: 30277939310 | L28: 470479390 | M28: 0 | N28: 470479390
C29: 폐수종말처리시설 운영특별회계 | D29: 4092780000 | E29: 460040000 | F29: 4552820000 | G29: 4574465060 | I29: 4574465060 | J29: 0 | K29: 4574465060 | L29: 0 | M29: 0 | N29: 0
C30: 의료급여특별회계 | D30: 212054000 | E30: 0 | F30: 212054000 | G30: 241338530 | I30: 212159950 | J30: 6240 | K30: 212153710 | L30: 29184820 | M30: 0 | N30: 29184820
C31: 주민소득지원사업특별회계 | D31: 776561000 | E31: 0 | F31: 776561000 | G31: 648545790 | I31: 639974860 | J31: 0 | K31: 639974860 | L31: 8570930 | M31: 0 | N31: 8570930
C32: 농공지구조성특별회계 | D32: 14350304000 | E32: 233023050 | F32: 14583327050 | G32: 14592835680 | I32: 14592835680 | J32: 0 | K32: 14592835680 | L32: 0 | M32: 0 | N32: 0
C33: 주차장운영특별회계 | D33: 810421000 | E33: 0 | F33: 810421000 | G33: 1341267780 | I33: 908544140 | J33: 0 | K33: 908544140 | L33: 432723640 | M33: 0 | N33: 432723640
C34: 대지보상특별회계 | D34: 834531000 | E34: 0 | F34: 834531000 | G34: 832934940 | I34: 832934940 | J34: 0 | K34: 832934940 | L34: 0 | M34: 0 | N34: 0
C35: 폐기물처리시설 사업특별회계 | D35: 8507613000 | E35: 0 | F35: 8507613000 | G35: 8517030920 | I35: 8517030920 | J35: 0 | K35: 8517030920 | L35: 0 | M35: 0 | N35: 0

Sheet 세출
A2: 1-2. 세출결산총괄(2015 회계연도)
G3: (단위: 원) | N3: (단위: 원)
A4: 과 목 | D4: 예산액 | E4: 예산성립후 | F4: 예산현액 | G4: 지출원인 | I4: 지출액 | J4: 다음연도 이월액㉳ | N4: 집행잔액
D5: ㉮ | E5: 증감액㉯ | F5: ㉰=㉮+㉯ | G5: 행위액㉱ | I5: ㉲ | J5: 계 | K5: 명시이월 | L5: 사고이월 | M5: 계속비이월 | N5: ㉰-㉲-㉳
A6: 합 계 | D6: 413349581000 | E6: 67070715430 | F6: 480420296430 | G6: 395922360370 | I6: 379781392110 | J6: 76367849900 | K6: 34474348940 | L6: 4537151540 | M6: 37356349420 | N6: 24271054420
A7: 일 반 회 계 | D7: 345225811000 | E7: 51452600890 | F7: 396678411890 | G7: 343411797580 | I7: 331385565520 | J7: 53421224280 | K7: 34254508940 | L7: 4346949120 | M7: 14819766220 | N7: 11871622090
B8: 일반공공행정 | D8: 25887068000 | E8: 799373700 | F8: 26686441700 | G8: 23540986390 | I8: 21929949170 | J8: 3450445330 | K8: 3432486730 | L8: 17958600 | M8: 0 | N8: 1306047200
B9: 공공질서및안전 | D9: 1529844000 | E9: 752510070 | F9: 2282354070 | G9: 2069561990 | I9: 2069561990 | J9: 100000000 | K9: 100000000 | L9: 0 | M9: 0 | N9: 112792080
B10: 교육 | D10: 5045848000 | E10: 500000000 | F10: 5545848000 | G10: 4864890010 | I10: 4845990010 | J10: 66951990 | K10: 48051990 | L10: 18900000 | M10: 0 | N10: 632906000
B11: 문화및관광 | D11: 27680775000 | E11: 7064954500 | F11: 34745729500 | G11: 24924037010 | I11: 20580819210 | J11: 13313495410 | K11: 7367277960 | L11: 709931800 | M11: 5236285650 | N11: 851414880
B12: 환경보호 | D12: 28679831000 | E12: 256322720 | F12: 28936153720 | G12: 26517855260 | I12: 26318255260 | J12: 2195940000 | K12: 2175940000 | L12: 20000000 | M12: 0 | N12: 421958460
B13: 사회복지 | D13: 71177294000 | E13: 6629442730 | F13: 77806736730 | G13: 69034079000 | I13: 67807381190 | J13: 8727556870 | K13: 1899437230 | L13: 610112090 | M13: 6218007550 | N13: 1271798670
B14: 보건 | D14: 13483775000 | E14: 0 | F14: 13483775000 | G14: 13335857970 | I14: 13335857970 | J14: 14237000 | K14: 14237000 | L14: 0 | M14: 0 | N14: 133680030
B15: 농림해양수산 | D15: 59493092000 | E15: 6638804870 | F15: 66131896870 | G15: 55058951160 | I15: 52928496040 | J15: 10496312150 | K15: 6465751000 | L15: 2130455120 | M15: 1900106030 | N15: 2707088680
B16: 산업ㆍ중소기업 | D16: 10684467000 | E16: 6260703430 | F16: 16945170430 | G16: 15612705800 | I16: 15612705800 | J16: 581048000 | K16: 581048000 | L16: 0 | M16: 0 | N16: 751416630
B17: 수송및교통 | D17: 15669149000 | E17: 674202880 | F17: 16343351880 | G17: 15007710820 | I17: 14916185450 | J17: 1189130980 | K17: 1144179610 | L17: 44951370 | M17: 0 | N17: 238035450
B18: 국토및지역개발 | D18: 36883879000 | E18: 22350263060 | F18: 59234142060 | G18: 47031316100 | I18: 44626517360 | J18: 13286106550 | K18: 11026099420 | L18: 794640140 | M18: 1465366990 | N18: 1321518150
B19: 예비비 | D19: 1959856000 | E19: △477,712,000 | F19: 1482144000 | G19: 0 | I19: 0 | J19: 0 | K19: 0 | L19: 0 | M19: 0 | N19: 1482144000
B20: 기타 | D20: 47050933000 | E20: 3734930 | F20: 47054667930 | G20: 46413846070 | I20: 46413846070 | J20: 0 | K20: 0 | L20: 0 | M20: 0 | N20: 640821860
A21: 특 별 회 계 | D21: 68123770000 | E21: 15618114540 | F21: 83741884540 | G21: 52510562790 | I21: 48395826590 | J21: 22946625620 | K21: 219840000 | L21: 190202420 | M21: 22536583200 | N21: 12399432330
B22: 공기업특별회계 | D22: 38539506000 | E22: 14925051490 | F22: 53464557490 | G22: 35953929700 | I22: 31862533500 | J22: 20554588570 | K22: 103652000 | L22: 190202420 | M22: 20260734150 | N22: 1047435420
C23: 상수도공기업특별회계 | D23: 13905025000 | E23: 2496558100 | F23: 16401583100 | G23: 15951231780 | I23: 15847210240 | J23: 136237200 | K23: 103652000 | L23: 32585200 | M23: 0 | N23: 418135660
C24: 하수도공기업특별회계 | D24: 24634481000 | E24: 12428493390 | F24: 37062974390 | G24: 20002697920 | I24: 16015323260 | J24: 20418351370 | K24: 0 | L24: 157617220 | M24: 20260734150 | N24: 629299760
B25: 기타특별회계 | D25: 29584264000 | E25: 693063050 | F25: 30277327050 | G25: 16556633090 | I25: 16533293090 | J25: 2392037050 | K25: 116188000 | L25: 0 | M25: 2275849050 | N25: 11351996910
C26: 폐수종말처리시설 운영특별회계 | D26: 4092780000 | E26: 460040000 | F26: 4552820000 | G26: 3094159780 | I26: 3094159780 | J26: 116188000 | K26: 116188000 | L26: 0 | M26: 0 | N26: 1342472220
C27: 의료급여특별회계 | D27: 212054000 | E27: 0 | F27: 212054000 | G27: 172161390 | I27: 172161390 | J27: 0 | K27: 0 | L27: 0 | M27: 0 | N27: 39892610
C28: 주민소득지원사업특별회계 | D28: 776561000 | E28: 0 | F28: 776561000 | G28: 600000000 | I28: 600000000 | J28: 0 | K28: 0 | L28: 0 | M28: 0 | N28: 176561000
C29: 농공지구조성특별회계 | D29: 14350304000 | E29: 233023050 | F29: 14583327050 | G29: 11647653460 | I29: 11624313460 | J29: 2275849050 | K29: 0 | L29: 0 | M29: 2275849050 | N29: 683164540
C30: 주차장운영특별회계 | D30: 810421000 | E30: 0 | F30: 810421000 | G30: 307067430 | I30: 307067430 | J30: 0 | K30: 0 | L30: 0 | M30: 0 | N30: 503353570
C31: 대지보상특별회계 | D31: 834531000 | E31: 0 | F31: 834531000 | G31: 735591030 | I31: 735591030 | J31: 0 | K31: 0 | L31: 0 | M31: 0 | N31: 98939970
C32: 폐기물처리시설사업특별회계 | D32: 8507613000 | E32: 0 | F32: 8507613000 | G32: 0 | I32: 0 | J32: 0 | K32: 0 | L32: 0 | M32: 0 | N32: 8507613000

Sheet 재정운영-성질별(당기)
A1: 2. 성질별 재정운영표
A2: 재정운영표
A4: 해당연도 2016년 1월 1일 부터 2016년 12월 31일 까지
A5: 직전연도 2015년 1월 1일 부터 2015년 12월 31일 까지
A6: 진천군청 | I6: (단위: 원)
A7: 과 목 | D7: 해당연도 (2016년)
D8: 일반회계 | E8: 기타 특별회계 | F8: 기 금 | G8: 지방공기업 특별회계 | H8: 내부거래 | I8: 계
A10: 1. 인 건 비 | D10: 49914086645 | E10: 220667480 | F10: 0 | G10: 1293882389 | H10: 0 | I10: 51428636514
B11: 급여 | D11: 31618065860 | E11: 0 | F11: 0 | G11: 1258500920 | H11: 0 | I11: 32876566780
B12: 복리후생비 | D12: 7494684160 | E12: 0 | F12: 0 | G12: 0 | H12: 0 | I12: 7494684160
B13: 기타인건비 | D13: 9919566110 | E13: 169599320 | F13: 0 | G13: 32382280 | H13: 0 | I13: 10121547710
B14: 퇴직급여 | D14: 881770515 | E14: 51068160 | F14: 0 | G14: 2999189 | H14: 0 | I14: 935837864
A16: 2. 운 영 비 | D16: 84484759247 | E16: 2411185448 | F16: 531245570 | G16: 17593450385 | H16: 0 | I16: 105020640650
B17: 도서구입및인쇄비 | D17: 571492210 | E17: 2115000 | F17: 0 | G17: 0 | H17: 0 | I17: 573607210
B18: 소모품비 | D18: 4140856810 | E18: 6782130 | F18: 0 | G18: 252953390 | H18: 0 | I18: 4400592330
B19: 홍보및광고비 | D19: 1598641670 | E19: 3511000 | F19: 20000000 | G19: 0 | H19: 0 | I19: 1622152670
B20: 지급수수료 | D20: 4581698830 | E20: 13576350 | F20: 22734300 | G20: 215022070 | H20: 0 | I20: 4833031550
B21: 일반유형자산수선유지비 | D21: 1010826270 | E21: 748330 | F21: 249940870 | G21: 0 | H21: 0 | I21: 1261515470
B22: 주민편의시설수선유지비 | D22: 3738505590 | E22: 121378400 | F22: 0 | G22: 0 | H22: 0 | I22: 3859883990
B23: 사회기반시설수선유지비 | D23: 7545870110 | E23: 299055960 | F23: 238010400 | G23: 4790347790 | H23: 0 | I23: 12873284260
B24: 기타자산수선유지비 | D24: 2320742240 | E24: 0 | F24: 0 | G24: 0 | H24: 0 | I24: 2320742240
B25: 교육훈련비 | D25: 1262237920 | E25: 0 | F25: 0 | G25: 0 | H25: 0 | I25: 1262237920
B26: 제세공과금 | D26: 4426711530 | E26: 359100 | F26: 0 | G26: 913664330 | H26: 0 | I26: 5340734960
B27: 보험료및공제료 | D27: 282194384 | E27: 369808 | F27: 0 | G27: 0 | H27: 0 | I27: 282564192
B28: 임차료 | D28: 426896441 | E28: 0 | F28: 0 | G28: 0 | H28: 0 | I28: 426896441
... B41: 기타운영비 | D41: 460171990 | E41: 14338000 | F41: 560000 | G41: 0 | H41: 0 | I41: 475069990
A43: 3. 정부간이전비용 | D43: 5415069080 | E43: 0 | F43: 14384000 | G43: 54826000 | H43: 0 | I43: 5484279080
B44: 지방자치단체간부담금 | D44: 593402750 | E44: 0 | F44: 0 | G44: 54826000 | H44: 0 | I44: 648228750
B45: 국가에대한부담금 | D45: 73951330 | E45: 0 | F45: 14384000 | G45: 0 | H45: 0 | I45: 88335330
B46: 교육비특별회계전출금 | D46: 0 | E46: 0 | F46: 0 | G46: 0 | H46: 0 | I46: 0
B47: 교육기관운영비보조금 | D47: 4747715000 | E47: 0 | F47: 0 | G47: 0 | H47: 0 | I47: 4747715000
A49: 4. 민간등이전비용 | D49: 117967872460 | E49: 4279000650 | F49: 40300000 | G49: 1620000 | H49: -21868258750 | I49: 100420534360
B50: 민간보조금 | D50: 85107310640 | E50: 72175900 | F50: 39300000 | G50: 0 | H50: 0 | I50: 85218786540
B51: 민간장학금 | D51: 121183450 | E51: 0 | F51: 1000000 | G51: 0 | H51: 0 | I51: 122183450
B52: 이차보전금 | D52: 2382329660 | E52: 0 | F52: 0 | G52: 0 | H52: 0 | I52: 2382329660
B53: 출연금 | D53: 254232000 | E53: 0 | F53: 0 | G53: 0 | H53: 0 | I53: 254232000
B54: 전출금비용 | D54: 17661434000 | E54: 4206824750 | F54: 0 | G54: 0 | H54: -21868258750 | I54: 0
B55: 지방공공기관보조금 | D55: 0 | E55: 0 | F55: 0 | G55: 0 | I55: 0
B56: 기타이전비용 | D56: 12441382710 | E56: 0 | F56: 0 | G56: 1620000 | H56: 0 | I56: 12443002710
A58: 5. 기타비용 | D58: 18473093500 | E58: 2430459055 | F58: 159324425 | G58: 8614384406 | H58: 0 | I58: 29677261386
B59: 자산처분손실 | D59: 0 | E59: 0 | F59: 0 | G59: 0 | H59: 0 | I59: 0
B60: 자산손상차손 | D60: 1007591 | E60: 0 | F60: 0 | G60: 0 | H60: 0 | I60: 1007591
B61: 일반유형자산감가상각비 | D61: 3504026388 | E61: 644522805 | F61: 117173697 | G61: 0 | H61: 0 | I61: 4265722890
B62: 주민편의시설감가상각비 | D62: 8038274907 | E62: 4877816 | F62: 0 | G62: 0 | H62: 0 | I62: 8043152723
B63: 사회기반시설감가상각비 | D63: 4333923718 | E63: 1242378693 | F63: 238215 | G63: 8594120766 | H63: 0 | I63: 14170661392
B64: 무형자산상각비 | D64: 190026936 | E64: 4386501 | F64: 41646223 | G64: 11756000 | H64: 0 | I64: 247815660
B65: 대손상각비 | D65: 1998956220 | E65: 5710 | F65: 0 | G65: 0 | H65: 0 | I65: 1998961930
B66: 기타비용 | D66: 406877740 | E66: 534287530 | F66: 266290 | G66: 8507640 | H66: 0 | I66: 949939200
A68: 6. 비용총계 | D68: 276254880932 | E68: 9341312633 | F68: 745253995 | G68: 27558163180 | H68: -21868258750 | I68: 292031351990
A70: 7. 자체조달수익 | D70: 101391662456 | E70: 2392579276 | F70: 153645194 | G70: 15458157320 | H70: 0 | I70: 119396044246
B71: 지방세수익 | D71: 74738747700 | E71: 0 | F71: 0 | G71: 0 | H71: 0 | I71: 74738747700
B72: 경상세외수익 | D72: 7203645627 | E72: 143866866 | F72: 102702264 | G72: 15392573650 | H72: 0 | I72: 22842788407
B73: 임시세외수익 | D73: 19449269129 | E73: 2248712410 | F73: 50942930 | G73: 65583670 | H73: 0 | I73: 21814508139
A75: 8. 정부간이전수익 | D75: 234625207760 | E75: 1911391000 | F75: 95204160 | G75: 0 | H75: 0 | I75: 236631802920
B76: 지방교부세수익 | D76: 104413701000 | E76: 0 | F76: 0 | G76: 0 | H76: 0 | I76: 104413701000
B77: 자치구조정교부금수익 | D77: 0 | E77: 0 | F77: 0 | G77: 0 | H77: 0 | I77: 0
B78: 시·군조정교부금수익 | D78: 22545547000 | E78: 0 | F78: 0 | G78: 0 | H78: 0 | I78: 22545547000
B79: 국고보조금수익 | D79: 78484838400 | E79: 1719000000 | F79: 0 | G79: 0 | H79: 0 | I79: 80203838400
B80: 시도비보조금수익 | D80: 26382499740 | E80: 192391000 | F80: 95204160 | G80: 0 | H80: 0 | I80: 26670094900
B81: 자치단체간부담금수익 | D81: 2798621620 | E81: 0 | F81: 0 | G81: 0 | H81: 0 | I81: 2798621620
B82: 기타정부간이전수익 | D82: 0 | E82: 0 | F82: 0 | G82: 0 | H82: 0 | I82: 0
A84: 9. 기타수익 | D84: 4830674914 | E84: 8311622060 | F84: 1583521000 | G84: 7790123270 | H84: -21868258750 | I84: 647682494
B85: 전입금수익 | D85: 4765684750 | E85: 8288290000 | F85: 1583521000 | G85: 7789623000 | H85: -21868258750 | I85: 558860000
B86: 기부금수익 | D86: 0 | E86: 0 | F86: 0 | G86: 0 | H86: 0 | I86: 0
B87: 대손충당금환입 | D87: 23126280 | E87: 2171510 | F87: 0 | G87: 500270 | H87: 0 | I87: 25798060
B88: 퇴직급여충당부채환입 | D88: 0 | E88: 0 | F88: 0 | G88: 0 | H88: 0 | I88: 0
B89: 자산손상차손환입 | D89: 0 | E89: 0 | F89: 0 | G89: 0 | H89: 0 | I89: 0
B90: 기타수익 | D90: 41863884 | E90: 21160550 | F90: 0 | G90: 0 | H90: 0 | I90: 63024434
A92: 10. 수익총계 | D92: 340847545130 | E92: 12615592336 | F92: 1832370354 | G92: 23248280590 | H92: -21868258750 | I92: 356675529660
A94: 11. 재정운영결과 | D94: -64592664198 | E94: -3274279703 | F94: -1087116359 | G94: 4309882590 | H94: 0 | I94: -64644177670

Sheet 재정운영-성질별(전기)
A1: 재정운영표
A3: 해당연도 2016년 1월 1일 부터 2016년 12월 31일 까지
A4: 직전연도 2015년 1월 1일 부터 2015년 12월 31일 까지
A5: 진천군청 | I5: (단위: 원)
A6: 과 목 | D6: 직전연도 (2015년)
D7: 일반회계 | E7: 기타 특별회계 | F7: 기 금 | G7: 지방공기업 특별회계 | H7: 내부거래 | I7: 계
A9: 1. 인 건 비 | D9: 47659264830 | E9: 189342150 | F9: 0 | G9: 1261886794 | H9: 0 | I9: 49110493774
B10: 급여 | D10: 30533712020 | E10: 0 | F10: 0 | G10: 1223932170 | H10: 0 | I10: 31757644190
B11: 복리후생비 | D11: 7624973300 | E11: 0 | F11: 0 | G11: 0 | H11: 0 | I11: 7624973300
B12: 기타인건비 | D12: 9250212360 | E12: 165863880 | F12: 0 | G12: 31228340 | H12: 0 | I12: 9447304580
B13: 퇴직급여 | D13: 250367150 | E13: 23478270 | F13: 0 | G13: 6726284 | H13: 0 | I13: 280571704
A15: 2. 운 영 비 | D15: 75633159593 | E15: 1968161740 | F15: 315330060 | G15: 15513530745 | H15: 0 | I15: 93430182138
B16: 도서구입및인쇄비 | D16: 508023580 | E16: 2490000 | F16: 0 | G16: 0 | H16: 0 | I16: 510513580
B17: 소모품비 | D17: 4560354150 | E17: 23555820 | F17: 174798260 | G17: 22315770 | H17: 0 | I17: 4781024000
B18: 홍보및광고비 | D18: 1644708610 | E18: 2315950 | F18: 20000000 | G18: 0 | H18: 0 | I18: 1667024560
B19: 지급수수료 | D19: 4030267470 | E19: 67701900 | F19: 20600000 | G19: 0 | H19: 0 | I19: 4118569370
B20: 일반유형자산수선유지비 | D20: 1090961780 | E20: 1803000 | F20: 0 | G20: 0 | H20: 0 | I20: 1092764780
B21: 주민편의시설수선유지비 | D21: 3670806290 | E21: 14134000 | F21: 0 | G21: 0 | H21: 0 | I21: 3684940290
B22: 사회기반시설수선유지비 | D22: 7907489380 | E22: 496427270 | F22: 98180000 | G22: 2428851300 | H22: 0 | I22: 10930947950
B23: 기타자산수선유지비 | D23: 2373721860 | E23: 0 | F23: 0 | G23: 0 | H23: 0 | I23: 2373721860
B24: 교육훈련비 | D24: 1200787050 | E24: 0 | F24: 0 | G24: 0 | H24: 0 | I24: 1200787050
B25: 제세공과금 | D25: 3868089420 | E25: 379040 | F25: 1471800 | G25: 742369950 | H25: 0 | I25: 4612310210
B26: 보험료및공제료 | D26: 254243850 | E26: 329450 | F26: 0 | G26: 0 | H26: 0 | I26: 254573300
B27: 임차료 | D27: 322363643 | E27: 0 | F27: 0 | G27: 0 | H27: 0 | I27: 322363643
... B40: 기타운영비 | D40: 282817610 | E40: 29200000 | F40: 280000 | G40: 457752730 | H40: 0 | I40: 770050340
A42: 3. 정부간이전비용 | D42: 5767899810 | E42: 0 | F42: 20336000 | G42: 39576000 | H42: 0 | I42: 5827811810
B43: 지방자치단체간부담금 | D43: 857999810 | E43: 0 | F43: 0 | G43: 39576000 | H43: 0 | I43: 897575810
B44: 국가에대한부담금 | D44: 303893000 | E44: 0 | F44: 20336000 | G44: 0 | H44: 0 | I44: 324229000
B45: 교육비특별회계전출금 | D45: 0 | E45: 0 | F45: 0 | G45: 0 | H45: 0 | I45: 0
B46: 교육기관운영비보조금 | D46: 4606007000 | E46: 0 | F46: 0 | G46: 0 | H46: 0 | I46: 4606007000
A49: 4. 민간등이전비용 | D49: 104253824714 | E49: 2333090680 | F49: 37950000 | G49: 2239000 | H49: -14383274000 | I49: 92243830394
B50: 민간보조금 | D50: 71461943510 | E50: 501244680 | F50: 32600000 | G50: 0 | H50: 0 | I50: 71995788190
B51: 민간장학금 | D51: 161967300 | E51: 0 | F51: 5350000 | G51: 0 | H51: 0 | I51: 167317300
B52: 이차보전금 | D52: 2270920140 | E52: 0 | F52: 0 | G52: 0 | H52: 0 | I52: 2270920140
B53: 출연금 | D53: 442447000 | E53: 0 | F53: 0 | G53: 0 | H53: 0 | I53: 442447000
B54: 전출금비용 | D54: 12551428000 | E54: 1831846000 | F54: 0 | G54: 0 | H54: -14383274000 | I54: 0
B55: 지방공공기관보조금 | D55: 0 | E55: 0 | F55: 0 | G55: 0 | H55: 0 | I55: 0
B56: 기타이전비용 | D56: 17365118764 | E56: 0 | F56: 0 | G56: 2239000 | H56: 0 | I56: 17367357764
A58: 5. 기타비용 | D58: 22202305734 | E58: 1619488447 | F58: 124242299 | G58: 8169548137 | H58: 0 | I58: 32115584617
B59: 자산처분손실 | D59: 5313740659 | E59: 0 | F59: 0 | G59: 0 | H59: 0 | I59: 5313740659
B60: 자산손상차손 | D60: 5047383 | E60: 0 | F60: 0 | G60: 0 | H60: 0 | I60: 5047383
B61: 일반유형자산감가상각비 | D61: 3386272690 | E61: 644093677 | F61: 78570751 | G61: 0 | H61: 0 | I61: 4108937118
B62: 주민편의시설감가상각비 | D62: 6772888585 | E62: 2907203 | F62: 0 | G62: 0 | H62: 0 | I62: 6775795788
B63: 사회기반시설감가상각비 | D63: 4106460925 | E63: 943693674 | F63: 238215 | G63: 8074128587 | H63: 0 | I63: 13124521401
B64: 무형자산상각비 | D64: 185071522 | E64: 5533333 | F64: 45433333 | G64: 0 | H64: 0 | I64: 236038188
B65: 대손상각비 | D65: 1312193080 | E65: 1720760 | F65: 0 | G65: 15458210 | H65: 0 | I65: 1329372050
B66: 기타비용 | D66: 1120630890 | E66: 21539800 | F66: 0 | G66: 79961340 | H66: 0 | I66: 1222132030
A68: 6. 비용총계 | D68: 255516454681 | E68: 6110083017 | F68: 497858359 | G68: 24986780676 | H68: -14383274000 | I68: 272727902733
A70: 7. 자체조달수익 | D70: 79595373831 | E70: 3149896600 | F70: 220204834 | G70: 11095867780 | H70: 0 | I70: 94061343045
B71: 지방세수익 | D71: 64511703540 | E71: 0 | F71: 0 | G71: 0 | H71: 0 | I71: 64511703540
B72: 경상세외수익 | D72: 6256811840 | E72: 509231540 | F72: 87783860 | G72: 11060509080 | H72: 0 | I72: 17914336320
B73: 임시세외수익 | D73: 8826858451 | E73: 2640665060 | F73: 132420974 | G73: 35358700 | H73: 0 | I73: 11635303185
A75: 8. 정부간이전수익 | D75: 226291654710 | E75: 1955975570 | F75: 78397640 | G75: 0 | H75: 0 | I75: 228326027920
B76: 지방교부세수익 | D76: 94971646000 | E76: 0 | F76: 0 | G76: 0 | H76: 0 | I76: 94971646000
B77: 자치구조정교부금수익 | D77: 0 | E77: 0 | F77: 0 | G77: 0 | H77: 0 | I77: 0
B78: 시·군조정교부금수익 | D78: 17246257000 | E78: 0 | F78: 0 | G78: 0 | H78: 0 | I78: 17246257000
B79: 국고보조금수익 | D79: 82920002800 | E79: 1849371320 | F79: 0 | G79: 0 | H79: 0 | I79: 84769374120
B80: 시도비보조금수익 | D80: 28081290340 | E80: 106604250 | F80: 78397640 | G80: 0 | H80: 0 | I80: 28266292230
B81: 자치단체간부담금수익 | D81: 3072458570 | E81: 0 | F81: 0 | G81: 0 | H81: 0 | I81: 3072458570
B82: 기타정부간이전수익 | D82: 0 | E82: 0 | F82: 0 | G82: 0 | H82: 0 | I82: 0
A84: 9. 기타수익 | D84: 2667846000 | E84: 1835312310 | F84: 1056703420 | G84: 9670009000 | H84: -14383274000 | I84: 846596730
B85: 전입금수익 | D85: 2667846000 | E85: 1825000000 | F85: 1056419000 | G85: 9670009000 | H85: -14383274000 | I85: 836000000
B86: 기부금수익 | D86: 0 | E86: 0 | F86: 0 | G86: 0 | H86: 0 | I86: 0
B87: 대손충당금환입 | D87: 0 | E87: 10311510 | F87: 0 | G87: 0 | H87: 0 | I87: 10311510
B88: 퇴직급여충당부채환입 | D88: 0 | E88: 0 | F88: 0 | G88: 0 | H88: 0 | I88: 0
B89: 자산손상차손환입 | D89: 0 | E89: 0 | F89: 0 | G89: 0 | H89: 0 | I89: 0
B90: 기타수익 | D90: 0 | E90: 800 | F90: 284420 | G90: 0 | H90: 0 | I90: 285220
A92: 10. 수익총계 | D92: 308554874541 | E92: 6941184480 | F92: 1355305894 | G92: 20765876780 | H92: -14383274000 | I92: 323233967695
A94: 11. 재정운영결과 | D94: -53038419860 | E94: -831101463 | F94: -857447535 | G94: 4220903896 | H94: 0 | I94: -50506064962

Sheet 관리책임자산명세서
A1: 3. 관리책임자산명세서
A3: 2016년 12월 31일 현재
A5: 구분 | B5: 내역 | C5: 자산명 | D5: 관리부서 | E5: 비고
A6: 유 산 자 산 | B6: 전시물 | C6: 종 158점 | D6: 시설관리사업소 | E6: 종박물관
C7: 판화작품 223점 | D7: 시설관리사업소 | E7: 생거판화미술관
C8: 농기구 등 780점 | D8: 시설관리사업소 | E8: 향토민속자료전시관
B9: 유형문화재 | C9: 진천 향교 | D9: 문화홍보체육과 | E9: 제101호
C10: 진천 사곡리 마애여래입상 | D10: 문화홍보체육과 | E10: 제124호
C11: 진천 용화사 석조여래입상 | D11: 문화홍보체육과 | E11: 제138호
C12: 진천 이시발 신도비 | D12: 문화홍보체육과 | E12: 제142호
C13: 진천 정철 신도비 | D13: 문화홍보체육과 | E13: 제187호
C14: 진천 노원리 마애여래입상 | D14: 문화홍보체육과 | E14: 제189호
C15: 진천 지암리 석조여래입상 | D15: 문화홍보체육과 | E15: 제216호
C16: 홍정명 지석 | D16: 문화홍보체육과 | E16: 제241호
C17: 홍우경 초상 | D17: 문화홍보체육과 | E17: 제245호
C18: 진천 영수사 신중도 | D18: 문화홍보체육과 | E18: 제317호
C19: 진천 태화사년명 마애불입상 | D19: 문화홍보체육과 | E19: 제91호
C20: 진천 농다리 | D20: 문화홍보체육과 | E20: 제28호
C21: 신잡 초상 | D21: 문화홍보체육과 | E21: 제45호
B22: 무형문화재 | C22: 진천 용몽리 농요 | D22: 문화홍보체육과 | E22: 제11호
B23: 기념물 | C23: 진천 길상사 | D23: 문화홍보체육과 | E23: 제1호
C24: 진천 정송강사 | D24: 문화홍보체육과 | E24: 제9호
C25: 진천 이상설 생가 | D25: 문화홍보체육과 | E25: 제77호
C26: 진천 홍우경 정인옹주 묘소 | D26: 문화홍보체육과 | E26: 제78호
C27: 진천 남지 묘소 및 신도비 | D27: 문화홍보체육과 | E27: 제80호
C28: 진천 대모산성 | D28: 문화홍보체육과 | E28: 제83호
C29: 진천 송인 묘소 | D29: 문화홍보체육과 | E29: 제91호
C30: 진천 이정 묘소 | D30: 문화홍보체육과 | E30: 제94호
C31: 진천 이거이 묘소 | D31: 문화홍보체육과 | E31: 제95호
C32: 진천 이집 묘소 | D32: 문화홍보체육과 | E32: 제104호
C33: 진천 정철 묘소 | D33: 문화홍보체육과 | E33: 제106호
C34: 진천 석장리 유적 | D34: 문화홍보체육과 | E34: 제124호
C35: 진천 김덕숭 효자각 | D35: 문화홍보체육과 | E35: 제134호
... C37: 진천 배티성지 | D37: 문화홍보체육과 | E37: 제150호
A39: 구분 | B39: 내역 | C39: 자산명 | D39: 관리부서 | E39: 비고
A40: 유 산 자 산 | B40: 민속문화재 | C40: 신화국 백자청화묘지 | D40: 문화홍보체육과 | E40: 제7호
C41: 진천 산우물 대동계 문서 및 관련자료 | D41: 문화홍보체육과 | E41: 제21호
B42: 문화재자료 | C42: 진천 신헌고가 | D42: 문화홍보체육과 | E42: 제1호
C43: 진천 금성대군 사당 | D43: 문화홍보체육과 | E43: 제10호
C44: 진천 산수리 마애여래좌상 | D44: 문화홍보체육과 | E44: 제20호
C45: 진천 교성리 연화대좌 | D45: 문화홍보체육과 | E45: 제40호
C46: 진천 강세황 묘소 | D46: 문화홍보체육과 | E46: 진천 강세황 묘소
B47: 보물 | C47: 진천 연곡리 석비 | D47: 문화홍보체육과 | E47: 제404호
C48: 진천 영수사 영산회괘불탱 | D48: 문화홍보체육과 | E48: 제1551호
B49: 사적 | C49: 진천 김유신탄생지와 태실 | D49: 문화홍보체육과 | E49: 제414호
C50: 진천 산수리와 삼용리 요지 | D50: 문화홍보체육과 | E50: 제511호
B51: 중요무형문화재 | C51: 주철장 | D51: 문화홍보체육과 | E51: 제112호
B52: 등록문화재 | C52: 대한성공회 진천성당 | D52: 문화홍보체육과 | E52: 제8호
C53: 진천 덕산양조장 | D53: 문화홍보체육과 | E53: 제58호
B54: 천연기념물 | C54: 진천 노원리 왜가리 번식지 | D54: 문화홍보체육과 | E54: 제13호
A56: ※ 유산자산 등은 지방자치단체에 관리책임이 부여된 것에 한합니다.

Sheet 재정분석
A2: 재정분석
A4: 분야 | B4: 지표명 | C4: 산식 | D4: 지표값 | E4: 산식 | G4: 안산시 | H4: 안산수치로 수정함
A5: 재정상태 | B5: 총자산 대비 총부채 비율 | C5: 총부채 / 총자산 * 100 | D5: =D38/D39*100 -> 1934.0733 | G5: 인구 | H5: 741073
B6: 총부채 대비 차입부채 비율 | C6: 차입부채 / 총부채 * 100 | D6: =D42/D39*100 -> 14.321681 | G6: 공무원(현원) | H6: 1713
B7: 총부채 대비 실질부채 비율 | C7: (총부채 - 기초단체 융자액) / 총부채 * 100 | D7: =D40/D39*100 -> 100
B8: 재정자금 대비 금융상품 비율 | C8: 장·단기 금융상품 / 재정자금 * 100 | D8: =D44/D43*100 -> 58.108927
B9: 총부채 대비 현금창출자산 비율 | C9: 현금창출자산 / 총부채 * 100 | D9: =D45/D39*100 -> #REF! | E9: ※ 현금창출자산 : (유동자산-기타유동자산+일반미수금)+장기금융상품+(장기대여금-학자금위탁대여금)+기타투자자산
B10: 차입부채 대비 재정자금 비율 | C10: 재정자금 / 차입부채 * 100 | D10: =D43/D42*100 -> 798.05835 | E10: ※ 재정자금 : 현금 및 현금성자산 + 장·단기 금융상품
B11: 유동부채 대비 유동자산 비율 | C11: 유동자산 / 유동부채 * 100 | D11: =D57/D41*100 -> 323.06378
B12: 미수세금 대비 대손충당금 비율 | C12: 미수세금 대손충당금 / 미수세금(대손충당금 차감전) * 100 | D12: =D59/D58*100 -> 11.378536
B13: 단기민간융자금 비율 | C13: 단기민간융자금 / 장·단기 민간융자금 * 100 | D13: =D66/(D66+D71)*100 -> #REF!
A14: 재정운영 | B14: 예산 대비 세출 비율 | C14: 세출액(일반회계+특별회계) / 예산현액(일반회계+특별회계) * 100 | D14: =D75/D79*100 -> 74.41806
B15: 경상비용 대비 이자비용 비율 | C15: 이자비용 / 경상비용 * 100 | D15: =D84/D86*100 -> #REF! | E15: ※ 이자비용 : 차입부채 이자비용 ※ 경상비용 : 인건비+운영비+재정보전금+조정교부금+교육비특별회계전출금
B16: 이자수익 대비 이자비용 비율 | C16: 이자비용 / 이자수익 * 100 | D16: =D85/D93*100 -> #REF!
B17: 총수익 대비 경상자체조달수익 비율 | C17: 경상수익 / 총수익 * 100 | D17: =D94/D98*100 -> 62.953796 | E17: ※ 경상수익 : 지방세수익+경상세외수익+지방교부세+재정보전금+조정교부금
B18: 경상수익 대비경상자체조달수익 비율 | C18: 경상자체조달수익 / 경상수익 * 100 | D18: =D99/D94*100 -> 43.458268 | E18: ※ 경상자체조달수익 : 지방세수익 + 경상세외수익
B19: 자체조달수익 대비 채권 비율 | C19: 미수자체조달수익(대손충당금 차감후) / 자체조달수익 * 100 | D19: =D100/D95*100 -> #REF! | E19: ※ 미수자체조달수익 : 미수세금+미수세외수익금+일반미수금
B20: 새외수익 대비 채권 비율 | C20: 미수세외수익(대손충담금 차감후) / 세외수익 * 100 | D20: =D101/D97*100 -> #REF! | E20: ※ 미수세외수익 : 미수세외수입금+일반미수금
B21: 총비용 대비 경상비용 비율 | C21: 경상비용 / 총비용 * 100 | D21: =D86/D88*100 -> 53.572767
B22: 지출액 대비 자산취득 비율 | C22: 자산 취득액 / 지출액 * 100 | D22: =D102/D103*100 -> #REF!
A23: 회계책임 | B23: 주민 1인당 총자산 | C23: 총자산 / 인구수(회계연도말 인구수) | D23: =D38/$H$5 -> 2624100.2
B24: 주민 1인당 총부채 | C24: 총부채 / 인구수(회계연도말 인구수) | D24: =D39/$H$5 -> 135677.39
B25: 주민 1인당 실질부채 | C25: 실질부채 / 인구수(회계연도말 인구수) | D25: =D40/$H$5 -> 135677.39
B26: 주민 1인당 총수익 | C26: 총수익 / 인구수(회계연도말 인구수) | D26: =D98/$H$5 -> 481296.08
B27: 주민 1인당 자체조달수익 | C27: 자체조달수익 / 인구수(회계연도말 인구수) | D27: =D95/$H$5 -> 161112.39
B28: 주민 1인당 지방세수익 | C28: 지방세수익 / 인구수(회계연도말 인구수) | D28: =D96/$H$5 -> 100852.07
B29: 주민 1인당 총비용 | C29: 총비용 / 인구수(회계연도말 인구수) | D29: =D88/$H$5 -> 394065.57
B30: 주민 1인당 기타이전비용 | C30: 기타이전비용 / 인구수(회계연도말 인구수) | D30: =D87/$H$5 -> 135506.94
B31: 공무원 1인당 총수익 | C31: 총수익 / 공무원(현원) | D31: =D98/$H$6 -> 2.0821689e+08
B32: 공무원 1인당 총비용 | C32: 총비용 / 공무원(현원) | D32: =D88/$H$6 -> 1.7047948e+08
B33: 공무원 1인당 총급여 | C33: 총급여 / 공무원(현원) | D33: =D104/$H$6 -> 19192392
B36: 재정분석지표 구성요소 | F36: (주의사항) | G36: 인구 및 공무원현원(2010년말 기준)을 파악하여 위에 기재할 것
B37: 구 분 | C37: 회계구분 | D37: 금 액 | E37: 비 고 | H37: 노란색 칠한 셀은 값을 직접 대입하거나 확인해야 함
B38: 총자산 | D38: =SUM('재정상태(당기)'!I104) -> 1944649814437
B39: 총부채 | D39: =SUM('재정상태(당기)'!I120) -> 100546854121
B40: 실질부채 | D40: =D39 -> 100546854121
B41: 유동부채 | D41: =SUM('재정상태(당기)'!I107) -> 39599159852
B42: 차입부채 | D42: =SUM('재정상태(당기)'!I108,'재정상태(당기)'!I109,'재정상태(당기)'!I113) -> 14400000000
B43: 재정자금 | D43: =SUM('재정상태(당기)'!I11,'재정상태(당기)'!I12,'재정상태(당기)'!I25) -> 114920402303
B44: 장단기금융상품 | D44: =SUM('재정상태(당기)'!I12,'재정상태(당기)'!I25) -> 66779013199
B45: 현금창출자산 | D45: ='재정상태(당기)'!I10-'재정상태(당기)'!I22+재정분석!D50+'재정상태(당기)'!I25+'재정상태(당기)'!I26-재정분석!D56+'재정상태(당기)'!I29 -> #REF! | F45: (유동자산-기타유동자산+일반미수금)+장기금융상품+(장기대여금-학자금위탁대여금)+기타투자자산
B46: 일반미수금 | C46: 일반회계 | D46: =SUMIF(#REF!,"일반미수금",#REF!) -> #REF! | F46: ='재정상태(당기)'!I10-'재정상태(당기)'!I22+D50+'재정상태(당기)'!I25+'재정상태(당기)'!I26-D56+'재정상태(당기)'!I29 -> #REF!
C47: 특별회계 | D47: =SUMIF(#REF!,"일반미수금",#REF!) -> #REF! | F47: =F46/D39*100 -> #REF!
C48: 기금 | D48: =SUMIF(#REF!,"일반미수금",#REF!) -> #REF!
C49: 공기업특별회계 | D49: 0
C50: 계 | D50: =SUM(D46:D49) -> #REF!
B51: 일반미수금 대손충당금 | C51: 일반회계 | D51: =SUMIF(#REF!,"일반미수금대손충당금",#REF!)*-1 -> #REF!
C52: 특별회계 | D52: =-SUMIF(#REF!,"일반미수금대손충당금",#REF!) -> #REF!
C53: 기금 | D53: =SUMIF(#REF!,"일반미수금대손충당금",#REF!) -> #REF!
C54: 공기업특별회계 | D54: 0
C55: 계 | D55: =SUM(D51:D54) -> #REF!
B56: 학자금위탁대여금 | C56: 일반회계 | D56: =SUMIF(#REF!,"학자금위탁대여금",#REF!) -> #REF!
B57: 유동자산 | D57: =SUM('재정상태(당기)'!I10) -> 127930543317
B58: 미수세금 | D58: =SUM('재정상태(당기)'!I13) -> 5049988700
B59: 미수세금대손충당금 | D59: =SUM('재정상태(당기)'!I14)*-1 -> 574614760
B60: 미수세외수입금 | D60: =SUM('재정상태(당기)'!I15) -> 6842873160
B61: 미수세외수입금대손충당금 | D61: =SUM('재정상태(당기)'!I16)*-1 -> 324841560
B62: 단기민간융자금 | C62: 일반회계 | D62: =SUMIF(#REF!,"단기민간융자금",#REF!) -> #REF!
C63: 특별회계 | D63: =SUMIF(#REF!,"단기민간융자금",#REF!) -> #REF!
C64: 기금 | D64: =SUMIF(#REF!,"단기민간융자금",#REF!) -> #REF!
C65: 공기업특별회계 | D65: 0
C66: 계 | D66: =SUM(D62:D65) -> #REF!
B67: 장기민간융자금 | C67: 일반회계 | D67: =SUMIF(#REF!,"장기기민간융자금",#REF!) -> #REF!
C68: 특별회계 | D68: =SUMIF(#REF!,"장기민간융자금",#REF!) -> #REF!
C69: 기금 | D69: =SUMIF(#REF!,"장기민간융자금",#REF!) -> #REF!
C70: 공기업특별회계 | D70: 0
C71: 계 | D71: =SUM(D67:D70) -> #REF!
B72: 세출액 | C72: 일반회계 | D72: 645519763410
C73: 특별회계 | D73: 43661011090
C74: 공기업특별회계 | D74: 117542360340
C75: 계 | D75: =SUM(D72:D74) -> 806723134840
B76: 예산현액 | C76: 일반회계 | D76: 804111069920
C77: 특별회계 | D77: 82522157980
C78: 공기업특별회계 | D78: 197408917350
C79: 계 | D79: =SUM(D76:D78) -> 1084042145250
B80: 차입부채 이자비용 | C80: 일반회계 | D80: =SUM(#REF!) -> #REF! | E80: 차입부채 관련 이자비용만 계상해야 함(기타이자비용 등은 제외)
C81: 특별회계
C82: 기금
C83: 공기업특별회계 | D83: =SUM(#REF!) -> #REF!
C84: 계 | D84: =SUM(D80:D83) -> #REF!
B85: 이자비용 | D85: =SUM('재정운영-성질별(당기)'!I31) -> 2160286957
B86: 경상비용 | D86: =SUM('재정운영-성질별(당기)'!I10,'재정운영-성질별(당기)'!I16,'재정운영-성질별(당기)'!I46) -> 156449277164 | F86: 인건비+운영비+재정보전금+조정교부금+교육비특별회계전출금
B87: 기타이전비용 | D87: =SUM('재정운영-성질별(당기)'!I49) -> 100420534360 | F87: ='재정운영-성질별(당기)'!I10+'재정운영-성질별(당기)'!I16+'재정운영-성질별(당기)'!I46 -> 156449277164
B88: 총비용 | D88: =SUM('재정운영-성질별(당기)'!I68) -> 292031351990
B89: 이자수익 | C89: 일반회계 | D89: =SUMIF(#REF!,"이자수익",#REF!) -> #REF!
C90: 특별회계 | D90: =SUMIF(#REF!,"이자수익",#REF!) -> #REF!
C91: 기금 | D91: =SUMIF(#REF!,"이자수익",#REF!) -> #REF! | F91: 상수도 | G91: 하수도
C92: 공기업특별회계 | D92: =F92+G92 -> 4093423915 | E92: 공기업재무제표 참조 | F92: 2904241802 | G92: 1189182113
C93: 계 | D93: =SUM(D89:D92) -> #REF!
B94: 경상수익 | D94: =SUM('재정운영-성질별(당기)'!I71:I72,'재정운영-성질별(당기)'!I76:I78) -> 224540784107 | F94: ='재정운영-성질별(당기)'!I71+'재정운영-성질별(당기)'!I72+'재정운영-성질별(당기)'!I76+'재정운영-성질별(당기)'!I78+'재정운영-성질별(당기)'!I77 -> 224540784107
B95: 자체조달수익 | D95: =SUM('재정운영-성질별(당기)'!I70) -> 119396044246
B96: 지방세수익 | D96: =SUM('재정운영-성질별(당기)'!I71) -> 74738747700
B97: 세외수익 | D97: =SUM('재정운영-성질별(당기)'!I72:I73) -> 44657296546
B98: 총수익 | D98: =SUM('재정운영-성질별(당기)'!I92) -> 356675529660
B99: 경상자체조달수익 | D99: =SUM('재정운영-성질별(당기)'!I71:I72) -> 97581536107
B100: 미수자체조달수익 | D100: =SUM('재정상태(당기)'!I13:I16,재정분석!D50)-D55 -> #REF! | E100: 대손충당금 차감후 계상 | F100: ='재정상태(당기)'!I13+'재정상태(당기)'!I14+'재정상태(당기)'!I15+'재정상태(당기)'!I16+D50-D55 -> #REF!
B101: 미수세외수익 | D101: =SUM('재정상태(당기)'!I15:I16,재정분석!D50)-D55 -> #REF! | E101: 대손충당금 차감후 계상 | F101: ='재정상태(당기)'!I15+'재정상태(당기)'!I16+D50-D55 -> #REF!
B102: 자산취득액 | D102: =SUM(#REF!) -> #REF!
B103: 지출액 | D103: =SUM(#REF!,#REF!,#REF!) -> #REF!
B104: 총급여 | D104: =SUM('재정운영-성질별(당기)'!I11) -> 32876566780

Sheet 차이명세서
A1: 4. 예산회계와 재무회계의 차이에 대한 명세서
A3: 2016년 1월 1일부터 2016년 12월 31일까지
K4: (단위:원)
A5: 구 분 | F5: 일반회계 | G5: 기타 특별회계 | H5: 기금 | I5: 지방공기업 특별회계 | J5: 내부거래 | K5: 금 액
A6: Ⅰ. 2016회계연도 세출액 | F6: 331385565520 | G6: 16533293090 | H6: 1006075680 | I6: 31862533500 | J6: -22301527750 | K6: 358485940040
A7: Ⅱ. 세출 조정사항 | F7: -55130684588 | G7: -7191980457 | H7: -260821685 | I7: -4304370320 | J7: 433269000 | K7: -66454588050
B8: 1. 자금유출이 없는 비용 | D8: 1. 자금유출이 없는 비용 가산 | F8: 19497920614 | G8: 2463710503 | H8: 159324425 | I8: 8349949545 | J8: 0 | K8: 30470905087
C9: 자산처분손실 | E9: 자산처분손실 | F9: 0 | G9: 0 | H9: 0 | I9: 0 | J9: 0 | K9: 0
C10: 자산손상차손 | E10: 자산감액손실 | F10: 1007591 | G10: 0 | H10: 0 | I10: 0 | J10: 0 | K10: 1007591
C11: 감가상각비 | E11: 감가상각비 | F11: 16066251949 | G11: 1896165815 | H11: 159058135 | I11: 8605876766 | J11: 0 | K11: 26727352665
C12: 대손상각비 | E12: 대손상각비 | F12: 1998956220 | G12: 5710 | H12: 0 | I12: 0 | J12: 0 | K12: 1998961930
C13: 퇴직급여 | E13: 퇴직급여 | F13: 881770515 | G13: 51068160 | H13: 0 | I13: 2999189 | J13: 0 | K13: 935837864
C14: 기타 자금유출이 없는 비용 | E14: 기타 자금유출이 없는 비용 | F14: 406877740 | G14: 534287530 | H14: 266290 | I14: 8507640 | J14: 0 | K14: 949939200
C15: 발생주의 기간비용 조정사항 | E15: 발생주의 기간비용 조정사항 | F15: 143056599 | G15: -17816712 | H15: 0 | I15: -267434050 | J15: 0 | K15: -142194163
B16: 2. 자산취득으로 인한 자금 유출액 | D16: 2. 자산취득으로 인한 자금 유출액 차감 | F16: -68267775290 | G16: -7130850750 | H16: -417877460 | I16: -10003915130 | J16: 433269000 | K16: -85387149630
C17: 판매용 부동산 등 취득 | E17: 판매용 재고자산 취득 | F17: -168921520 | G17: 0 | H17: 0 | I17: 0 | J17: 0 | K17: -168921520
C18: 장·단기융자금 대여 | D18: 장·단기대여금의 대여및 보증금의 취득 | E18: 장·단기대여금의 대여및 보증금의 취득 | F18: 0 | G18: 0 | H18: 0 | I18: 0 | J18: 0 | K18: 0
C19: 일반유형자산 취득 | E19: 일반유형자산 취득 | F19: -10734594320 | G19: -7330400 | H19: -214367460 | I19: 0 | J19: 0 | K19: -10956292180
C20: 주민편의시설 취득 | E20: 주민편의시설 취득 | F20: -24243112650 | G20: 0 | H20: 0 | I20: 0 | J20: 0 | K20: -24243112650
C21: 사회기반시설 취득 | E21: 사회기반시설 취득 | F21: -31367069430 | G21: -7123520350 | H21: -203510000 | I21: -10003915130 | J21: 0 | K21: -48698014910
C22: 기타 자산취득으로 인한 자금 유출 | E22: 기타 자산취득으로 인한 자금 유출 | F22: -1754077370 | G22: 0 | H22: 0 | I22: 0 | J22: 433269000 | K22: -1320808370
B23: 3. 부채 상환으로 인한 자금 유출액 | D23: 3. 부채 상환으로 인한 자금 유출액 차감 | F23: -6360829912 | G23: -2524840210 | H23: -2268650 | I23: -2650404735 | J23: 0 | K23: -11538343507
C24: 차입부채 상환 | E24: 차입부채 상환 | F24: -1100000000 | G24: -1700000000 | H24: 0 | I24: 0 | J24: 0 | K24: -2800000000
C25: 보조금 반납 | E25: 보조금 반납 | F25: -5127644600 | G25: -824840210 | H25: -2268650 | I25: 0 | J25: 0 | K25: -5954753460
C26: 퇴직금 지급 | E26: 퇴직금 또는 퇴직보험료 지급 | F26: -85030930 | G26: 0 | H26: 0 | I26: 0 | J26: 0 | K26: -85030930
C27: 기타 부채상환 등으로 인한 자금 유출 | E27: 기타 부채상환으로 인한 자금 유출 | F27: -48154382 | G27: 0 | H27: 0 | I27: -2650404735 | J27: 0 | K27: -2698559117
A28: Ⅲ. 성질별 재정운영보고서의 비용(Ⅰ+Ⅱ) | F28: 276254880932 | G28: 9341312633 | H28: 745253995 | I28: 27558163180 | J28: -21868258750 | K28: 292031351990
A29: Ⅳ. 2016회계연도 세입액 | F29: 400732135450 | G29: 30277939310 | H29: 7600013183 | I29: 57097782150 | J29: -22301527750 | K29: 473406342343
A30: Ⅴ. 세입조정사항 | F30: -59884590320 | G30: -17662346974 | H30: -5767642829 | I30: -33849501560 | J30: 433269000 | K30: -116730812683
B31: 1. 전년도 순세계잉여금 및 이월금 | F31: -59940945780 | G31: -6449562170 | H31: -5785993123 | I31: -17642114140 | J31: 0 | K31: -89818615213
B32: 2. 자금유입이 없는 수익 | F32: 9624517410 | G32: -25977084 | H32: 43146134 | I32: 1822915680 | J32: 0 | K32: 11464602140
C33: 징수결정액과 수납액의 차이 | D33: 징수결정액과 수납액의 차이 | E33: 징수결정액과 수납액의 차이 | F33: 1193023100 | G33: -34496330 | H33: 0 | I33: 3290540 | J33: 0 | K33: 1161817310
C34: 자산처분이익 | D34: 자산처분이익 | E34: 자산처분이익 | F34: 5765893999 | G34: 0 | H34: 0 | I34: 0 | J34: 0 | K34: 5765893999
C35: 대손충당금환입 | D35: 대손충당금환입 | E35: 대손충당금환입 | F35: 23126280 | G35: 2171510 | H35: 0 | I35: 500270 | J35: 0 | K35: 25798060
C36: 퇴직급여충당부채환입 | D36: 퇴직급여충당부채환입 | E36: 퇴직급여충당부채환입 | F36: 0 | G36: 0 | H36: 0 | I36: 0 | J36: 0 | K36: 0
C37: 자산손상차손환입 | D37: 자산감액손실환입 | E37: 자산감액손실환입 | F37: 0 | G37: 0 | H37: 0 | I37: 0 | J37: 0 | K37: 0
C38: 기타 자금유입이 없는 수익 | D38: 기타 자금유입이 없는 수익 | E38: 기타 자금유입이 없는 수익 | F38: 2574916954 | G38: 21160550 | H38: 0 | I38: 0 | J38: 0 | K38: 2596077504
C39: 발생주의 기간수익 조정사항 | D39: 발생주의 기간수익 조정사항 | E39: 발생주의 기간수익 조정사항 | F39: 67557077 | G39: -14812814 | H39: 43146134 | I39: 1819124870 | J39: 0 | K39: 1915015267
B40: 3. 자산처분으로 인한 자금 유입액 | F40: -7075587500 | G40: -11186807720 | H40: 0 | I40: 0 | J40: 0 | K40: -18262395220
C41: 재고자산 판매 | D41: 판매용 재고자산 판매 | E41: 판매용 재고자산 판매 | F41: -799160330 | G41: 0 | H41: 0 | I41: 0 | J41: 0 | K41: -799160330
C42: 장·단기융자금 회수 | D42: 장·단기대여금 회수 | E42: 장·단기대여금 회수 | F42: -88610620 | G42: -175708800 | H42: 0 | I42: 0 | J42: 0 | K42: -264319420
C43: 일반유형자산 처분 | E43: 일반유형자산 취득 | F43: -5854626610 | G43: -11011098920 | H43: 0 | I43: 0 | J43: 0 | K43: -16865725530
C44: 주민편의시설 처분 | E44: 주민편의시설 취득 | F44: -47588700 | G44: 0 | H44: 0 | I44: 0 | J44: 0 | K44: -47588700
C45: 사회기반시설 처분 | E45: 사회기반시설 취득 | F45: -285601240 | G45: 0 | H45: 0 | I45: 0 | J45: 0 | K45: -285601240
C46: 기타 자산처분으로 인한 자금 유입 | D46: 기타 자산처분으로 인한 자금 유입 | E46: 기타 자산처분으로 인한 자금 유입 | F46: 0 | G46: 0 | H46: 0 | I46: 0 | J46: 0 | K46: 0
B47: 4. 부채 증가로 인한 자금 유입액 | D47: 4. 부채 증가로 인한 자금 유입액 차감 | F47: -2492574450 | G47: 0 | H47: -24795840 | I47: 0 | J47: 0 | K47: -2517370290
C48: 차입부채 증가 | E48: 차입부채 증가 | F48: 0 | G48: 0 | H48: 0 | I48: 0 | J48: 0 | K48: 0
C49: 보조금 집행잔액 부채 증가 | E49: 보조금 집행잔액 부채 | F49: -2492574450 | G49: 0 | H49: -24795840 | I49: 0 | J49: 0 | K49: -2517370290
C50: 기타 부채증가로 인한 자금 유입 | E50: 기타 부채증가로 인한 자금 유입 | F50: 0 | G50: 0 | H50: 0 | I50: 0 | J50: 0 | K50: 0
B51: 5. 순자산증가로 인한 자금 유입액 | D51: 5. 순자산증가로 인한 자금 유입액 차감 | F51: 0 | G51: 0 | H51: 0 | I51: -18030303100 | J51: 433269000 | K51: -17597034100
C52: 자본잉여금 수입 | E52: 자본잉여금 수입 | F52: 0 | G52: 0 | H52: 0 | I52: -18030303100 | J52: 433269000 | K52: -17597034100
A53: Ⅵ. 성질별 재정운영보고서의 수익(Ⅳ+Ⅴ) | F53: 340847545130 | G53: 12615592336 | H53: 1832370354 | I53: 23248280590 | J53: -21868258750 | K53: 356675529660
A54: Ⅶ. 재정운영보고서의 재정운영결과(Ⅲ-Ⅵ) | F54: -64592664198 | G54: -3274279703 | H54: -1087116359 | I54: 4309882590 | J54: 0 | K54: -64644177670

Sheet 일반
A1: 5. 재정운영표
A2: 재정운영표(일반회계)
A4: 해당연도 2016년 1월 1일 부터 2016년 12월 31일 까지
A5: 직전연도 2015년 1월 1일 부터 2015년 12월 31일 까지
A6: 진천군청 | G6: (단위:원)
A7: 과목 | B7: 해당연도(2016년) | E7: 직전연도(2015년)
B8: 총원가 | C8: 사업수익 | D8: 순원가 | E8: 총원가 | F8: 사업수익 | G8: 순원가
A10: Ⅰ.사업순원가 | B10: 200637251500 | C10: 109579757430 | D10: 91057494070 | E10: 183172353849 | F10: 112695757850 | G10: 70476595999
A11: 일반공공행정 | B11: 14252474197 | C11: 2229711590 | D11: 12022762607 | E11: 13437229128 | F11: 888058180 | G11: 12549170948
A12: 입법및선거관리 | B12: 582950254 | C12: 0 | D12: 582950254 | E12: 565695160 | F12: 0 | G12: 565695160
A13: 의회사무과 | B13: 582950254 | C13: 0 | D13: 582950254 | E13: 565695160 | F13: 0 | G13: 565695160
A14: 선진 지방자치 구현을 위한 의회상 정립 | B14: 582950254 | C14: 0 | D14: 582950254 | E14: 565695160 | F14: 0 | G14: 565695160
A15: 지방행정ㆍ재정지원 | B15: 439869690 | C15: 0 | D15: 439869690 | E15: 500391806 | F15: 0 | G15: 500391806
A16: 세정과 | B16: 439869690 | C16: 0 | D16: 439869690 | E16: 500391806 | F16: 0 | G16: 500391806
A17: 원활한 재정의 지원 | B17: 439869690 | C17: 0 | D17: 439869690 | E17: 500391806 | F17: 0 | G17: 500391806
A18: 재정ㆍ금융 | B18: 0 | C18: 0 | D18: 0 | E18: - | F18: - | G18: -
A19: 일반행정 | B19: 13229654253 | C19: 2229711590 | D19: 10999942663 | E19: 12371142162 | F19: 888058180 | G19: 11483083982
A20: 기획조정실 | B20: 637358503 | C20: 17668050 | D20: 619690453 | E20: 1730375165 | F20: 20534360 | G20: 1709840805
A21: 군정의 종합기획 및 추진역량 강화 | B21: 336070143 | C21: 0 | D21: 336070143 | E21: 568904692 | F21: 0 | G21: 568904692
A22: 건전하고 효율적인 예산운영관리 | B22: 141817931 | C22: 0 | D22: 141817931 | E22: 174414053 | F22: 0 | G22: 174414053
A23: 투명한 감사운용 | B23: 21690516 | C23: 0 | D23: 21690516 | E23: 18991573 | F23: 0 | G23: 18991573
A24: 정확하고 신뢰받는 법무통계 행정구현 | B24: 137779913 | C24: 17668050 | D24: 120111863 | E24: 140052573 | F24: 20534360 | G24: 119518213
A25: 종합민원과 | B25: 206000974 | C25: 149099110 | D25: 56901864 | E25: 191220992 | F25: 182832650 | G25: 8388342
A26: 군민이 만족하는 민원행정 구현 | B26: 206000974 | C26: 149099110 | D26: 56901864 | E26: 191220992 | F26: 182832650 | G26: 8388342
A27: 행정지원과 | B27: 2489683004 | C27: 175529070 | D27: 2314153934 | E27: 2618079673 | F27: 54690390 | G27: 2563389283
A28: 지방행정역량강화 | B28: 1468150567 | C28: 0 | D28: 1468150567 | E28: 1661595713 | F28: 1427220 | G28: 1660168493
A29: 더불어 함께하는 참다운 이웃사랑 실현 | B29: 337914951 | C29: 43232000 | D29: 294682951 | E29: 339991278 | F29: 41266970 | G29: 298724308
A30: 열린미래를위한자치행정역량강화 | B30: 683617486 | C30: 132297070 | D30: 551320416 | E30: 616492682 | F30: 11996200 | G30: 604496482
... A57: 공공질서및안전 | B57: 684832963 | C57: 44796000 | D57: 640036963 | E57: 731867775 | F57: 407015160 | G57: 324852615
A58: 경찰 | B58: 0 | C58: 0 | D58: 0 | E58: - | F58: - | G58: -
A59: 재난방재ㆍ민방위 | B59: 684832963 | C59: 44796000 | D59: 640036963 | E59: 731867775 | F59: 407015160 | G59: 324852615
A60: 안전건설과 | B60: 684832963 | C60: 44796000 | D60: 640036963 | E60: 731867775 | F60: 407015160 | G60: 324852615
A61: 재해 및 재난예방 | B61: 114729310 | C61: 15771600 | D61: 98957710 | E61: 230584636 | F61: 332773020 | G61: -102188384
A62: 민방위및위기대응 | B62: 289846016 | C62: 18309400 | D62: 271536616 | E62: 377116311 | F62: 63348140 | G62: 313768171
A63: 군민이 체감하는 재난안전 추진 | B63: 280257637 | C63: 10715000 | D63: 269542637 | E63: 124166828 | F63: 10894000 | G63: 113272828
A64: 소방 | B64: 0 | C64: 0 | D64: 0 | E64: - | F64: - | G64: -
A65: 교육 | B65: 4485892133 | C65: 1401724010 | D65: 3084168123 | E65: 4388554680 | F65: 777313520 | G65: 3611241160
A66: 유아및초중등교육 | B66: 4485892133 | C66: 1401724010 | D66: 3084168123 | E66: 4388554680 | F66: 777313520 | G66: 3611241160
A67: 미래전략실 | B67: 553086722 | C67: 663759500 | D67: -110672778 | E67: 0 | F67: 0 | G67: 0
A68: 품격있는 문화교육도시 육성 | B68: 553086722 | C68: 663759500 | D68: -110672778 | E68: 0 | F68: 0 | G68: 0
A69: 평생학습센터 | B69: 3932805411 | C69: 737964510 | D69: 3194840901 | E69: 4388554680 | F69: 777313520 | G69: 3611241160
A70: 건강한 평생교육 중심도시 조성 | B70: 3932805411 | C70: 737964510 | D70: 3194840901 | E70: 4388554680 | F70: 777313520 | G70: 3611241160
A71: 고등교육 | B71: 0 | C71: 0 | D71: 0 | E71: - | F71: - | G71: -
A72: 평생ㆍ직업교육 | B72: 0 | C72: 0 | D72: 0 | E72: - | F72: - | G72: -
A73: 문화및관광 | B73: 11165043911 | C73: 11440235720 | D73: -275191809 | E73: 10886584807 | F73: 5018149420 | G73: 5868435387
A74: 문화예술 | B74: 4348831009 | C74: 3093353250 | D74: 1255477759 | E74: 4169231016 | F74: 1279857990 | G74: 2889373026
A75: 산림축산과 | B75: 643072677 | C75: 0 | D75: 643072677 | E75: 313822497 | F75: 0 | G75: 313822497
A76: 쾌적한 공원관리 | B76: 643072677 | C76: 0 | D76: 643072677 | E76: 313822497 | F76: 0 | G76: 313822497
A77: 문화홍보체육과 | B77: 1764057539 | C77: 2161819800 | D77: -397762261 | E77: 2897298781 | F77: 1212046880 | G77: 1685251901
A78: 군민에게 다가가는 지역문화 창조 | B78: 1764057539 | C78: 2161819800 | D78: -397762261 | E78: 2897298781 | F78: 1212046880 | G78: 1685251901
A79: 평생학습센터 | B79: 1167043482 | C79: 179143660 | D79: 987899822 | E79: 958109738 | F79: 67811110 | G79: 890298628
A80: 행복한 미래문화를 창조하는 도서관 육성 | B80: 1167043482 | C80: 179143660 | D80: 987899822 | E80: 958109738 | F80: 67811110 | G80: 890298628
A81: 시설관리사업소 | B81: 774657311 | C81: 752389790 | D81: 22267521 | E81: 0 | F81: 0 | G81: 0
A82: 문화시설 활용제고 | B82: 471064528 | C82: 746189790 | D82: -275125262 | E82: 0 | F82: 0 | G82: 0
A83: 문화체육시설 활용제고 | B83: 303592783 | C83: 6200000 | D83: 297392783 | E83: 0 | F83: 0 | G83: 0
A84: 관광 | B84: 1506432583 | C84: 1671373000 | D84: -164940417 | E84: 760950348 | F84: 1089876480 | G84: -328926132
... A97: 문화재시설 활용제고 | B97: 69794824 | C97: 35402340 | D97: 34392484 | E97: 0 | F97: 0 | G97: 0
A98: 문화및관광일반 | B98: 0 | C98: 0 | D98: 0 | E98: - | F98: - | G98: -
A99: 환경보호 | B99: 16492377841 | C99: 4858051660 | D99: 11634326181 | E99: 12614657903 | F99: 5961850770 | G99: 6652807133
A100: 상하수도ㆍ수질 | B100: 6738152178 | C100: 3999548000 | D100: 2738604178 | E100: 3336897483 | F100: 1719459840 | G100: 1617437643
A101: 환경위생과 | B101: 5024774412 | C101: 3661274000 | D101: 1363500412 | E101: 76032800 | F101: 99336800 | G101: -23304000
A102: 수질환경보전 | B102: 5024774412 | C102: 3661274000 | D102: 1363500412 | E102: 76032800 | F102: 99336800 | G102: -23304000
A103: 상하수도사업소 | B103: 1713377766 | C103: 338274000 | D103: 1375103766 | E103: 1455576505 | F103: 541275120 | G103: 914301385
A104: 맑은 물의 안정적인 공급 | B104: 900659009 | C104: 318000000 | D104: 582659009 | E104: 823343120 | F104: 496200000 | G104: 327143120
A105: 맑은 물의 보전 및 수질오염 예방 | B105: 812718757 | C105: 20274000 | D105: 792444757 | E105: 632233385 | F105: 45075120 | G105: 587158265
A106: 폐기물 | B106: 9162172404 | C106: 591774100 | D106: 8570398304 | E106: 8673487642 | F106: 4002090560 | G106: 4671397082
A107: 환경위생과 | B107: 9162172404 | C107: 591774100 | D107: 8570398304 | E107: 8673487642 | F107: 4002090560 | G107: 4671397082
A108: 효율적인 폐기물 관리 | B108: 4754002696 | C108: 591774100 | D108: 4162228596 | E108: 4318570421 | F108: 950899470 | G108: 3367670951
A109: 진천음성광역폐기물종합처리장운영관리 | B109: 4408169708 | C109: 0 | D109: 4408169708 | E109: 4354917221 | F109: 3051191090 | G109: 1303726131
A110: 대기 | B110: 145651695 | C110: 160731920 | D110: -15080225 | E110: 73129969 | F110: 153704170 | G110: -80574201
... A115: 자연환경 및 생태계 보호 | B115: 446401564 | C115: 105997640 | D115: 340403924 | E115: 531142809 | F115: 86596200 | G115: 444546609
A116: 해양 | B116: 0 | C116: 0 | D116: 0 | E116: - | F116: - | G116: -
A117: 환경보호일반 | B117: 0 | C117: 0 | D117: 0 | E117: - | F117: - | G117: -
A118: 사회복지 | B118: 62732311364 | C118: 44549605400 | D118: 18182705964 | E118: 59469829072 | F118: 44150970110 | G118: 15318858962
A119: 기초생활보장 | B119: 9752521214 | C119: 7465182060 | D119: 2287339154 | E119: 8910795266 | F119: 6960645450 | G119: 1950149816
A120: 주민복지과 | B120: 9752521214 | C120: 7465182060 | D120: 2287339154 | E120: 8910795266 | F120: 6960645450 | G120: 1950149816
A121: 저소득층 생활안정 지원 | B121: 9752521214 | C121: 7465182060 | D121: 2287339154 | E121: 8910795266 | F121: 6960645450 | G121: 1950149816
A122: 취약계층지원 | B122: 3483028300 | C122: 1780169010 | D122: 1702859290 | E122: 3286572665 | F122: 1637221110 | G122: 1649351555
A123: 주민복지과 | B123: 3483028300 | C123: 1780169010 | D123: 1702859290 | E123: 3286572665 | F123: 1637221110 | G123: 1649351555
A124: 장애인보호 및 복지증진 | B124: 3483028300 | C124: 1780169010 | D124: 1702859290 | E124: 3286572665 | F124: 1637221110 | G124: 1649351555
A125: 보육ㆍ가족및여성 | B125: 20333706871 | C125: 16288585570 | D125: 4045121301 | E125: 18965989909 | F125: 15163959580 | G125: 3802030329
A126: 주민복지과 | B126: 20333706871 | C126: 16288585570 | D126: 4045121301 | E126: 18965989909 | F126: 15163959580 | G126: 3802030329
A127: 영유아 복지증진 | B127: 19222354667 | C127: 15491998280 | D127: 3730356387 | E127: 17869915830 | F127: 14543307350 | G127: 3326608480
A128: 여성 복지 증진 | B128: 1111352204 | C128: 796587290 | D128: 314764914 | E128: 1096074079 | F128: 620652230 | G128: 475421849
A129: 노인ㆍ청소년 | B129: 27745466224 | C129: 18759703230 | D129: 8985762994 | E129: 27072998070 | F129: 20283852300 | G129: 6789145770
... A142: 국가보훈관리 및 지원 | B142: 869794917 | C142: 648620 | D142: 869146297 | E142: 843705897 | F142: 521670 | G142: 843184227
A143: 주택 | B143: 0 | C143: 0 | D143: 0 | E143: - | F143: - | G143: -
A144: 사회복지일반 | B144: 0 | C144: 0 | D144: 0 | E144: - | F144: - | G144: -
A145: 보건 | B145: 5905037947 | C145: 2878207180 | D145: 3026830767 | E145: 5382729782 | F145: 2790532230 | G145: 2592197552
A146: 보건의료 | B146: 5428420027 | C146: 2712371650 | D146: 2716048377 | E146: 4997179762 | F146: 2686830560 | G146: 2310349202
A147: 보건소 | B147: 5428420027 | C147: 2712371650 | D147: 2716048377 | E147: 4997179762 | F147: 2686830560 | G147: 2310349202
A148: 군민의 건강증진 | B148: 5223423987 | C148: 2712371650 | D148: 2511052337 | E148: 4819817413 | F148: 2686830560 | G148: 2132986853
A149: 보건진료소 예산운영 | B149: 204996040 | C149: 0 | D149: 204996040 | E149: 177362349 | F149: 0 | G149: 177362349
A150: 식품의약안전 | B150: 476617920 | C150: 165835530 | D150: 310782390 | E150: 385550020 | F150: 103701670 | G150: 281848350
A151: 환경위생과 | B151: 476617920 | C151: 165835530 | D151: 310782390 | E151: 385550020 | F151: 103701670 | G151: 281848350
A152: 위생관리 | B152: 476617920 | C152: 165835530 | D152: 310782390 | E152: 385550020 | F152: 103701670 | G152: 281848350
A153: 농림해양수산 | B153: 50757582788 | C153: 31779019770 | D153: 18978563018 | E153: 55122464956 | F153: 30877417520 | G153: 24245047436
A154: 농업ㆍ농촌 | B154: 43685399083 | C154: 27579061320 | D154: 16106337763 | E154: 48305696819 | F154: 27103924940 | G154: 21201771879
A155: 경제교통과 | B155: 11147607 | C155: 0 | D155: 11147607 | E155: 0 | F155: 0 | G155: 0
A156: 농촌생활 환경개선 | B156: 11147607 | C156: 0 | D156: 11147607 | E156: 0 | F156: 0 | G156: 0
...

Sheet 상수도
A2: 재정운영표( 상수도사업특별회계 )
A4: 해당연도 2016년 1월 1일 부터 2016년 12월 31일 까지
A5: 직전연도 2015년 1월 1일 부터 2015년 12월 31일 까지
A6: 진천군청 | G6: (단위 : 원)
A7: 과목 | B7: 해당연도(2016년) | E7: 직전연도(2015년)
B8: 총원가 | C8: 사업수익 | D8: 순원가 | E8: 총원가 | F8: 사업수익 | G8: 순원가
A10: Ⅰ.사업순원가 | B10: 9485038540 | C10: 14113065040 | D10: -4628026500 | E10: 10565719045 | F10: 10006221580 | G10: 559497465
A11: 일반공공행정 | B11: - | C11: - | D11: - | E11: - | F11: - | G11: -
A12: 입법및선거관리 | B12: - | C12: - | D12: - | E12: - | F12: - | G12: -
A13: 지방행정ㆍ재정지원 | B13: - | C13: - | D13: - | E13: - | F13: - | G13: -
A14: 재정ㆍ금융 | B14: - | C14: - | D14: - | E14: - | F14: - | G14: -
A15: 일반행정 | B15: - | C15: - | D15: - | E15: - | F15: - | G15: -
A16: 공공질서및안전 | B16: - | C16: - | D16: - | E16: - | F16: - | G16: -
A17: 경찰 | B17: - | C17: - | D17: - | E17: - | F17: - | G17: -
A18: 재난방재ㆍ민방위 | B18: - | C18: - | D18: - | E18: - | F18: - | G18: -
A19: 소방 | B19: - | C19: - | D19: - | E19: - | F19: - | G19: -
A20: 교육 | B20: - | C20: - | D20: - | E20: - | F20: - | G20: -
A21: 유아및초중등교육 | B21: - | C21: - | D21: - | E21: - | F21: - | G21: -
A22: 고등교육 | B22: - | C22: - | D22: - | E22: - | F22: - | G22: -
... A29: 문화및관광일반 | B29: - | C29: - | D29: - | E29: - | F29: - | G29: -
A30: 환경보호 | B30: 9485038540 | C30: 14113065040 | D30: -4628026500 | E30: 10565719045 | F30: 10006221580 | G30: 559497465
A31: 상하수도ㆍ수질 | B31: 9485038540 | C31: 14113065040 | D31: -4628026500 | E31: 10565719045 | F31: 10006221580 | G31: 559497465
A32: 상하수도사업소 | B32: 9485038540 | C32: 14113065040 | D32: -4628026500 | E32: 10565719045 | F32: 10006221580 | G32: 559497465
A33: 맑은 물의 안정적인 공급 | B33: 9485038540 | C33: 14113065040 | D33: -4628026500 | E33: 10565719045 | F33: 10006221580 | G33: 559497465
A34: 폐기물 | B34: - | C34: - | D34: - | E34: - | F34: - | G34: -
A35: 대기 | B35: - | C35: - | D35: - | E35: - | F35: - | G35: -
A36: 자연 | B36: - | C36: - | D36: - | E36: - | F36: - | G36: -
A37: 해양 | B37: - | C37: - | D37: - | E37: - | F37: - | G37: -
A38: 환경보호일반 | B38: - | C38: - | D38: - | E38: - | F38: - | G38: -
A39: 사회복지 | B39: - | C39: - | D39: - | E39: - | F39: - | G39: -
A40: 기초생활보장 | B40: - | C40: - | D40: - | E40: - | F40: - | G40: -
A41: 취약계층지원 | B41: - | C41: - | D41: - | E41: - | F41: - | G41: -
A42: 보육ㆍ가족및여성 | B42: - | C42: - | D42: - | E42: - | F42: - | G42: -
A43: 노인ㆍ청소년 | B43: - | C43: - | D43: - | E43: - | F43: - | G43: -
A44: 노동 | B44: - | C44: - | D44: - | E44: - | F44: - | G44: -
A45: 보훈 | B45: - | C45: - | D45: - | E45: - | F45: - | G45: -
... A79: 기타 | B79: - | C79: - | D79: - | E79: - | F79: - | G79: -
A80: Ⅱ.관리운영비 | B80: 0 | C80: 0 | D80: 1507812729 | E80: 0 | F80: 0 | G80: 779410224
A81: 1.인건비 | B81: 0 | C81: 0 | D81: 832523229 | E81: 0 | F81: 0 | G81: 779410224
A82: 급여 | B82: 0 | C82: 0 | D82: 797141760 | E82: 0 | F82: 0 | G82: 772683940
A83: 복리후생비 | B83: 0 | C83: 0 | D83: - | E83: 0 | F83: 0 | G83: -
A84: 기타인건비 | B84: 0 | C84: 0 | D84: 32382280 | E84: 0 | F84: 0 | G84: 0
A85: 퇴직급여 | B85: 0 | C85: 0 | D85: 2999189 | E85: 0 | F85: 0 | G85: 6726284
A86: 2.경비 | B86: 0 | C86: 0 | D86: 675289500 | E86: 0 | F86: 0 | G86: 0
A87: 도서구입및인쇄비 | B87: 0 | C87: 0 | D87: - | E87: 0 | F87: 0 | G87: 0
A88: 소모품비 | B88: 0 | C88: 0 | D88: 110670400 | E88: 0 | F88: 0 | G88: 0
A89: 홍보및광고비 | B89: 0 | C89: 0 | D89: - | E89: 0 | F89: 0 | G89: 0
A90: 지급수수료 | B90: 0 | C90: 0 | D90: 9459610 | E90: 0 | F90: 0 | G90: 0
A91: 일반유형자산수선유지비 | B91: 0 | C91: 0 | D91: - | E91: 0 | F91: 0 | G91: 0
A92: 주민편의시설수선유지비 | B92: 0 | C92: 0 | D92: - | E92: 0 | F92: 0 | G92: 0
A93: 사회기반시설수선유지비 | B93: 0 | C93: 0 | D93: 526874430 | E93: 0 | F93: 0 | G93: 0
A94: 기타자산수선유지비 | B94: 0 | C94: 0 | D94: - | E94: 0 | F94: 0 | G94: 0
A95: 교육훈련비 | B95: 0 | C95: 0 | D95: - | E95: 0 | F95: 0 | G95: 0
A96: 제세공과금 | B96: 0 | C96: 0 | D96: - | E96: 0 | F96: 0 | G96: 0
A97: 보험료및공제료 | B97: 0 | C97: 0 | D97: - | E97: 0 | F97: 0 | G97: 0
A98: 임차료 | B98: 0 | C98: 0 | D98: - | E98: 0 | F98: 0 | G98: 0
A99: 출장비 | B99: 0 | C99: 0 | D99: 23631000 | E99: 0 | F99: 0 | G99: 0
A100: 연구개발비 | B100: 0 | C100: 0 | D100: - | E100: 0 | F100: 0 | G100: 0
A101: 업무추진비 | B101: 0 | C101: 0 | D101: 4654060 | E101: 0 | F101: 0 | G101: 0
A102: 행사비 | B102: 0 | C102: 0 | D102: - | E102: 0 | F102: 0 | G102: 0
A103: 의회비 | B103: 0 | C103: 0 | D103: - | E103: 0 | F103: 0 | G103: 0
A104: 위탁대행사업비 | B104: 0 | C104: 0 | D104: - | E104: 0 | F104: 0 | G104: 0
A105: 예술단운동부운영비 | B105: 0 | C105: 0 | D105: - | E105: 0 | F105: 0 | G105: 0
A106: 주민자치활동운영비 | B106: 0 | C106: 0 | D106: - | E106: 0 | F106: 0 | G106: 0
A107: 징수교부금 | B107: 0 | C107: 0 | D107: - | E107: 0 | F107: 0 | G107: 0
A108: 연료비 | B108: 0 | C108: 0 | D108: - | E108: 0 | F108: 0 | G108: 0
A109: 원·정수구입비 | B109: 0 | C109: 0 | D109: - | E109: 0 | F109: 0 | G109: 0
A110: 용지·주택매출원가 | B110: 0 | C110: 0 | D110: - | E110: 0 | F110: 0 | G110: 0
A111: 공립대학운영비 | B111: 0 | C111: 0 | D111: - | E111: 0 | F111: 0 | G111: 0
A112: 기타운영비 | B112: 0 | C112: 0 | D112: - | E112: 0 | F112: 0 | G112: 0
A113: 3.정부간이전비용 | B113: 0 | C113: 0 | D113: - | E113: 0 | F113: 0 | G113: 0
... A128: 기타이전비용 | B128: 0 | C128: 0 | D128: - | E128: 0 | F128: 0 | G128: 0
A129: Ⅲ.비배분비용 | B129: 0 | C129: 0 | D129: 2605578542 | E129: 0 | F129: 0 | G129: 0
A130: 1.운영비 | B130: 0 | C130: 0 | D130: - | E130: 0 | F130: 0 | G130: 0
A131: 이자비용 | B131: 0 | C131: 0 | D131: - | E131: 0 | F131: 0 | G131: 0
A132: 1.기타비용 | B132: 0 | C132: 0 | D132: 2605578542 | E132: 0 | F132: 0 | G132: 0
A133: 자산처분손실 | B133: 0 | C133: 0 | D133: - | E133: 0 | F133: 0 | G133: 0
A134: 자산손상차손 | B134: 0 | C134: 0 | D134: - | E134: 0 | F134: 0 | G134: 0
A135: 일반유형자산감가상각비 | B135: 0 | C135: 0 | D135: - | E135: 0 | F135: 0 | G135: 0
A136: 주민편의시설감가상각비 | B136: 0 | C136: 0 | D136: - | E136: 0 | F136: 0 | G136: 0
A137: 사회기반시설감가상각비 | B137: 0 | C137: 0 | D137: 2592418162 | E137: 0 | F137: 0 | G137: 0
A138: 무형자산상각비 | B138: 0 | C138: 0 | D138: 11756000 | E138: 0 | F138: 0 | G138: 0
A139: 외화환산손실 | B139: 0 | C139: 0 | D139: - | E139: 0 | F139: 0 | G139: 0
A140: 외환차손 | B140: 0 | C140: 0 | D140: - | E140: 0 | F140: 0 | G140: 0
A141: 대손상각비 | B141: 0 | C141: 0 | D141: - | E141: 0 | F141: 0 | G141: 0
A142: 기타비용 | B142: 0 | C142: 0 | D142: 1404380 | E142: 0 | F142: 0 | G142: 0
A143: Ⅳ.비배분수익 | B143: 0 | C143: 0 | D143: 65152110 | E143: 0 | F143: 0 | G143: 47581940
A144: 1.자체조달수익 | B144: 0 | C144: 0 | D144: 65152110 | E144: 0 | F144: 0 | G144: 34130940
A145: 경상세외수익 | B145: 0 | C145: 0 | D145: 29276140 | E145: 0 | F145: 0 | G145: 13931630
A146: 임시세외수익 | B146: 0 | C146: 0 | D146: 35875970 | E146: 0 | F146: 0 | G146: 20199310
A147: 2.기타수익 | B147: 0 | C147: 0 | D147: 0 | E147: 0 | F147: 0 | G147: 13451000
A148: 전입금수익 | B148: 0 | C148: 0 | D148: 0 | E148: 0 | F148: 0 | G148: -
A149: 외화환산이익 | B149: 0 | C149: 0 | D149: 0 | E149: 0 | F149: 0 | G149: -
A150: 외환차익 | B150: 0 | C150: 0 | D150: 0 | E150: 0 | F150: 0 | G150: -
A151: 대손충당금환입 | B151: 0 | C151: 0 | D151: 0 | E151: 0 | F151: 0 | G151: -
A152: 퇴직급여충당부채환입 | B152: 0 | C152: 0 | D152: 0 | E152: 0 | F152: 0 | G152: -
A153: 자산손상차손환입 | B153: 0 | C153: 0 | D153: 0 | E153: 0 | F153: 0 | G153: -
A154: 기타수익 | B154: 0 | C154: 0 | D154: 0 | E154: 0 | F154: 0 | G154: -
A155: 기타비배분수익 | B155: 0 | C155: 0 | D155: 0 | E155: 0 | F155: 0 | G155: 13451000
A156: Ⅴ.재정운영순원가(Ⅰ+Ⅱ+Ⅲ-Ⅳ) | B156: 0 | C156: 0 | D156: -579787339 | E156: 0 | F156: 0 | G156: 1291325749
...

Sheet 하수도
A2: 재정운영표( 하수도사업특별회계 )
A4: 해당연도 2016년 1월 1일 부터 2016년 12월 31일 까지
A5: 직전연도 2015년 1월 1일 부터 2015년 12월 31일 까지
A6: 진천군청 | G6: (단위 : 원)
A7: 과목 | B7: 해당연도(2016년) | E7: 직전연도(2015년)
B8: 총원가 | C8: 사업수익 | D8: 순원가 | E8: 총원가 | F8: 사업수익 | G8: 순원가
A10: Ⅰ.사업순원가 | B10: 5187928340 | C10: 1056308490 | D10: 4131619850 | E10: 12813109517 | F10: 919057360 | G10: 11894052157
A11: 일반공공행정 | B11: - | C11: - | D11: - | E11: - | F11: - | G11: -
A12: 입법및선거관리 | B12: - | C12: - | D12: - | E12: - | F12: - | G12: -
A13: 지방행정ㆍ재정지원 | B13: - | C13: - | D13: - | E13: - | F13: - | G13: -
A14: 재정ㆍ금융 | B14: - | C14: - | D14: - | E14: - | F14: - | G14: -
A15: 일반행정 | B15: - | C15: - | D15: - | E15: - | F15: - | G15: -
A16: 공공질서및안전 | B16: - | C16: - | D16: - | E16: - | F16: - | G16: -
A17: 경찰 | B17: - | C17: - | D17: - | E17: - | F17: - | G17: -
A18: 재난방재ㆍ민방위 | B18: - | C18: - | D18: - | E18: - | F18: - | G18: -
A19: 소방 | B19: - | C19: - | D19: - | E19: - | F19: - | G19: -
A20: 교육 | B20: - | C20: - | D20: - | E20: - | F20: - | G20: -
A21: 유아및초중등교육 | B21: - | C21: - | D21: - | E21: - | F21: - | G21: -
A22: 고등교육 | B22: - | C22: - | D22: - | E22: - | F22: - | G22: -
... A29: 문화및관광일반 | B29: - | C29: - | D29: - | E29: - | F29: - | G29: -
A30: 환경보호 | B30: 5187928340 | C30: 1056308490 | D30: 4131619850 | E30: 12813109517 | F30: 919057360 | G30: 11894052157
A31: 상하수도ㆍ수질 | B31: 5187928340 | C31: 1056308490 | D31: 4131619850 | E31: 12813109517 | F31: 919057360 | G31: 11894052157
A32: 상하수도사업소 | B32: 5187928340 | C32: 1056308490 | D32: 4131619850 | E32: 12813109517 | F32: 919057360 | G32: 11894052157
A33: 맑은 물의 보전 및 수질오염 예방 | B33: 5187928340 | C33: 1056308490 | D33: 4131619850 | E33: 12813109517 | F33: 919057360 | G33: 11894052157
A34: 하수도분야 중기재정계획 수립 | B34: - | C34: - | D34: - | E34: - | F34: - | G34: -
A35: 폐기물 | B35: - | C35: - | D35: - | E35: - | F35: - | G35: -
A36: 대기 | B36: - | C36: - | D36: - | E36: - | F36: - | G36: -
A37: 자연 | B37: - | C37: - | D37: - | E37: - | F37: - | G37: -
A38: 해양 | B38: - | C38: - | D38: - | E38: - | F38: - | G38: -
A39: 환경보호일반 | B39: - | C39: - | D39: - | E39: - | F39: - | G39: -
A40: 사회복지 | B40: - | C40: - | D40: - | E40: - | F40: - | G40: -
A41: 기초생활보장 | B41: - | C41: - | D41: - | E41: - | F41: - | G41: -
A42: 취약계층지원 | B42: - | C42: - | D42: - | E42: - | F42: - | G42: -
A43: 보육ㆍ가족및여성 | B43: - | C43: - | D43: - | E43: - | F43: - | G43: -
A44: 노인ㆍ청소년 | B44: - | C44: - | D44: - | E44: - | F44: - | G44: -
A45: 노동 | B45: - | C45: - | D45: - | E45: - | F45: - | G45: -
... A80: 기타 | B80: - | C80: - | D80: - | E80: - | F80: - | G80: -
A81: Ⅱ.관리운영비 | B81: 0 | C81: 0 | D81: 1276587500 | E81: 0 | F81: 0 | G81: 746452090
A82: 1.인건비 | B82: 0 | C82: 0 | D82: 461359160 | E82: 0 | F82: 0 | G82: 451248230
A83: 급여 | B83: 0 | C83: 0 | D83: 461359160 | E83: 0 | F83: 0 | G83: 451248230
A84: 복리후생비 | B84: 0 | C84: 0 | D84: - | E84: 0 | F84: 0 | G84: -
A85: 기타인건비 | B85: 0 | C85: 0 | D85: - | E85: 0 | F85: 0 | G85: -
A86: 퇴직급여 | B86: 0 | C86: 0 | D86: - | E86: 0 | F86: 0 | G86: -
A87: 2.경비 | B87: 0 | C87: 0 | D87: 815228340 | E87: 0 | F87: 0 | G87: 295203860
A88: 도서구입및인쇄비 | B88: 0 | C88: 0 | D88: - | E88: 0 | F88: 0 | G88: -
A89: 소모품비 | B89: 0 | C89: 0 | D89: 13988500 | E89: 0 | F89: 0 | G89: 0
A90: 홍보및광고비 | B90: 0 | C90: 0 | D90: - | E90: 0 | F90: 0 | G90: 0
A91: 지급수수료 | B91: 0 | C91: 0 | D91: 7265000 | E91: 0 | F91: 0 | G91: 0
A92: 일반유형자산수선유지비 | B92: 0 | C92: 0 | D92: - | E92: 0 | F92: 0 | G92: 0
A93: 주민편의시설수선유지비 | B93: 0 | C93: 0 | D93: - | E93: 0 | F93: 0 | G93: 0
A94: 사회기반시설수선유지비 | B94: 0 | C94: 0 | D94: 779504840 | E94: 0 | F94: 0 | G94: 0
A95: 기타자산수선유지비 | B95: 0 | C95: 0 | D95: - | E95: 0 | F95: 0 | G95: -
A96: 교육훈련비 | B96: 0 | C96: 0 | D96: - | E96: 0 | F96: 0 | G96: -
A97: 제세공과금 | B97: 0 | C97: 0 | D97: - | E97: 0 | F97: 0 | G97: -
A98: 보험료및공제료 | B98: 0 | C98: 0 | D98: - | E98: 0 | F98: 0 | G98: -
A99: 임차료 | B99: 0 | C99: 0 | D99: - | E99: 0 | F99: 0 | G99: -
A100: 출장비 | B100: 0 | C100: 0 | D100: 14470000 | E100: 0 | F100: 0 | G100: 16781000
A101: 연구개발비 | B101: 0 | C101: 0 | D101: 0 | E101: 0 | F101: 0 | G101: 64240000
A102: 업무추진비 | B102: 0 | C102: 0 | D102: 0 | E102: 0 | F102: 0 | G102: -
A103: 행사비 | B103: 0 | C103: 0 | D103: 0 | E103: 0 | F103: 0 | G103: -
A104: 의회비 | B104: 0 | C104: 0 | D104: 0 | E104: 0 | F104: 0 | G104: -
A105: 위탁대행사업비 | B105: 0 | C105: 0 | D105: 0 | E105: 0 | F105: 0 | G105: -
A106: 예술단운동부운영비 | B106: 0 | C106: 0 | D106: 0 | E106: 0 | F106: 0 | G106: -
A107: 주민자치활동운영비 | B107: 0 | C107: 0 | D107: 0 | E107: 0 | F107: 0 | G107: -
A108: 징수교부금 | B108: 0 | C108: 0 | D108: 0 | E108: 0 | F108: 0 | G108: -
A109: 연료비 | B109: 0 | C109: 0 | D109: 0 | E109: 0 | F109: 0 | G109: -
A110: 원·정수구입비 | B110: 0 | C110: 0 | D110: 0 | E110: 0 | F110: 0 | G110: -
A111: 용지·주택매출원가 | B111: 0 | C111: 0 | D111: 0 | E111: 0 | F111: 0 | G111: -
A112: 공립대학운영비 | B112: 0 | C112: 0 | D112: 0 | E112: 0 | F112: 0 | G112: -
A113: 기타운영비 | B113: 0 | C113: 0 | D113: 0 | E113: 0 | F113: 0 | G113: 214182860
A114: 3.정부간이전비용 | B114: 0 | C114: 0 | D114: - | E114: 0 | F114: 0 | G114: -
A115: 시도비보조금 | B115: 0 | C115: 0 | D115: - | E115: 0 | F115: 0 | G115: -
A116: 자치구 조정교부금 | B116: 0 | C116: 0 | D116: - | E116: 0 | F116: 0 | G116: -
A117: 시군 조정교부금 | B117: 0 | C117: 0 | D117: - | E117: 0 | F117: 0 | G117: -
A118: 지방자치단체간부담금 | B118: 0 | C118: 0 | D118: - | E118: 0 | F118: 0 | G118: -
A119: 국가에대한부담금 | B119: 0 | C119: 0 | D119: - | E119: 0 | F119: 0 | G119: -
A120: 교육비특별회계전출금 | B120: 0 | C120: 0 | D120: - | E120: 0 | F120: 0 | G120: -
A121: 교육기관운영비보조금 | B121: 0 | C121: 0 | D121: - | E121: 0 | F121: 0 | G121: -
A122: 4.민간등이전비용 | B122: 0 | C122: 0 | D122: - | E122: 0 | F122: 0 | G122: -
A123: 민간보조금 | B123: 0 | C123: 0 | D123: - | E123: 0 | F123: 0 | G123: -
A124: 민간장학금 | B124: 0 | C124: 0 | D124: - | E124: 0 | F124: 0 | G124: -
A125: 이차보전금 | B125: 0 | C125: 0 | D125: - | E125: 0 | F125: 0 | G125: -
... A129: 기타이전비용 | B129: 0 | C129: 0 | D129: - | E129: 0 | F129: 0 | G129: -
A130: Ⅲ.비배분비용 | B130: 0 | C130: 0 | D130: 7495217529 | E130: 0 | F130: 0 | G130: 82089800
A131: 1.운영비 | B131: 0 | C131: 0 | D131: 1486411665 | E131: 0 | F131: 0 | G131: 0
A132: 이자비용 | B132: 0 | C132: 0 | D132: 1486411665 | E132: 0 | F132: 0 | G132: 0
A133: 2.기타비용 | B133: 0 | C133: 0 | D133: 6008805864 | E133: 0 | F133: 0 | G133: 82089800
A134: 자산처분손실 | B134: 0 | C134: 0 | D134: - | E134: 0 | F134: 0 | G134: -
A135: 자산손상차손 | B135: 0 | C135: 0 | D135: - | E135: 0 | F135: 0 | G135: -
A136: 일반유형자산감가상각비 | B136: 0 | C136: 0 | D136: - | E136: 0 | F136: 0 | G136: -
A137: 주민편의시설감가상각비 | B137: 0 | C137: 0 | D137: - | E137: 0 | F137: 0 | G137: -
A138: 사회기반시설감가상각비 | B138: 0 | C138: 0 | D138: 6001702604 | E138: 0 | F138: 0 | G138: 0
A139: 무형자산상각비 | B139: 0 | C139: 0 | D139: - | E139: 0 | F139: 0 | G139: -
A140: 외화환산손실 | B140: 0 | C140: 0 | D140: - | E140: 0 | F140: 0 | G140: -
A141: 외환차손 | B141: 0 | C141: 0 | D141: - | E141: 0 | F141: 0 | G141: -
A142: 대손상각비 | B142: 0 | C142: 0 | D142: 0 | E142: 0 | F142: 0 | G142: 2128460
A143: 기타비용 | B143: 0 | C143: 0 | D143: 7103260 | E143: 0 | F143: 0 | G143: 79961340
A144: Ⅳ.비배분수익 | B144: 0 | C144: 0 | D144: 224131950 | E144: 0 | F144: 0 | G144: 122451370
A145: 1.자체조달수익 | B145: 0 | C145: 0 | D145: 223631680 | E145: 0 | F145: 0 | G145: 122451370
A146: 경상세외수익 | B146: 0 | C146: 0 | D146: 193923980 | E146: 0 | F146: 0 | G146: 107847510
...

Sheet 폐수종말
A2: 재정운영표( 폐수종말처리시설운영특별회계 )
A4: 해당연도 2016년 1월 1일 부터 2016년 12월 31일 까지
A5: 직전연도 2015년 1월 1일 부터 2015년 12월 31일 까지
A6: 진천군청 | G6: (단위 : 원)
A7: 과목 | B7: 해당연도(2016년) | E7: 직전연도(2015년)
B8: 총원가 | C8: 사업수익 | D8: 순원가 | E8: 총원가 | F8: 사업수익 | G8: 순원가
A10: Ⅰ.사업순원가 | B10: 1931390459 | C10: 0 | D10: 1931390459 | E10: 1754860637 | F10: 1749371320 | G10: 5489317
A11: 일반공공행정 | B11: - | C11: 0 | D11: - | E11: - | F11: - | G11: -
A12: 입법및선거관리 | B12: - | C12: 0 | D12: - | E12: - | F12: - | G12: -
A13: 지방행정ㆍ재정지원 | B13: - | C13: 0 | D13: - | E13: - | F13: - | G13: -
A14: 재정ㆍ금융 | B14: - | C14: 0 | D14: - | E14: - | F14: - | G14: -
A15: 일반행정 | B15: - | C15: 0 | D15: - | E15: - | F15: - | G15: -
A16: 공공질서및안전 | B16: - | C16: 0 | D16: - | E16: - | F16: - | G16: -
A17: 경찰 | B17: - | C17: 0 | D17: - | E17: - | F17: - | G17: -
A18: 재난방재ㆍ민방위 | B18: - | C18: 0 | D18: - | E18: - | F18: - | G18: -
A19: 소방 | B19: - | C19: 0 | D19: - | E19: - | F19: - | G19: -
A20: 교육 | B20: - | C20: 0 | D20: - | E20: - | F20: - | G20: -
A21: 유아및초중등교육 | B21: - | C21: 0 | D21: - | E21: - | F21: - | G21: -
A22: 고등교육 | B22: - | C22: 0 | D22: - | E22: - | F22: - | G22: -
... A29: 문화및관광일반 | B29: - | C29: 0 | D29: - | E29: - | F29: - | G29: -
A30: 환경보호 | B30: 1931390459 | C30: 0 | D30: 1931390459 | E30: 1754860637 | F30: 1749371320 | G30: 5489317
A31: 상하수도ㆍ수질 | B31: 1931390459 | C31: 0 | D31: 1931390459 | E31: 1754860637 | F31: 1749371320 | G31: 5489317
A32: 환경위생과 | B32: 1931390459 | C32: 0 | D32: 1931390459 | E32: 1754860637 | F32: 1749371320 | G32: 5489317
A33: 수질환경보전 | B33: 1931390459 | C33: 0 | D33: 1931390459 | E33: 1754860637 | F33: 1749371320 | G33: 5489317
A34: 폐기물 | B34: - | C34: 0 | D34: - | E34: - | F34: - | G34: -
A35: 대기 | B35: - | C35: 0 | D35: - | E35: - | F35: - | G35: -
A36: 자연 | B36: - | C36: 0 | D36: - | E36: - | F36: - | G36: -
A37: 해양 | B37: - | C37: 0 | D37: - | E37: - | F37: - | G37: -
A38: 환경보호일반 | B38: - | C38: 0 | D38: - | E38: - | F38: - | G38: -
A39: 사회복지 | B39: - | C39: 0 | D39: - | E39: - | F39: - | G39: -
A40: 기초생활보장 | B40: - | C40: 0 | D40: - | E40: - | F40: - | G40: -
A41: 취약계층지원 | B41: - | C41: 0 | D41: - | E41: - | F41: - | G41: -
A42: 보육ㆍ가족및여성 | B42: - | C42: 0 | D42: - | E42: - | F42: - | G42: -
A43: 노인ㆍ청소년 | B43: - | C43: 0 | D43: - | E43: - | F43: - | G43: -
A44: 노동 | B44: - | C44: 0 | D44: - | E44: - | F44: - | G44: -
A45: 보훈 | B45: - | C45: 0 | D45: - | E45: - | F45: - | G45: -
... A79: 기타 | B79: - | C79: 0 | D79: - | E79: - | F79: - | G79: -
A80: Ⅱ.관리운영비 | B80: 0 | C80: 0 | D80: 0 | E80: 0 | F80: 0 | G80: 0
A81: 1.인건비 | B81: - | C81: 0 | D81: - | E81: 0 | F81: 0 | G81: -
A82: 급여 | B82: - | C82: 0 | D82: - | E82: 0 | F82: 0 | G82: -
A83: 복리후생비 | B83: - | C83: 0 | D83: - | E83: 0 | F83: 0 | G83: -
A84: 기타인건비 | B84: - | C84: 0 | D84: - | E84: 0 | F84: 0 | G84: -
A85: 퇴직급여 | B85: - | C85: 0 | D85: - | E85: 0 | F85: 0 | G85: -
A86: 2.경비 | B86: - | C86: 0 | D86: - | E86: 0 | F86: 0 | G86: -
A87: 도서구입및인쇄비 | B87: - | C87: 0 | D87: - | E87: 0 | F87: 0 | G87: -
A88: 소모품비 | B88: - | C88: 0 | D88: - | E88: 0 | F88: 0 | G88: -
A89: 홍보및광고비 | B89: - | C89: 0 | D89: - | E89: 0 | F89: 0 | G89: -
A90: 지급수수료 | B90: - | C90: 0 | D90: - | E90: 0 | F90: 0 | G90: -
A91: 일반유형자산수선유지비 | B91: - | C91: 0 | D91: - | E91: 0 | F91: 0 | G91: -
A92: 주민편의시설수선유지비 | B92: - | C92: 0 | D92: - | E92: 0 | F92: 0 | G92: -
... A128: 기타이전비용 | B128: - | C128: 0 | D128: - | E128: 0 | F128: 0 | G128: -
A129: Ⅲ.비배분비용 | B129: 0 | C129: 0 | D129: 1639200764 | E129: 0 | F129: 0 | G129: 366262157
A130: 1.운영비 | B130: 0 | C130: 0 | D130: - | E130: 0 | F130: 0 | G130: -
A131: 이자비용 | B131: 0 | C131: 0 | D131: - | E131: 0 | F131: 0 | G131: -
A132: 1.기타비용 | B132: 0 | C132: 0 | D132: 1639200764 | E132: 0 | F132: 0 | G132: 366262157
A133: 자산처분손실 | B133: 0 | C133: 0 | D133: - | E133: 0 | F133: 0 | G133: -
A134: 자산손상차손 | B134: 0 | C134: 0 | D134: - | E134: 0 | F134: 0 | G134: -
A135: 일반유형자산감가상각비 | B135: 0 | C135: 0 | D135: - | E135: 0 | F135: 0 | G135: -
A136: 주민편의시설감가상각비 | B136: 0 | C136: 0 | D136: - | E136: 0 | F136: 0 | G136: -
A137: 사회기반시설감가상각비 | B137: 0 | C137: 0 | D137: 1104913234 | E137: 0 | F137: 0 | G137: 366230467
A138: 무형자산상각비 | B138: 0 | C138: 0 | D138: - | E138: 0 | F138: 0 | G138: -
A139: 외화환산손실 | B139: 0 | C139: 0 | D139: - | E139: 0 | F139: 0 | G139: -
A140: 외환차손 | B140: 0 | C140: 0 | D140: - | E140: 0 | F140: 0 | G140: -
A141: 대손상각비 | B141: 0 | C141: 0 | D141: 0 | E141: 0 | F141: 0 | G141: 31690
A142: 기타비용 | B142: 0 | C142: 0 | D142: 534287530 | E142: 0 | F142: 0 | G142: 0
A143: Ⅳ.비배분수익 | B143: 0 | C143: 0 | D143: 249637317 | E143: 0 | F143: 0 | G143: 286990580
A144: 1.자체조달수익 | B144: 0 | C144: 0 | D144: 249605627 | E144: 0 | F144: 0 | G144: 286990580
A145: 경상세외수익 | B145: 0 | C145: 0 | D145: 26436597 | E145: 0 | F145: 0 | G145: 48099120
A146: 임시세외수익 | B146: 0 | C146: 0 | D146: 223169030 | E146: 0 | F146: 0 | G146: 238891460
A147: 2.기타수익 | B147: 0 | C147: 0 | D147: 31690 | E147: 0 | F147: 0 | G147: 0
A148: 전입금수익 | B148: 0 | C148: 0 | D148: - | E148: 0 | F148: 0 | G148: 0
A149: 외화환산이익 | B149: 0 | C149: 0 | D149: - | E149: 0 | F149: 0 | G149: 0
A150: 외환차익 | B150: 0 | C150: 0 | D150: - | E150: 0 | F150: 0 | G150: 0
A151: 대손충당금환입 | B151: 0 | C151: 0 | D151: 31690 | E151: 0 | F151: 0 | G151: 0
A152: 퇴직급여충당부채환입 | B152: 0 | C152: 0 | D152: - | E152: 0 | F152: 0 | G152: -
A153: 자산손상차손환입 | B153: 0 | C153: 0 | D153: - | E153: 0 | F153: 0 | G153: -
A154: 기타수익 | B154: 0 | C154: 0 | D154: - | E154: 0 | F154: 0 | G154: -
A155: 기타비배분수익 | B155: 0 | C155: 0 | D155: - | E155: 0 | F155: 0 | G155: -
A156: Ⅴ.재정운영순원가(Ⅰ+Ⅱ+Ⅲ-Ⅳ) | B156: 0 | C156: 0 | D156: 3320953906 | E156: 0 | F156: 0 | G156: 84760894
A157: Ⅵ.일반수익 | B157: 0 | C157: 0 | D157: 1688717440 | E157: 0 | F157: 0 | G157: 1168058800
A158: 1.자체조달수익 | B158: 0 | C158: 0 | D158: 1688717440 | E158: 0 | F158: 0 | G158: 1168058800
A159: 지방세수익 | B159: 0 | C159: 0 | D159: - | E159: 0 | F159: 0 | G159: -
A160: 경상세외수익 | B160: 0 | C160: 0 | D160: - | E160: 0 | F160: 0 | G160: -
A161: 임시세외수익 | B161: 0 | C161: 0 | D161: 1688717440 | E161: 0 | F161: 0 | G161: 1168058800
A162: 2.정부간이전수익 | B162: 0 | C162: 0 | D162: - | E162: 0 | F162: 0 | G162: -
A163: 지방교부세수익 | B163: 0 | C163: 0 | D163: - | E163: 0 | F163: 0 | G163: -
A164: 자치구 조정교부금수익 | B164: 0 | C164: 0 | D164: - | E164: 0 | F164: 0 | G164: -
A165: 시군 조정교부금수익 | B165: 0 | C165: 0 | D165: - | E165: 0 | F165: 0 | G165: -
A166: 시도비보조금반환금수익 | B166: 0 | C166: 0 | D166: - | E166: 0 | F166: 0 | G166: -
A167: 기타정부간이전수익 | B167: 0 | C167: 0 | D167: - | E167: 0 | F167: 0 | G167: -
A168: 3.기타수익 | B168: 0 | C168: 0 | D168: - | E168: 0 | F168: 0 | G168: -
A169: 전입금수익 | B169: 0 | C169: 0 | D169: - | E169: 0 | F169: 0 | G169: -
A170: 기부금수익 | B170: 0 | C170: 0 | D170: - | E170: 0 | F170: 0 | G170: -
A171: 기타일반수익 | B171: 0 | C171: 0 | D171: - | E171: 0 | F171: 0 | G171: -
A172: Ⅶ.재정운영결과(Ⅴ-Ⅵ) | B172: 0 | C172: 0 | D172: 1632236466 | E172: 0 | F172: 0 | G172: -1083297906

Sheet 의료
A2: 재정운영표( 의료급여특별회계 )
A4: 해당연도 2016년 1월 1일 부터 2016년 12월 31일 까지
A5: 직전연도 2015년 1월 1일 부터 2015년 12월 31일 까지
A6: 진천군청 | G6: (단위 : 원)
A7: 과목 | B7: 해당연도(2016년) | E7: 직전연도(2015년)
B8: 총원가 | C8: 사업수익 | D8: 순원가 | E8: 총원가 | F8: 사업수익 | G8: 순원가
A10: Ⅰ.사업순원가 | B10: 117899390 | C10: 117899390 | D10: 0 | E10: 101237191 | F10: 106604250 | G10: -5367059
A11: 일반공공행정 | B11: - | C11: - | D11: 0 | E11: - | F11: - | G11: -
A12: 입법및선거관리 | B12: - | C12: - | D12: 0 | E12: - | F12: - | G12: -
A13: 지방행정ㆍ재정지원 | B13: - | C13: - | D13: 0 | E13: - | F13: - | G13: -
A14: 재정ㆍ금융 | B14: - | C14: - | D14: 0 | E14: - | F14: - | G14: -
A15: 일반행정 | B15: - | C15: - | D15: 0 | E15: - | F15: - | G15: -
A16: 공공질서및안전 | B16: - | C16: - | D16: 0 | E16: - | F16: - | G16: -
A17: 경찰 | B17: - | C17: - | D17: 0 | E17: - | F17: - | G17: -
A18: 재난방재ㆍ민방위 | B18: - | C18: - | D18: 0 | E18: - | F18: - | G18: -
A19: 소방 | B19: - | C19: - | D19: 0 | E19: - | F19: - | G19: -
A20: 교육 | B20: - | C20: - | D20: 0 | E20: - | F20: - | G20: -
A21: 유아및초중등교육 | B21: - | C21: - | D21: 0 | E21: - | F21: - | G21: -
A22: 고등교육 | B22: - | C22: - | D22: 0 | E22: - | F22: - | G22: -
... A36: 환경보호일반 | B36: - | C36: - | D36: 0 | E36: - | F36: - | G36: -
A37: 사회복지 | B37: 117899390 | C37: 117899390 | D37: 0 | E37: 101237191 | F37: 106604250 | G37: -5367059
A38: 기초생활보장 | B38: 117899390 | C38: 117899390 | D38: 0 | E38: 101237191 | F38: 106604250 | G38: -5367059
A39: 주민복지과 | B39: 117899390 | C39: 117899390 | D39: 0 | E39: 101237191 | F39: 106604250 | G39: -5367059
A40: 저소득층 생활안정 지원 | B40: 117899390 | C40: 117899390 | D40: 0 | E40: 101237191 | F40: 106604250 | G40: -5367059
A41: 취약계층지원 | B41: - | C41: - | D41: - | E41: - | F41: - | G41: -
A42: 보육ㆍ가족및여성 | B42: - | C42: - | D42: - | E42: - | F42: - | G42: -
A43: 노인ㆍ청소년 | B43: - | C43: - | D43: - | E43: - | F43: - | G43: -
A44: 노동 | B44: - | C44: - | D44: - | E44: - | F44: - | G44: -
A45: 보훈 | B45: - | C45: - | D45: - | E45: - | F45: - | G45: -
A46: 주택 | B46: - | C46: - | D46: - | E46: - | F46: - | G46: -
A47: 사회복지일반 | B47: - | C47: - | D47: - | E47: - | F47: - | G47: -
A48: 보건 | B48: - | C48: - | D48: - | E48: - | F48: - | G48: -
A49: 보건의료 | B49: - | C49: - | D49: - | E49: - | F49: - | G49: -
A50: 식품의약안전 | B50: - | C50: - | D50: - | E50: - | F50: - | G50: -
A51: 농림해양수산 | B51: - | C51: - | D51: - | E51: - | F51: - | G51: -
A52: 농업ㆍ농촌 | B52: - | C52: - | D52: - | E52: - | F52: - | G52: -
... A79: 기타 | B79: - | C79: - | D79: - | E79: - | F79: - | G79: -
A80: Ⅱ.관리운영비 | B80: 0 | C80: 0 | D80: 14338000 | E80: 0 | F80: 0 | G80: 33335670
A81: 1.인건비 | B81: 0 | C81: 0 | D81: 0 | E81: 0 | F81: 0 | G81: 4135670
A82: 급여 | B82: 0 | C82: 0 | D82: 0 | E82: 0 | F82: 0 | G82: -
A83: 복리후생비 | B83: 0 | C83: 0 | D83: 0 | E83: 0 | F83: 0 | G83: -
A84: 기타인건비 | B84: 0 | C84: 0 | D84: 0 | E84: 0 | F84: 0 | G84: -
A85: 퇴직급여 | B85: 0 | C85: 0 | D85: 0 | E85: 0 | F85: 0 | G85: 4135670
A86: 2.경비 | B86: 0 | C86: 0 | D86: 14338000 | E86: 0 | F86: 0 | G86: 29200000
A87: 도서구입및인쇄비 | B87: 0 | C87: 0 | D87: - | E87: 0 | F87: 0 | G87: -
A88: 소모품비 | B88: 0 | C88: 0 | D88: - | E88: 0 | F88: 0 | G88: -
A89: 홍보및광고비 | B89: 0 | C89: 0 | D89: - | E89: 0 | F89: 0 | G89: -
A90: 지급수수료 | B90: 0 | C90: 0 | D90: - | E90: 0 | F90: 0 | G90: -
A91: 일반유형자산수선유지비 | B91: 0 | C91: 0 | D91: - | E91: 0 | F91: 0 | G91: -
A92: 주민편의시설수선유지비 | B92: 0 | C92: 0 | D92: - | E92: 0 | F92: 0 | G92: -
A93: 사회기반시설수선유지비 | B93: 0 | C93: 0 | D93: - | E93: 0 | F93: 0 | G93: -
A94: 기타자산수선유지비 | B94: 0 | C94: 0 | D94: - | E94: 0 | F94: 0 | G94: -
A95: 교육훈련비 | B95: 0 | C95: 0 | D95: - | E95: 0 | F95: 0 | G95: -
A96: 제세공과금 | B96: 0 | C96: 0 | D96: - | E96: 0 | F96: 0 | G96: -
A97: 보험료및공제료 | B97: 0 | C97: 0 | D97: - | E97: 0 | F97: 0 | G97: -
A98: 임차료 | B98: 0 | C98: 0 | D98: - | E98: 0 | F98: 0 | G98: -
... A111: 공립대학운영비 | B111: 0 | C111: 0 | D111: - | E111: 0 | F111: 0 | G111: -
A112: 기타운영비 | B112: 0 | C112: 0 | D112: 14338000 | E112: 0 | F112: 0 | G112: 29200000
A113: 3.정부간이전비용 | B113: 0 | C113: 0 | D113: - | E113: 0 | F113: 0 | G113: -
A114: 시도비보조금 | B114: 0 | C114: 0 | D114: - | E114: 0 | F114: 0 | G114: -
A115: 자치구 조정교부금 | B115: 0 | C115: 0 | D115: - | E115: 0 | F115: 0 | G115: -
A116: 시군 조정교부금 | B116: 0 | C116: 0 | D116: - | E116: 0 | F116: 0 | G116: -
A117: 지방자치단체간부담금 | B117: 0 | C117: 0 | D117: - | E117: 0 | F117: 0 | G117: -
A118: 국가에대한부담금 | B118: 0 | C118: 0 | D118: - | E118: 0 | F118: 0 | G118: -
A119: 교육비특별회계전출금 | B119: 0 | C119: 0 | D119: - | E119: 0 | F119: 0 | G119: -
A120: 교육기관운영비보조금 | B120: 0 | C120: 0 | D120: - | E120: 0 | F120: 0 | G120: -
A121: 4.민간등이전비용 | B121: 0 | C121: 0 | D121: - | E121: 0 | F121: 0 | G121: -
A122: 민간보조금 | B122: 0 | C122: 0 | D122: - | E122: 0 | F122: 0 | G122: -
A123: 민간장학금 | B123: 0 | C123: 0 | D123: - | E123: 0 | F123: 0 | G123: -
A124: 이차보전금 | B124: 0 | C124: 0 | D124: - | E124: 0 | F124: 0 | G124: -
... A128: 기타이전비용 | B128: 0 | C128: 0 | D128: - | E128: 0 | F128: 0 | G128: -
A129: Ⅲ.비배분비용 | B129: 0 | C129: 0 | D129: 238333 | E129: 0 | F129: 0 | G129: 380000
A130: 1.운영비 | B130: 0 | C130: 0 | D130: - | E130: 0 | F130: 0 | G130: -
A131: 이자비용 | B131: 0 | C131: 0 | D131: - | E131: 0 | F131: 0 | G131: -
A132: 1.기타비용 | B132: 0 | C132: 0 | D132: 238333 | E132: 0 | F132: 0 | G132: 380000
A133: 자산처분손실 | B133: 0 | C133: 0 | D133: - | E133: 0 | F133: 0 | G133: -
A134: 자산손상차손 | B134: 0 | C134: 0 | D134: - | E134: 0 | F134: 0 | G134: -
A135: 일반유형자산감가상각비 | B135: 0 | C135: 0 | D135: 238333 | E135: 0 | F135: 0 | G135: 0
A136: 주민편의시설감가상각비 | B136: 0 | C136: 0 | D136: - | E136: 0 | F136: 0 | G136: -
A137: 사회기반시설감가상각비 | B137: 0 | C137: 0 | D137: - | E137: 0 | F137: 0 | G137: -
A138: 무형자산상각비 | B138: 0 | C138: 0 | D138: - | E138: 0 | F138: 0 | G138: -
A139: 외화환산손실 | B139: 0 | C139: 0 | D139: - | E139: 0 | F139: 0 | G139: -
A140: 외환차손 | B140: 0 | C140: 0 | D140: - | E140: 0 | F140: 0 | G140: -
A141: 대손상각비 | B141: 0 | C141: 0 | D141: - | E141: 0 | F141: 0 | G141: -
A142: 기타비용 | B142: 0 | C142: 0 | D142: 0 | E142: 0 | F142: 0 | G142: 380000
A143: Ⅳ.비배분수익 | B143: 0 | C143: 0 | D143: 3861000 | E143: 0 | F143: 0 | G143: 12413180
A144: 1.자체조달수익 | B144: 0 | C144: 0 | D144: 3843690 | E144: 0 | F144: 0 | G144: 12392940
A145: 경상세외수익 | B145: 0 | C145: 0 | D145: 527530 | E145: 0 | F145: 0 | G145: 695440
A146: 임시세외수익 | B146: 0 | C146: 0 | D146: 3316160 | E146: 0 | F146: 0 | G146: 11697500
A147: 2.기타수익 | B147: 0 | C147: 0 | D147: 17310 | E147: 0 | F147: 0 | G147: 20240
A148: 전입금수익 | B148: 0 | C148: 0 | D148: - | E148: 0 | F148: 0 | G148: -
A149: 외화환산이익 | B149: 0 | C149: 0 | D149: - | E149: 0 | F149: 0 | G149: -
A150: 외환차익 | B150: 0 | C150: 0 | D150: - | E150: 0 | F150: 0 | G150: -
A151: 대손충당금환입 | B151: 0 | C151: 0 | D151: 16560 | E151: 0 | F151: 0 | G151: 19440
A152: 퇴직급여충당부채환입 | B152: 0 | C152: 0 | D152: - | E152: 0 | F152: 0 | G152: -
A153: 자산손상차손환입 | B153: 0 | C153: 0 | D153: - | E153: 0 | F153: 0 | G153: -
A154: 기타수익 | B154: 0 | C154: 0 | D154: 750 | E154: 0 | F154: 0 | G154: 800
A155: 기타비배분수익 | B155: 0 | C155: 0 | D155: - | E155: 0 | F155: 0 | G155: -
A156: Ⅴ.재정운영순원가(Ⅰ+Ⅱ+Ⅲ-Ⅳ) | B156: 0 | C156: 0 | D156: 10715333 | E156: 0 | F156: 0 | G156: 15935431
A157: Ⅵ.일반수익 | B157: 0 | C157: 0 | D157: 34491610 | E157: 0 | F157: 0 | G157: 0
...

Sheet 저소득
A2: 재정운영표( 저소득주민생활안정자금특별회계 )
A4: 해당연도 2016년 1월 1일 부터 2016년 12월 31일 까지
A5: 직전연도 2015년 1월 1일 부터 2015년 12월 31일 까지
A6: 진천군청 | G6: (단위 : 원)
A7: 과목 | B7: 해당연도(2016년) | E7: 직전연도(2015년)
B8: 총원가 | C8: 사업수익 | D8: 순원가 | E8: 총원가 | F8: 사업수익 | G8: 순원가
A10: Ⅰ.사업순원가 | B10: 0 | C10: 0 | D10: 0 | E10: 0 | F10: 8004940 | G10: -8004940
A11: 일반공공행정 | B11: - | C11: - | D11: - | E11: - | F11: - | G11: -
A12: 입법및선거관리 | B12: - | C12: - | D12: - | E12: - | F12: - | G12: -
A13: 지방행정ㆍ재정지원 | B13: - | C13: - | D13: - | E13: - | F13: - | G13: -
A14: 재정ㆍ금융 | B14: - | C14: - | D14: - | E14: - | F14: - | G14: -
A15: 일반행정 | B15: - | C15: - | D15: - | E15: - | F15: - | G15: -
A16: 공공질서및안전 | B16: - | C16: - | D16: - | E16: - | F16: - | G16: -
A17: 경찰 | B17: - | C17: - | D17: - | E17: - | F17: - | G17: -
A18: 재난방재ㆍ민방위 | B18: - | C18: - | D18: - | E18: - | F18: - | G18: -
A19: 소방 | B19: - | C19: - | D19: - | E19: - | F19: - | G19: -
A20: 교육 | B20: - | C20: - | D20: - | E20: - | F20: - | G20: -
A21: 유아및초중등교육 | B21: - | C21: - | D21: - | E21: - | F21: - | G21: -
A22: 고등교육 | B22: - | C22: - | D22: - | E22: - | F22: - | G22: -
... A36: 환경보호일반 | B36: - | C36: - | D36: - | E36: - | F36: - | G36: -
A37: 사회복지 | B37: 0 | C37: 0 | D37: 0 | E37: 0 | F37: 8004940 | G37: -8004940
A38: 기초생활보장 | B38: 0 | C38: 0 | D38: 0 | E38: 0 | F38: 8004940 | G38: -8004940
A39: 취약계층지원 | B39: 0 | C39: 0 | D39: - | E39: - | F39: - | G39: -
A40: 보육ㆍ가족및여성 | B40: 0 | C40: 0 | D40: - | E40: - | F40: - | G40: -
A41: 노인ㆍ청소년 | B41: 0 | C41: 0 | D41: - | E41: - | F41: - | G41: -
A42: 노동 | B42: 0 | C42: 0 | D42: - | E42: - | F42: - | G42: -
A43: 보훈 | B43: 0 | C43: 0 | D43: - | E43: - | F43: - | G43: -
A44: 주택 | B44: 0 | C44: 0 | D44: - | E44: - | F44: - | G44: -
A45: 사회복지일반 | B45: 0 | C45: 0 | D45: - | E45: - | F45: - | G45: -
A46: 보건 | B46: 0 | C46: 0 | D46: - | E46: - | F46: - | G46: -
A47: 보건의료 | B47: 0 | C47: 0 | D47: - | E47: - | F47: - | G47: -
A48: 식품의약안전 | B48: 0 | C48: 0 | D48: - | E48: - | F48: - | G48: -
A49: 농림해양수산 | B49: 0 | C49: 0 | D49: - | E49: - | F49: - | G49: -
A50: 농업ㆍ농촌 | B50: 0 | C50: 0 | D50: - | E50: - | F50: - | G50: -
... A77: 기타 | B77: 0 | C77: 0 | D77: - | E77: - | F77: - | G77: -
A78: Ⅱ.관리운영비 | B78: 0 | C78: 0 | D78: 6824750 | E78: 0 | F78: 0 | G78: 431846000
A79: 1.인건비 | B79: 0 | C79: 0 | D79: - | E79: 0 | F79: 0 | G79: -
A80: 급여 | B80: 0 | C80: 0 | D80: - | E80: 0 | F80: 0 | G80: -
A81: 복리후생비 | B81: 0 | C81: 0 | D81: - | E81: 0 | F81: 0 | G81: -
A82: 기타인건비 | B82: 0 | C82: 0 | D82: - | E82: 0 | F82: 0 | G82: -
A83: 퇴직급여 | B83: 0 | C83: 0 | D83: - | E83: 0 | F83: 0 | G83: -
A84: 2.경비 | B84: 0 | C84: 0 | D84: - | E84: 0 | F84: 0 | G84: -
A85: 도서구입및인쇄비 | B85: 0 | C85: 0 | D85: - | E85: 0 | F85: 0 | G85: -
A86: 소모품비 | B86: 0 | C86: 0 | D86: - | E86: 0 | F86: 0 | G86: -
A87: 홍보및광고비 | B87: 0 | C87: 0 | D87: - | E87: 0 | F87: 0 | G87: -
A88: 지급수수료 | B88: 0 | C88: 0 | D88: - | E88: 0 | F88: 0 | G88: -
A89: 일반유형자산수선유지비 | B89: 0 | C89: 0 | D89: - | E89: 0 | F89: 0 | G89: -
A90: 주민편의시설수선유지비 | B90: 0 | C90: 0 | D90: - | E90: 0 | F90: 0 | G90: -
... A118: 교육기관운영비보조금 | B118: 0 | C118: 0 | D118: - | E118: 0 | F118: 0 | G118: -
A119: 1.민간등이전비용 | B119: 0 | C119: 0 | D119: 6824750 | E119: 0 | F119: 0 | G119: 431846000
A120: 민간보조금 | B120: 0 | C120: 0 | D120: - | E120: 0 | F120: 0 | G120: -
A121: 민간장학금 | B121: 0 | C121: 0 | D121: - | E121: 0 | F121: 0 | G121: -
A122: 이차보전금 | B122: 0 | C122: 0 | D122: - | E122: 0 | F122: 0 | G122: -
A123: 출연금 | B123: 0 | C123: 0 | D123: - | E123: 0 | F123: 0 | G123: -
A124: 전출금비용 | B124: 0 | C124: 0 | D124: 6824750 | E124: 0 | F124: 0 | G124: 431846000
A125: 지방공공기관보조금 | B125: 0 | C125: 0 | D125: - | E125: - | F125: - | G125: -
A126: 기타이전비용 | B126: 0 | C126: 0 | D126: - | E126: - | F126: - | G126: -
A127: Ⅲ.비배분비용 | B127: 0 | C127: 0 | D127: 0 | E127: 0 | F127: 0 | G127: 1675230
A128: 1.운영비 | B128: 0 | C128: 0 | D128: 0 | E128: 0 | F128: 0 | G128: -
A129: 이자비용 | B129: 0 | C129: 0 | D129: 0 | E129: 0 | F129: 0 | G129: -
A130: 1.기타비용 | B130: 0 | C130: 0 | D130: 0 | E130: 0 | F130: 0 | G130: 1675230
A131: 자산처분손실 | B131: 0 | C131: 0 | D131: 0 | E131: 0 | F131: 0 | G131: -
A132: 자산손상차손 | B132: 0 | C132: 0 | D132: 0 | E132: 0 | F132: 0 | G132: -
A133: 일반유형자산감가상각비 | B133: 0 | C133: 0 | D133: 0 | E133: 0 | F133: 0 | G133: -
A134: 주민편의시설감가상각비 | B134: 0 | C134: 0 | D134: 0 | E134: 0 | F134: 0 | G134: -
A135: 사회기반시설감가상각비 | B135: 0 | C135: 0 | D135: 0 | E135: 0 | F135: 0 | G135: -
A136: 무형자산상각비 | B136: 0 | C136: 0 | D136: 0 | E136: 0 | F136: 0 | G136: -
A137: 외화환산손실 | B137: 0 | C137: 0 | D137: 0 | E137: 0 | F137: 0 | G137: -
A138: 외환차손 | B138: 0 | C138: 0 | D138: 0 | E138: 0 | F138: 0 | G138: -
A139: 대손상각비 | B139: 0 | C139: 0 | D139: 0 | E139: 0 | F139: 0 | G139: 1675230
A140: 기타비용 | B140: 0 | C140: 0 | D140: - | E140: - | F140: - | G140: -
A141: Ⅳ.비배분수익 | B141: 0 | C141: 0 | D141: 560 | E141: 0 | F141: 0 | G141: 280512700
A142: 1.자체조달수익 | B142: 0 | C142: 0 | D142: 560 | E142: 0 | F142: 0 | G142: 280512700
A143: 경상세외수익 | B143: 0 | C143: 0 | D143: 560 | E143: 0 | F143: 0 | G143: 280512700
A144: 임시세외수익 | B144: 0 | C144: 0 | D144: - | E144: 0 | F144: 0 | G144: -
A145: 2.기타수익 | B145: 0 | C145: 0 | D145: - | E145: 0 | F145: 0 | G145: -
A146: 전입금수익 | B146: 0 | C146: 0 | D146: - | E146: 0 | F146: 0 | G146: -
A147: 외화환산이익 | B147: 0 | C147: 0 | D147: - | E147: 0 | F147: 0 | G147: -
A148: 외환차익 | B148: 0 | C148: 0 | D148: - | E148: 0 | F148: 0 | G148: -
A149: 대손충당금환입 | B149: 0 | C149: 0 | D149: - | E149: 0 | F149: 0 | G149: -
A150: 퇴직급여충당부채환입 | B150: 0 | C150: 0 | D150: - | E150: 0 | F150: 0 | G150: -
A151: 자산손상차손환입 | B151: 0 | C151: 0 | D151: - | E151: 0 | F151: 0 | G151: -
A152: 기타수익 | B152: 0 | C152: 0 | D152: - | E152: 0 | F152: 0 | G152: -
A153: 기타비배분수익 | B153: 0 | C153: 0 | D153: - | E153: 0 | F153: 0 | G153: -
A154: Ⅴ.재정운영순원가(Ⅰ+Ⅱ+Ⅲ-Ⅳ) | B154: 0 | C154: 0 | D154: 6824190 | E154: 0 | F154: 0 | G154: 145003590
A155: Ⅵ.일반수익 | B155: 0 | C155: 0 | D155: 0 | E155: 0 | F155: 0 | G155: 0
A156: 1.자체조달수익 | B156: 0 | C156: 0 | D156: - | E156: 0 | F156: 0 | G156: -
A157: 지방세수익 | B157: 0 | C157: 0 | D157: - | E157: 0 | F157: 0 | G157: -
A158: 경상세외수익 | B158: 0 | C158: 0 | D158: - | E158: 0 | F158: 0 | G158: -
A159: 임시세외수익 | B159: 0 | C159: 0 | D159: - | E159: 0 | F159: 0 | G159: -
A160: 2.정부간이전수익 | B160: 0 | C160: 0 | D160: - | E160: 0 | F160: 0 | G160: -
A161: 지방교부세수익 | B161: 0 | C161: 0 | D161: - | E161: 0 | F161: 0 | G161: -
A162: 자치구 조정교부금수익 | B162: 0 | C162: 0 | D162: - | E162: 0 | F162: 0 | G162: -
A163: 시군 조정교부금수익 | B163: 0 | C163: 0 | D163: - | E163: 0 | F163: 0 | G163: -
A164: 시도비보조금반환금수익 | B164: 0 | C164: 0 | D164: - | E164: 0 | F164: 0 | G164: -
A165: 기타정부간이전수익 | B165: 0 | C165: 0 | D165: - | E165: 0 | F165: 0 | G165: -
A166: 3.기타수익 | B166: 0 | C166: 0 | D166: - | E166: 0 | F166: 0 | G166: -
A167: 전입금수익 | B167: 0 | C167: 0 | D167: - | E167: 0 | F167: 0 | G167: -
... A169: 기타일반수익 | B169: 0 | C169: 0 | D169: - | E169: 0 | F169: 0 | G169: -
A170: Ⅶ.재정운영결과(Ⅴ-Ⅵ) | B170: 0 | C170: 0 | D170: 6824190 | E170: 0 | F170: 0 | G170: 145003590

Sheet 주민소득
A2: 재정운영표( 주민소득지원사업특별회계 )
A4: 해당연도 2016년 1월 1일 부터 2016년 12월 31일 까지
A5: 직전연도 2015년 1월 1일 부터 2015년 12월 31일 까지
A6: 진천군청 | G6: (단위 : 원)
A7: 과목 | B7: 해당연도(2016년) | E7: 직전연도(2015년)
B8: 총원가 | C8: 사업수익 | D8: 순원가 | E8: 총원가 | F8: 사업수익 | G8: 순원가
A10: Ⅰ.사업순원가 | B10: 0 | C10: 0 | D10: 0 | E10: 0 | F10: 0 | G10: 0
A11: 일반공공행정 | B11: - | C11: - | D11: - | E11: 0 | F11: 0 | G11: -
A12: 입법및선거관리 | B12: - | C12: - | D12: - | E12: 0 | F12: 0 | G12: -
A13: 지방행정ㆍ재정지원 | B13: - | C13: - | D13: - | E13: 0 | F13: 0 | G13: -
A14: 재정ㆍ금융 | B14: - | C14: - | D14: - | E14: 0 | F14: 0 | G14: -
A15: 일반행정 | B15: - | C15: - | D15: - | E15: 0 | F15: 0 | G15: -
A16: 공공질서및안전 | B16: - | C16: - | D16: - | E16: 0 | F16: 0 | G16: -
A17: 경찰 | B17: - | C17: - | D17: - | E17: 0 | F17: 0 | G17: -
A18: 재난방재ㆍ민방위 | B18: - | C18: - | D18: - | E18: 0 | F18: 0 | G18: -
A19: 소방 | B19: - | C19: - | D19: - | E19: 0 | F19: 0 | G19: -
A20: 교육 | B20: - | C20: - | D20: - | E20: 0 | F20: 0 | G20: -
A21: 유아및초중등교육 | B21: - | C21: - | D21: - | E21: 0 | F21: 0 | G21: -
A22: 고등교육 | B22: - | C22: - | D22: - | E22: 0 | F22: 0 | G22: -
... A79: 기타 | B79: - | C79: - | D79: - | E79: 0 | F79: 0 | G79: -
A80: Ⅱ.관리운영비 | B80: 0 | C80: 0 | D80: 600000000 | E80: 0 | F80: 0 | G80: 1400000000
A81: 1.인건비 | B81: 0 | C81: 0 | D81: - | E81: 0 | F81: 0 | G81: -
A82: 급여 | B82: 0 | C82: 0 | D82: - | E82: 0 | F82: 0 | G82: -
A83: 복리후생비 | B83: 0 | C83: 0 | D83: - | E83: 0 | F83: 0 | G83: -
A84: 기타인건비 | B84: 0 | C84: 0 | D84: - | E84: 0 | F84: 0 | G84: -
A85: 퇴직급여 | B85: 0 | C85: 0 | D85: - | E85: 0 | F85: 0 | G85: -
A86: 2.경비 | B86: 0 | C86: 0 | D86: - | E86: 0 | F86: 0 | G86: -
A87: 도서구입및인쇄비 | B87: 0 | C87: 0 | D87: - | E87: 0 | F87: 0 | G87: -
A88: 소모품비 | B88: 0 | C88: 0 | D88: - | E88: 0 | F88: 0 | G88: -
A89: 홍보및광고비 | B89: 0 | C89: 0 | D89: - | E89: 0 | F89: 0 | G89: -
A90: 지급수수료 | B90: 0 | C90: 0 | D90: - | E90: 0 | F90: 0 | G90: -
A91: 일반유형자산수선유지비 | B91: 0 | C91: 0 | D91: - | E91: 0 | F91: 0 | G91: -
A92: 주민편의시설수선유지비 | B92: 0 | C92: 0 | D92: - | E92: 0 | F92: 0 | G92: -
... A120: 교육기관운영비보조금 | B120: 0 | C120: 0 | D120: - | E120: 0 | F120: 0 | G120: -
A121: 1.민간등이전비용 | B121: 0 | C121: 0 | D121: 600000000 | E121: 0 | F121: 0 | G121: 1400000000
A122: 민간보조금 | B122: 0 | C122: 0 | D122: - | E122: 0 | F122: 0 | G122: -
A123: 민간장학금 | B123: 0 | C123: 0 | D123: - | E123: 0 | F123: 0 | G123: -
A124: 이차보전금 | B124: 0 | C124: 0 | D124: - | E124: 0 | F124: 0 | G124: -
A125: 출연금 | B125: 0 | C125: 0 | D125: - | E125: 0 | F125: 0 | G125: -
A126: 전출금비용 | B126: 0 | C126: 0 | D126: 600000000 | E126: 0 | F126: 0 | G126: 1400000000
A127: 지방공공기관보조금 | B127: 0 | C127: 0 | D127: - | E127: 0 | F127: 0 | G127: -
A128: 기타이전비용 | B128: 0 | C128: 0 | D128: - | E128: 0 | F128: 0 | G128: -
A129: Ⅲ.비배분비용 | B129: 0 | C129: 0 | D129: 5710 | E129: 0 | F129: 0 | G129: 0
A130: 1.운영비 | B130: 0 | C130: 0 | D130: - | E130: 0 | F130: 0 | G130: 0
A131: 이자비용 | B131: 0 | C131: 0 | D131: - | E131: 0 | F131: 0 | G131: 0
A132: 1.기타비용 | B132: 0 | C132: 0 | D132: 5710 | E132: 0 | F132: 0 | G132: 0
A133: 자산처분손실 | B133: 0 | C133: 0 | D133: - | E133: 0 | F133: 0 | G133: 0
A134: 자산손상차손 | B134: 0 | C134: 0 | D134: - | E134: 0 | F134: 0 | G134: 0
A135: 일반유형자산감가상각비 | B135: 0 | C135: 0 | D135: - | E135: 0 | F135: 0 | G135: 0
A136: 주민편의시설감가상각비 | B136: 0 | C136: 0 | D136: - | E136: 0 | F136: 0 | G136: 0
A137: 사회기반시설감가상각비 | B137: 0 | C137: 0 | D137: - | E137: 0 | F137: 0 | G137: 0
A138: 무형자산상각비 | B138: 0 | C138: 0 | D138: - | E138: 0 | F138: 0 | G138: 0
A139: 외화환산손실 | B139: 0 | C139: 0 | D139: - | E139: 0 | F139: 0 | G139: 0
A140: 외환차손 | B140: 0 | C140: 0 | D140: - | E140: 0 | F140: 0 | G140: 0
A141: 대손상각비 | B141: 0 | C141: 0 | D141: 5710 | E141: 0 | F141: 0 | G141: 0
A142: 기타비용 | B142: 0 | C142: 0 | D142: - | E142: 0 | F142: 0 | G142: -
A143: Ⅳ.비배분수익 | B143: 0 | C143: 0 | D143: 22232000 | E143: 0 | F143: 0 | G143: 25559450
A144: 1.자체조달수익 | B144: 0 | C144: 0 | D144: 22132000 | E144: 0 | F144: 0 | G144: 22454740
A145: 경상세외수익 | B145: 0 | C145: 0 | D145: 3277620 | E145: 0 | F145: 0 | G145: 22454740
A146: 임시세외수익 | B146: 0 | C146: 0 | D146: 18854380 | E146: 0 | F146: 0 | G146: 0
A147: 2.기타수익 | B147: 0 | C147: 0 | D147: 100000 | E147: 0 | F147: 0 | G147: 3104710
A148: 전입금수익 | B148: 0 | C148: 0 | D148: - | E148: 0 | F148: 0 | G148: -
A149: 외화환산이익 | B149: 0 | C149: 0 | D149: - | E149: 0 | F149: 0 | G149: -
A150: 외환차익 | B150: 0 | C150: 0 | D150: - | E150: 0 | F150: 0 | G150: -
A151: 대손충당금환입 | B151: 0 | C151: 0 | D151: 100000 | E151: 0 | F151: 0 | G151: 3104710
A152: 퇴직급여충당부채환입 | B152: 0 | C152: 0 | D152: - | E152: 0 | F152: 0 | G152: -
A153: 자산손상차손환입 | B153: 0 | C153: 0 | D153: - | E153: 0 | F153: 0 | G153: -
A154: 기타수익 | B154: 0 | C154: 0 | D154: - | E154: 0 | F154: 0 | G154: -
A155: 기타비배분수익 | B155: 0 | C155: 0 | D155: - | E155: 0 | F155: 0 | G155: -
A156: Ⅴ.재정운영순원가(Ⅰ+Ⅱ+Ⅲ-Ⅳ) | B156: 0 | C156: 0 | D156: 577773710 | E156: 0 | F156: 0 | G156: 1374440550
A157: Ⅵ.일반수익 | B157: 0 | C157: 0 | D157: 0 | E157: 0 | F157: 0 | G157: 0
A158: 1.자체조달수익 | B158: 0 | C158: 0 | D158: - | E158: 0 | F158: 0 | G158: -
A159: 지방세수익 | B159: 0 | C159: 0 | D159: - | E159: 0 | F159: 0 | G159: -
A160: 경상세외수익 | B160: 0 | C160: 0 | D160: - | E160: 0 | F160: 0 | G160: -
A161: 임시세외수익 | B161: 0 | C161: 0 | D161: - | E161: 0 | F161: 0 | G161: -
A162: 2.정부간이전수익 | B162: 0 | C162: 0 | D162: - | E162: 0 | F162: 0 | G162: -
A163: 지방교부세수익 | B163: 0 | C163: 0 | D163: - | E163: 0 | F163: 0 | G163: -
A164: 자치구 조정교부금수익 | B164: 0 | C164: 0 | D164: - | E164: 0 | F164: 0 | G164: -
A165: 시군 조정교부금수익 | B165: 0 | C165: 0 | D165: - | E165: 0 | F165: 0 | G165: -
A166: 시도비보조금반환금수익 | B166: 0 | C166: 0 | D166: - | E166: 0 | F166: 0 | G166: -
A167: 기타정부간이전수익 | B167: 0 | C167: 0 | D167: - | E167: 0 | F167: 0 | G167: -
A168: 3.기타수익 | B168: 0 | C168: 0 | D168: - | E168: 0 | F168: 0 | G168: -
A169: 전입금수익 | B169: 0 | C169: 0 | D169: - | E169: 0 | F169: 0 | G169: -
... A171: 기타일반수익 | B171: 0 | C171: 0 | D171: - | E171: 0 | F171: 0 | G171: -
A172: Ⅶ.재정운영결과(Ⅴ-Ⅵ) | B172: 0 | C172: 0 | D172: 577773710 | E172: 0 | F172: 0 | G172: 1374440550

Sheet 농공
A2: 재정운영표( 농공산업단지특별회계 )
A4: 해당연도 2016년 1월 1일 부터 2016년 12월 31일 까지
A5: 직전연도 2015년 1월 1일 부터 2015년 12월 31일 까지
A6: 진천군청 | G6: (단위 : 원)
A7: 과목 | B7: 해당연도(2016년) | E7: 직전연도(2015년)
B8: 총원가 | C8: 사업수익 | D8: 순원가 | E8: 총원가 | F8: 사업수익 | G8: 순원가
A10: Ⅰ.사업순원가 | B10: 308759224 | C10: 1759000000 | D10: -1450240776 | E10: 958434454 | F10: 122397030 | G10: 836037424
A11: 일반공공행정 | B11: - | C11: - | D11: - | E11: - | F11: - | G11: -
A12: 입법및선거관리 | B12: - | C12: - | D12: - | E12: - | F12: - | G12: -
A13: 지방행정ㆍ재정지원 | B13: - | C13: - | D13: - | E13: - | F13: - | G13: -
A14: 재정ㆍ금융 | B14: - | C14: - | D14: - | E14: - | F14: - | G14: -
A15: 일반행정 | B15: - | C15: - | D15: - | E15: - | F15: - | G15: -
A16: 공공질서및안전 | B16: - | C16: - | D16: - | E16: - | F16: - | G16: -
A17: 경찰 | B17: - | C17: - | D17: - | E17: - | F17: - | G17: -
A18: 재난방재ㆍ민방위 | B18: - | C18: - | D18: - | E18: - | F18: - | G18: -
A19: 소방 | B19: - | C19: - | D19: - | E19: - | F19: - | G19: -
A20: 교육 | B20: - | C20: - | D20: - | E20: - | F20: - | G20: -
A21: 유아및초중등교육 | B21: - | C21: - | D21: - | E21: - | F21: - | G21: -
A22: 고등교육 | B22: - | C22: - | D22: - | E22: - | F22: - | G22: -
... A65: 대중교통ㆍ물류등기타 | B65: - | C65: - | D65: - | E65: - | F65: - | G65: -
A66: 국토및지역개발 | B66: 308759224 | C66: 1759000000 | D66: -1450240776 | E66: 958434454 | F66: 122397030 | G66: 836037424
A67: 수자원 | B67: - | C67: - | D67: - | E67: - | F67: - | G67: -
A68: 지역및도시 | B68: - | C68: - | D68: - | E68: - | F68: - | G68: -
A69: 산업단지 | B69: 308759224 | C69: 1759000000 | D69: -1450240776 | E69: 958434454 | F69: 122397030 | G69: 836037424
A70: 미래전략실 | B70: 308759224 | C70: 1759000000 | D70: -1450240776 | E70: 0 | F70: 0 | G70: 0
A71: 산업단지 조성및 운영 | B71: 308759224 | C71: 1759000000 | D71: -1450240776 | E71: 958434454 | F71: 122397030 | G71: 836037424
A72: 과학기술 | B72: - | C72: - | D72: - | E72: - | F72: - | G72: -
A73: 기술개발 | B73: - | C73: - | D73: - | E73: - | F73: - | G73: -
A74: 과학기술연구지원 | B74: - | C74: - | D74: - | E74: - | F74: - | G74: -
A75: 과학기술일반 | B75: - | C75: - | D75: - | E75: - | F75: - | G75: -
A76: 예비비 | B76: - | C76: - | D76: - | E76: - | F76: - | G76: -
A77: 예비비 | B77: - | C77: - | D77: - | E77: - | F77: - | G77: -
A78: 기타 | B78: - | C78: - | D78: - | E78: - | F78: - | G78: -
A79: 기타 | B79: - | C79: - | D79: - | E79: - | F79: - | G79: -
A80: Ⅱ.관리운영비 | B80: 0 | C80: 0 | D80: 3600000000 | E80: 0 | F80: 0 | G80: 0
A81: 1.인건비 | B81: - | C81: - | D81: - | E81: 0 | F81: 0 | G81: 0
A82: 급여 | B82: - | C82: - | D82: - | E82: 0 | F82: 0 | G82: 0
A83: 복리후생비 | B83: - | C83: - | D83: - | E83: 0 | F83: 0 | G83: 0
A84: 기타인건비 | B84: - | C84: - | D84: - | E84: 0 | F84: 0 | G84: 0
A85: 퇴직급여 | B85: - | C85: - | D85: - | E85: 0 | F85: 0 | G85: 0
A86: 2.경비 | B86: - | C86: - | D86: - | E86: 0 | F86: 0 | G86: 0
A87: 도서구입및인쇄비 | B87: - | C87: - | D87: - | E87: 0 | F87: 0 | G87: 0
A88: 소모품비 | B88: - | C88: - | D88: - | E88: 0 | F88: 0 | G88: 0
A89: 홍보및광고비 | B89: - | C89: - | D89: - | E89: 0 | F89: 0 | G89: 0
A90: 지급수수료 | B90: - | C90: - | D90: - | E90: 0 | F90: 0 | G90: 0
A91: 일반유형자산수선유지비 | B91: - | C91: - | D91: - | E91: 0 | F91: 0 | G91: 0
A92: 주민편의시설수선유지비 | B92: - | C92: - | D92: - | E92: 0 | F92: 0 | G92: 0
... A120: 교육기관운영비보조금 | B120: - | C120: - | D120: - | E120: 0 | F120: 0 | G120: 0
A121: 1.민간등이전비용 | B121: 0 | C121: 0 | D121: 3600000000 | E121: 0 | F121: 0 | G121: 0
A122: 민간보조금 | B122: 0 | C122: 0 | D122: - | E122: 0 | F122: 0 | G122: -
A123: 민간장학금 | B123: 0 | C123: 0 | D123: - | E123: 0 | F123: 0 | G123: -
A124: 이차보전금 | B124: 0 | C124: 0 | D124: - | E124: 0 | F124: 0 | G124: -
A125: 출연금 | B125: 0 | C125: 0 | D125: - | E125: 0 | F125: 0 | G125: -
A126: 전출금비용 | B126: 0 | C126: 0 | D126: 3600000000 | E126: 0 | F126: 0 | G126: -
A127: 지방공공기관보조금 | B127: 0 | C127: 0 | D127: - | E127: 0 | F127: 0 | G127: -
A128: 기타이전비용 | B128: 0 | C128: 0 | D128: - | E128: 0 | F128: 0 | G128: -
A129: Ⅲ.비배분비용 | B129: 0 | C129: 0 | D129: 772248375 | E129: 0 | F129: 0 | G129: 770440653
A130: 1.운영비 | B130: 0 | C130: 0 | D130: 132773970 | E130: 0 | F130: 0 | G130: 109783550
A131: 이자비용 | B131: 0 | C131: 0 | D131: 132773970 | E131: 0 | F131: 0 | G131: 109783550
A132: 2.기타비용 | B132: 0 | C132: 0 | D132: 639474405 | E132: 0 | F132: 0 | G132: 660657103
A133: 자산처분손실 | B133: 0 | C133: 0 | D133: - | E133: 0 | F133: 0 | G133: -
A134: 자산손상차손 | B134: 0 | C134: 0 | D134: - | E134: 0 | F134: 0 | G134: -
A135: 일반유형자산감가상각비 | B135: 0 | C135: 0 | D135: 639474405 | E135: 0 | F135: 0 | G135: 639490473
A136: 주민편의시설감가상각비 | B136: 0 | C136: 0 | D136: - | E136: 0 | F136: 0 | G136: -
A137: 사회기반시설감가상각비 | B137: 0 | C137: 0 | D137: - | E137: 0 | F137: 0 | G137: -
A138: 무형자산상각비 | B138: 0 | C138: 0 | D138: - | E138: 0 | F138: 0 | G138: -
A139: 외화환산손실 | B139: 0 | C139: 0 | D139: - | E139: 0 | F139: 0 | G139: -
A140: 외환차손 | B140: 0 | C140: 0 | D140: - | E140: 0 | F140: 0 | G140: -
A141: 대손상각비 | B141: 0 | C141: 0 | D141: 0 | E141: 0 | F141: 0 | G141: 6830
A142: 기타비용 | B142: 0 | C142: 0 | D142: 0 | E142: 0 | F142: 0 | G142: 21159800
A143: Ⅳ.비배분수익 | B143: 0 | C143: 0 | D143: 78913952 | E143: 0 | F143: 0 | G143: 1047957970
A144: 1.자체조달수익 | B144: 0 | C144: 0 | D144: 56094732 | E144: 0 | F144: 0 | G144: 1041231230
A145: 경상세외수익 | B145: 0 | C145: 0 | D145: 56094732 | E145: 0 | F145: 0 | G145: 80761930
A146: 임시세외수익 | B146: 0 | C146: 0 | D146: 0 | E146: 0 | F146: 0 | G146: 960469300
A147: 2.기타수익 | B147: 0 | C147: 0 | D147: 22819220 | E147: 0 | F147: 0 | G147: 6726740
A148: 전입금수익 | B148: 0 | C148: 0 | D148: - | E148: 0 | F148: 0 | G148: -
A149: 외화환산이익 | B149: 0 | C149: 0 | D149: - | E149: 0 | F149: 0 | G149: -
A150: 외환차익 | B150: 0 | C150: 0 | D150: - | E150: 0 | F150: 0 | G150: -
A151: 대손충당금환입 | B151: 0 | C151: 0 | D151: 1659420 | E151: 0 | F151: 0 | G151: 6726740
A152: 퇴직급여충당부채환입 | B152: 0 | C152: 0 | D152: - | E152: 0 | F152: 0 | G152: -
A153: 자산손상차손환입 | B153: 0 | C153: 0 | D153: - | E153: 0 | F153: 0 | G153: -
A154: 기타수익 | B154: 0 | C154: 0 | D154: 21159800 | E154: 0 | F154: 0 | G154: 0
A155: 기타비배분수익 | B155: 0 | C155: 0 | D155: - | E155: 0 | F155: 0 | G155: -
A156: Ⅴ.재정운영순원가(Ⅰ+Ⅱ+Ⅲ-Ⅳ) | B156: 0 | C156: 0 | D156: 2843093647 | E156: 0 | F156: 0 | G156: 558520107
A157: Ⅵ.일반수익 | B157: 0 | C157: 0 | D157: 0 | E157: 0 | F157: 0 | G157: 0
A158: 1.자체조달수익 | B158: 0 | C158: 0 | D158: - | E158: 0 | F158: 0 | G158: -
A159: 지방세수익 | B159: 0 | C159: 0 | D159: - | E159: 0 | F159: 0 | G159: -
A160: 경상세외수익 | B160: 0 | C160: 0 | D160: - | E160: 0 | F160: 0 | G160: -
A161: 임시세외수익 | B161: 0 | C161: 0 | D161: - | E161: 0 | F161: 0 | G161: -
A162: 2.정부간이전수익 | B162: 0 | C162: 0 | D162: - | E162: 0 | F162: 0 | G162: -
A163: 지방교부세수익 | B163: 0 | C163: 0 | D163: - | E163: 0 | F163: 0 | G163: -
A164: 자치구 조정교부금수익 | B164: 0 | C164: 0 | D164: - | E164: 0 | F164: 0 | G164: -
A165: 시군 조정교부금수익 | B165: 0 | C165: 0 | D165: - | E165: 0 | F165: 0 | G165: -
A166: 시도비보조금반환금수익 | B166: 0 | C166: 0 | D166: - | E166: 0 | F166: 0 | G166: -
A167: 기타정부간이전수익 | B167: 0 | C167: 0 | D167: - | E167: 0 | F167: 0 | G167: -
A168: 3.기타수익 | B168: 0 | C168: 0 | D168: - | E168: 0 | F168: 0 | G168: -
A169: 전입금수익 | B169: 0 | C169: 0 | D169: - | E169: 0 | F169: 0 | G169: -
... A171: 기타일반수익 | B171: 0 | C171: 0 | D171: - | E171: 0 | F171: 0 | G171: -
A172: Ⅶ.재정운영결과(Ⅴ-Ⅵ) | B172: 0 | C172: 0 | D172: 2843093647 | E172: 0 | F172: 0 | G172: 558520107

Sheet 주차장
A2: 재정운영표( 주차장운영특별회계 )
A4: 해당연도 2016년 1월 1일 부터 2016년 12월 31일 까지
A5: 직전연도 2015년 1월 1일 부터 2015년 12월 31일 까지
A6: 진천군청 | G6: (단위 : 원)
A7: 과목 | B7: 해당연도(2016년) | E7: 직전연도(2015년)
B8: 총원가 | C8: 사업수익 | D8: 순원가 | E8: 총원가 | F8: 사업수익 | G8: 순원가
A10: Ⅰ.사업순원가 | B10: 291611218 | C10: 35055450 | D10: 256555768 | E10: 260507265 | F10: 32739500 | G10: 227767765
A11: 일반공공행정 | B11: - | C11: - | D11: - | E11: - | F11: - | G11: -
A12: 입법및선거관리 | B12: - | C12: - | D12: - | E12: - | F12: - | G12: -
A13: 지방행정ㆍ재정지원 | B13: - | C13: - | D13: - | E13: - | F13: - | G13: -
A14: 재정ㆍ금융 | B14: - | C14: - | D14: - | E14: - | F14: - | G14: -
A15: 일반행정 | B15: - | C15: - | D15: - | E15: - | F15: - | G15: -
A16: 공공질서및안전 | B16: - | C16: - | D16: - | E16: - | F16: - | G16: -
A17: 경찰 | B17: - | C17: - | D17: - | E17: - | F17: - | G17: -
A18: 재난방재ㆍ민방위 | B18: - | C18: - | D18: - | E18: - | F18: - | G18: -
A19: 소방 | B19: - | C19: - | D19: - | E19: - | F19: - | G19: -
A20: 교육 | B20: - | C20: - | D20: - | E20: - | F20: - | G20: -
A21: 유아및초중등교육 | B21: - | C21: - | D21: - | E21: - | F21: - | G21: -
A22: 고등교육 | B22: - | C22: - | D22: - | E22: - | F22: - | G22: -
... A59: 산업ㆍ중소기업일반 | B59: - | C59: - | D59: - | E59: - | F59: - | G59: -
A60: 수송및교통 | B60: 291611218 | C60: 35055450 | D60: 256555768 | E60: 260507265 | F60: 32739500 | G60: 227767765
A61: 도로 | B61: - | C61: - | D61: - | E61: - | F61: - | G61: -
A62: 도시철도 | B62: - | C62: - | D62: - | E62: - | F62: - | G62: -
A63: 해운ㆍ항만 | B63: - | C63: - | D63: - | E63: - | F63: - | G63: -
A64: 항공ㆍ공항 | B64: - | C64: - | D64: - | E64: - | F64: - | G64: -
A65: 대중교통ㆍ물류등기타 | B65: 291611218 | C65: 35055450 | D65: 256555768 | E65: 260507265 | F65: 32739500 | G65: 227767765
A66: 경제교통과 | B66: 291611218 | C66: 35055450 | D66: 256555768 | E66: 260507265 | F66: 32739500 | G66: 227767765
A67: 교통행정개선 | B67: 291611218 | C67: 35055450 | D67: 256555768 | E67: 260507265 | F67: 32739500 | G67: 227767765
A68: 국토및지역개발 | B68: - | C68: - | D68: - | E68: - | F68: - | G68: -
A69: 수자원 | B69: - | C69: - | D69: - | E69: - | F69: - | G69: -
A70: 지역및도시 | B70: - | C70: - | D70: - | E70: - | F70: - | G70: -
A71: 산업단지 | B71: - | C71: - | D71: - | E71: - | F71: - | G71: -
A72: 과학기술 | B72: - | C72: - | D72: - | E72: - | F72: - | G72: -
A73: 기술개발 | B73: - | C73: - | D73: - | E73: - | F73: - | G73: -
A74: 과학기술연구지원 | B74: - | C74: - | D74: - | E74: - | F74: - | G74: -
A75: 과학기술일반 | B75: - | C75: - | D75: - | E75: - | F75: - | G75: -
A76: 예비비 | B76: - | C76: - | D76: - | E76: - | F76: - | G76: -
A77: 예비비 | B77: - | C77: - | D77: - | E77: - | F77: - | G77: -
A78: 기타 | B78: - | C78: - | D78: - | E78: - | F78: - | G78: -
A79: 기타 | B79: - | C79: - | D79: - | E79: - | F79: - | G79: -
A80: Ⅱ.관리운영비 | B80: 0 | C80: 0 | D80: 51068160 | E80: 0 | F80: 0 | G80: 19342600
A81: 1.인건비 | B81: 0 | C81: 0 | D81: 51068160 | E81: 0 | F81: 0 | G81: 19342600
A82: 급여 | B82: 0 | C82: 0 | D82: - | E82: 0 | F82: 0 | G82: -
A83: 복리후생비 | B83: 0 | C83: 0 | D83: - | E83: 0 | F83: 0 | G83: -
A84: 기타인건비 | B84: 0 | C84: 0 | D84: - | E84: 0 | F84: 0 | G84: -
A85: 퇴직급여 | B85: 0 | C85: 0 | D85: 51068160 | E85: 0 | F85: 0 | G85: 19342600
A86: 2.경비 | B86: 0 | C86: 0 | D86: - | E86: - | F86: - | G86: -
A87: 도서구입및인쇄비 | B87: 0 | C87: 0 | D87: - | E87: - | F87: - | G87: -
A88: 소모품비 | B88: 0 | C88: 0 | D88: - | E88: - | F88: - | G88: -
A89: 홍보및광고비 | B89: 0 | C89: 0 | D89: - | E89: - | F89: - | G89: -
A90: 지급수수료 | B90: 0 | C90: 0 | D90: - | E90: - | F90: - | G90: -
A91: 일반유형자산수선유지비 | B91: 0 | C91: 0 | D91: - | E91: - | F91: - | G91: -
A92: 주민편의시설수선유지비 | B92: 0 | C92: 0 | D92: - | E92: - | F92: - | G92: -
A93: 사회기반시설수선유지비 | B93: 0 | C93: 0 | D93: - | E93: - | F93: - | G93: -
A94: 기타자산수선유지비 | B94: 0 | C94: 0 | D94: - | E94: - | F94: - | G94: -
A95: 교육훈련비 | B95: 0 | C95: 0 | D95: - | E95: - | F95: - | G95: -
A96: 제세공과금 | B96: 0 | C96: 0 | D96: - | E96: - | F96: - | G96: -
A97: 보험료및공제료 | B97: 0 | C97: 0 | D97: - | E97: - | F97: - | G97: -
... A128: 기타이전비용 | B128: 0 | C128: 0 | D128: - | E128: - | F128: - | G128: -
A129: Ⅲ.비배분비용 | B129: 0 | C129: 0 | D129: 0 | E129: 0 | F129: 0 | G129: 7010
A130: 1.운영비 | B130: 0 | C130: 0 | D130: 0 | E130: 0 | F130: 0 | G130: -
A131: 이자비용 | B131: 0 | C131: 0 | D131: 0 | E131: 0 | F131: 0 | G131: -
A132: 1.기타비용 | B132: 0 | C132: 0 | D132: 0 | E132: 0 | F132: 0 | G132: 7010
A133: 자산처분손실 | B133: 0 | C133: 0 | D133: 0 | E133: 0 | F133: 0 | G133: -
A134: 자산손상차손 | B134: 0 | C134: 0 | D134: 0 | E134: 0 | F134: 0 | G134: -
A135: 일반유형자산감가상각비 | B135: 0 | C135: 0 | D135: 0 | E135: 0 | F135: 0 | G135: -
A136: 주민편의시설감가상각비 | B136: 0 | C136: 0 | D136: 0 | E136: 0 | F136: 0 | G136: -
A137: 사회기반시설감가상각비 | B137: 0 | C137: 0 | D137: 0 | E137: 0 | F137: 0 | G137: -
A138: 무형자산상각비 | B138: 0 | C138: 0 | D138: 0 | E138: 0 | F138: 0 | G138: -
A139: 외화환산손실 | B139: 0 | C139: 0 | D139: 0 | E139: 0 | F139: 0 | G139: -
A140: 외환차손 | B140: 0 | C140: 0 | D140: 0 | E140: 0 | F140: 0 | G140: -
A141: 대손상각비 | B141: 0 | C141: 0 | D141: 0 | E141: 0 | F141: 0 | G141: 7010
A142: 기타비용 | B142: 0 | C142: 0 | D142: - | E142: - | F142: - | G142: -
A143: Ⅳ.비배분수익 | B143: 0 | C143: 0 | D143: 6017987 | E143: 0 | F143: 0 | G143: 5310710
A144: 1.자체조달수익 | B144: 0 | C144: 0 | D144: 5654147 | E144: 0 | F144: 0 | G144: 4850090
A145: 경상세외수익 | B145: 0 | C145: 0 | D145: 5654147 | E145: 0 | F145: 0 | G145: 4850090
A146: 임시세외수익 | B146: 0 | C146: 0 | D146: - | E146: 0 | F146: 0 | G146: -
A147: 2.기타수익 | B147: 0 | C147: 0 | D147: 363840 | E147: 0 | F147: 0 | G147: 460620
A148: 전입금수익 | B148: 0 | C148: 0 | D148: - | E148: 0 | F148: 0 | G148: -
A149: 외화환산이익 | B149: 0 | C149: 0 | D149: - | E149: 0 | F149: 0 | G149: -
A150: 외환차익 | B150: 0 | C150: 0 | D150: - | E150: 0 | F150: 0 | G150: -
A151: 대손충당금환입 | B151: 0 | C151: 0 | D151: 363840 | E151: 0 | F151: 0 | G151: 460620
A152: 퇴직급여충당부채환입 | B152: 0 | C152: 0 | D152: - | E152: 0 | F152: 0 | G152: -
A153: 자산손상차손환입 | B153: 0 | C153: 0 | D153: - | E153: 0 | F153: 0 | G153: -
A154: 기타수익 | B154: 0 | C154: 0 | D154: - | E154: 0 | F154: 0 | G154: -
A155: 기타비배분수익 | B155: 0 | C155: 0 | D155: - | E155: 0 | F155: 0 | G155: -
A156: Ⅴ.재정운영순원가(Ⅰ+Ⅱ+Ⅲ-Ⅳ) | B156: 0 | C156: 0 | D156: 301605941 | E156: 0 | F156: 0 | G156: 241806665
A157: Ⅵ.일반수익 | B157: 0 | C157: 0 | D157: 314655400 | E157: 0 | F157: 0 | G157: 261548000
A158: 1.자체조달수익 | B158: 0 | C158: 0 | D158: 314655400 | E158: 0 | F158: 0 | G158: 261548000
A159: 지방세수익 | B159: 0 | C159: 0 | D159: - | E159: 0 | F159: 0 | G159: -
A160: 경상세외수익 | B160: 0 | C160: 0 | D160: - | E160: 0 | F160: 0 | G160: -
A161: 임시세외수익 | B161: 0 | C161: 0 | D161: 314655400 | E161: 0 | F161: 0 | G161: 261548000
A162: 2.정부간이전수익 | B162: 0 | C162: 0 | D162: - | E162: 0 | F162: 0 | G162: -
A163: 지방교부세수익 | B163: 0 | C163: 0 | D163: - | E163: 0 | F163: 0 | G163: -
A164: 자치구 조정교부금수익 | B164: 0 | C164: 0 | D164: - | E164: 0 | F164: 0 | G164: -
A165: 시군 조정교부금수익 | B165: 0 | C165: 0 | D165: - | E165: 0 | F165: 0 | G165: -
A166: 시도비보조금반환금수익 | B166: 0 | C166: 0 | D166: - | E166: 0 | F166: 0 | G166: -
A167: 기타정부간이전수익 | B167: 0 | C167: 0 | D167: - | E167: 0 | F167: 0 | G167: -
A168: 3.기타수익 | B168: 0 | C168: 0 | D168: - | E168: 0 | F168: 0 | G168: -
A169: 전입금수익 | B169: 0 | C169: 0 | D169: - | E169: 0 | F169: 0 | G169: -
...

Sheet 대지보상
A2: 재정운영표( 대지보상특별회계 )
A4: 해당연도 2016년 1월 1일 부터 2016년 12월 31일 까지
A5: 직전연도 2015년 1월 1일 부터 2015년 12월 31일 까지
A6: 진천군청 | G6: (단위 : 원)
A7: 과목 | B7: 해당연도(2016년) | E7: 직전연도(2015년)
B8: 총원가 | C8: 사업수익 | D8: 순원가 | E8: 총원가 | F8: 사업수익 | G8: 순원가
A10: Ⅰ.사업순원가 | B10: 6774250 | C10: 0 | D10: 6774250 | E10: 11674650 | F10: 0 | G10: 11674650
A11: 일반공공행정 | B11: - | C11: 0 | D11: - | E11: - | F11: 0 | G11: -
A12: 입법및선거관리 | B12: - | C12: 0 | D12: - | E12: - | F12: 0 | G12: -
A13: 지방행정ㆍ재정지원 | B13: - | C13: 0 | D13: - | E13: - | F13: 0 | G13: -
A14: 재정ㆍ금융 | B14: - | C14: 0 | D14: - | E14: - | F14: 0 | G14: -
A15: 일반행정 | B15: - | C15: 0 | D15: - | E15: - | F15: 0 | G15: -
A16: 공공질서및안전 | B16: - | C16: 0 | D16: - | E16: - | F16: 0 | G16: -
A17: 경찰 | B17: - | C17: 0 | D17: - | E17: - | F17: 0 | G17: -
A18: 재난방재ㆍ민방위 | B18: - | C18: 0 | D18: - | E18: - | F18: 0 | G18: -
A19: 소방 | B19: - | C19: 0 | D19: - | E19: - | F19: 0 | G19: -
A20: 교육 | B20: - | C20: 0 | D20: - | E20: - | F20: 0 | G20: -
A21: 유아및초중등교육 | B21: - | C21: 0 | D21: - | E21: - | F21: 0 | G21: -
A22: 고등교육 | B22: - | C22: 0 | D22: - | E22: - | F22: 0 | G22: -
... A65: 대중교통ㆍ물류등기타 | B65: - | C65: 0 | D65: - | E65: - | F65: 0 | G65: -
A66: 국토및지역개발 | B66: 6774250 | C66: 0 | D66: 6774250 | E66: 11674650 | F66: 0 | G66: 11674650
A67: 수자원 | B67: - | C67: 0 | D67: - | E67: - | F67: 0 | G67: -
A68: 지역및도시 | B68: 6774250 | C68: 0 | D68: 6774250 | E68: 11674650 | F68: 0 | G68: 11674650
A69: 지역개발건축과 | B69: 6774250 | C69: 0 | D69: 6774250 | E69: 11674650 | F69: 0 | G69: 11674650
A70: 도시기반구축 | B70: 6774250 | C70: 0 | D70: 6774250 | E70: 11674650 | F70: 0 | G70: 11674650
A71: 산업단지 | B71: - | C71: 0 | D71: - | E71: - | F71: 0 | G71: -
A72: 과학기술 | B72: - | C72: 0 | D72: - | E72: - | F72: 0 | G72: -
A73: 기술개발 | B73: - | C73: 0 | D73: - | E73: - | F73: 0 | G73: -
A74: 과학기술연구지원 | B74: - | C74: 0 | D74: - | E74: - | F74: 0 | G74: -
A75: 과학기술일반 | B75: - | C75: 0 | D75: - | E75: - | F75: 0 | G75: -
A76: 예비비 | B76: - | C76: 0 | D76: - | E76: - | F76: 0 | G76: -
A77: 예비비 | B77: - | C77: 0 | D77: - | E77: - | F77: 0 | G77: -
A78: 기타 | B78: - | C78: 0 | D78: - | E78: - | F78: 0 | G78: -
A79: 기타 | B79: - | C79: 0 | D79: - | E79: - | F79: 0 | G79: -
A80: Ⅱ.관리운영비 | B80: 0 | C80: 0 | D80: 0 | E80: 0 | F80: 0 | G80: 0
A81: 1.인건비 | B81: - | C81: 0 | D81: 0 | E81: 0 | F81: 0 | G81: 0
A82: 급여 | B82: - | C82: 0 | D82: 0 | E82: 0 | F82: 0 | G82: 0
A83: 복리후생비 | B83: - | C83: 0 | D83: 0 | E83: 0 | F83: 0 | G83: 0
A84: 기타인건비 | B84: - | C84: 0 | D84: 0 | E84: 0 | F84: 0 | G84: 0
A85: 퇴직급여 | B85: - | C85: 0 | D85: 0 | E85: 0 | F85: 0 | G85: 0
A86: 2.경비 | B86: - | C86: 0 | D86: 0 | E86: 0 | F86: 0 | G86: 0
A87: 도서구입및인쇄비 | B87: - | C87: 0 | D87: 0 | E87: 0 | F87: 0 | G87: 0
A88: 소모품비 | B88: - | C88: 0 | D88: 0 | E88: 0 | F88: 0 | G88: 0
A89: 홍보및광고비 | B89: - | C89: 0 | D89: 0 | E89: 0 | F89: 0 | G89: 0
A90: 지급수수료 | B90: - | C90: 0 | D90: 0 | E90: 0 | F90: 0 | G90: 0
A91: 일반유형자산수선유지비 | B91: - | C91: 0 | D91: 0 | E91: 0 | F91: 0 | G91: 0
A92: 주민편의시설수선유지비 | B92: - | C92: 0 | D92: 0 | E92: 0 | F92: 0 | G92: 0
... A128: 기타이전비용 | B128: - | C128: 0 | D128: 0 | E128: 0 | F128: 0 | G128: 0
A129: Ⅲ.비배분비용 | B129: 0 | C129: 0 | D129: 0 | E129: 0 | F129: 0 | G129: 0
A130: 1.운영비 | B130: 0 | C130: 0 | D130: - | E130: 0 | F130: 0 | G130: -
A131: 이자비용 | B131: 0 | C131: 0 | D131: - | E131: 0 | F131: 0 | G131: -
A132: 2.기타비용 | B132: 0 | C132: 0 | D132: - | E132: 0 | F132: 0 | G132: -
A133: 자산처분손실 | B133: 0 | C133: 0 | D133: - | E133: 0 | F133: 0 | G133: -
A134: 자산손상차손 | B134: 0 | C134: 0 | D134: - | E134: 0 | F134: 0 | G134: -
A135: 일반유형자산감가상각비 | B135: 0 | C135: 0 | D135: - | E135: 0 | F135: 0 | G135: -
A136: 주민편의시설감가상각비 | B136: 0 | C136: 0 | D136: - | E136: 0 | F136: 0 | G136: -
A137: 사회기반시설감가상각비 | B137: 0 | C137: 0 | D137: - | E137: 0 | F137: 0 | G137: -
A138: 무형자산상각비 | B138: 0 | C138: 0 | D138: - | E138: 0 | F138: 0 | G138: -
A139: 외화환산손실 | B139: 0 | C139: 0 | D139: - | E139: 0 | F139: 0 | G139: -
A140: 외환차손 | B140: 0 | C140: 0 | D140: - | E140: 0 | F140: 0 | G140: -
A141: 대손상각비 | B141: 0 | C141: 0 | D141: - | E141: 0 | F141: 0 | G141: -
A142: 기타비용 | B142: 0 | C142: 0 | D142: - | E142: 0 | F142: 0 | G142: -
A143: Ⅳ.비배분수익 | B143: 0 | C143: 0 | D143: 1403030 | E143: 0 | F143: 0 | G143: 1312330
A144: 1.자체조달수익 | B144: 0 | C144: 0 | D144: 1403030 | E144: 0 | F144: 0 | G144: 1312330
A145: 경상세외수익 | B145: 0 | C145: 0 | D145: 1403030 | E145: 0 | F145: 0 | G145: 1312330
A146: 임시세외수익 | B146: 0 | C146: 0 | D146: - | E146: 0 | F146: 0 | G146: -
A147: 2.기타수익 | B147: 0 | C147: 0 | D147: - | E147: 0 | F147: 0 | G147: -
A148: 전입금수익 | B148: 0 | C148: 0 | D148: - | E148: 0 | F148: 0 | G148: -
A149: 외화환산이익 | B149: 0 | C149: 0 | D149: - | E149: 0 | F149: 0 | G149: -
A150: 외환차익 | B150: 0 | C150: 0 | D150: - | E150: 0 | F150: 0 | G150: -
A151: 대손충당금환입 | B151: 0 | C151: 0 | D151: - | E151: 0 | F151: 0 | G151: -
A152: 퇴직급여충당부채환입 | B152: 0 | C152: 0 | D152: - | E152: 0 | F152: 0 | G152: -
A153: 자산손상차손환입 | B153: 0 | C153: 0 | D153: - | E153: 0 | F153: 0 | G153: -
A154: 기타수익 | B154: 0 | C154: 0 | D154: - | E154: 0 | F154: 0 | G154: -
A155: 기타비배분수익 | B155: 0 | C155: 0 | D155: - | E155: 0 | F155: 0 | G155: -
A156: Ⅴ.재정운영순원가(Ⅰ+Ⅱ+Ⅲ-Ⅳ) | B156: 0 | C156: 0 | D156: 5371220 | E156: 0 | F156: 0 | G156: 10362320
A157: Ⅵ.일반수익 | B157: 0 | C157: 0 | D157: 800000000 | E157: 0 | F157: 0 | G157: 800000000
A158: 1.자체조달수익 | B158: 0 | C158: 0 | D158: - | E158: 0 | F158: 0 | G158: -
A159: 지방세수익 | B159: 0 | C159: 0 | D159: - | E159: 0 | F159: 0 | G159: -
A160: 경상세외수익 | B160: 0 | C160: 0 | D160: - | E160: 0 | F160: 0 | G160: -
A161: 임시세외수익 | B161: 0 | C161: 0 | D161: - | E161: 0 | F161: 0 | G161: -
A162: 2.정부간이전수익 | B162: 0 | C162: 0 | D162: - | E162: 0 | F162: 0 | G162: -
A163: 지방교부세수익 | B163: 0 | C163: 0 | D163: - | E163: 0 | F163: 0 | G163: -
A164: 자치구 조정교부금수익 | B164: 0 | C164: 0 | D164: - | E164: 0 | F164: 0 | G164: -
A165: 시군 조정교부금수익 | B165: 0 | C165: 0 | D165: - | E165: 0 | F165: 0 | G165: -
A166: 시도비보조금반환금수익 | B166: 0 | C166: 0 | D166: - | E166: 0 | F166: 0 | G166: -
A167: 기타정부간이전수익 | B167: 0 | C167: 0 | D167: - | E167: 0 | F167: 0 | G167: -
A168: 1.기타수익 | B168: 0 | C168: 0 | D168: 800000000 | E168: 0 | F168: 0 | G168: 800000000
A169: 전입금수익 | B169: 0 | C169: 0 | D169: 800000000 | E169: 0 | F169: 0 | G169: 800000000
A170: 기부금수익 | B170: 0 | C170: 0 | D170: - | E170: 0 | F170: 0 | G170: -
A171: 기타일반수익 | B171: 0 | C171: 0 | D171: - | E171: 0 | F171: 0 | G171: -
A172: Ⅶ.재정운영결과(Ⅴ-Ⅵ) | B172: 0 | C172: 0 | D172: -794628780 | E172: 0 | F172: 0 | G172: -789637680

Sheet 폐기물
A2: 재정운영표( 폐기물처리시설사업특별회계 )
A4: 해당연도 2016년 1월 1일 부터 2016년 12월 31일 까지
A5: 직전연도 2015년 1월 1일 부터 2015년 12월 31일 까지
A6: 진천군청 | G6: (단위 : 원)
A7: 과목 | B7: 해당연도(2016년) | E7: 직전연도(2015년)
B8: 총원가 | C8: 사업수익 | D8: 순원가 | E8: 총원가 | F8: 사업수익 | G8: 순원가
A10: Ⅰ.사업순원가 | B10: 0 | C10: 0 | D10: 0 | E10: 79500 | F10: 0 | G10: 79500
A11: 일반공공행정 | B11: - | C11: 0 | D11: 0 | E11: - | F11: 0 | G11: -
A12: 입법및선거관리 | B12: - | C12: 0 | D12: 0 | E12: - | F12: 0 | G12: -
A13: 지방행정ㆍ재정지원 | B13: - | C13: 0 | D13: 0 | E13: - | F13: 0 | G13: -
A14: 재정ㆍ금융 | B14: - | C14: 0 | D14: 0 | E14: - | F14: 0 | G14: -
A15: 일반행정 | B15: - | C15: 0 | D15: 0 | E15: - | F15: 0 | G15: -
A16: 공공질서및안전 | B16: - | C16: 0 | D16: 0 | E16: - | F16: 0 | G16: -
A17: 경찰 | B17: - | C17: 0 | D17: 0 | E17: - | F17: 0 | G17: -
A18: 재난방재ㆍ민방위 | B18: - | C18: 0 | D18: 0 | E18: - | F18: 0 | G18: -
A19: 소방 | B19: - | C19: 0 | D19: 0 | E19: - | F19: 0 | G19: -
A20: 교육 | B20: - | C20: 0 | D20: 0 | E20: - | F20: 0 | G20: -
A21: 유아및초중등교육 | B21: - | C21: 0 | D21: 0 | E21: - | F21: 0 | G21: -
A22: 고등교육 | B22: - | C22: 0 | D22: 0 | E22: - | F22: 0 | G22: -
... A29: 문화및관광일반 | B29: - | C29: 0 | D29: 0 | E29: - | F29: 0 | G29: -
A30: 환경보호 | B30: 0 | C30: 0 | D30: 0 | E30: 79500 | F30: 0 | G30: 79500
A31: 상하수도ㆍ수질 | B31: 0 | C31: 0 | D31: 0 | E31: - | F31: 0 | G31: -
A32: 폐기물 | B32: 0 | C32: 0 | D32: 0 | E32: 79500 | F32: 0 | G32: 79500
A33: 환경위생과 | B33: 0 | C33: 0 | D33: 0 | E33: 79500 | F33: 0 | G33: 79500
A34: 효율적인 폐기물 관리 | B34: 0 | C34: 0 | D34: 0 | E34: 79500 | F34: 0 | G34: 79500
A35: 대기 | B35: 0 | C35: 0 | D35: 0 | E35: - | F35: 0 | G35: -
A36: 자연 | B36: 0 | C36: 0 | D36: 0 | E36: - | F36: 0 | G36: -
A37: 해양 | B37: 0 | C37: 0 | D37: 0 | E37: - | F37: 0 | G37: -
A38: 환경보호일반 | B38: 0 | C38: 0 | D38: 0 | E38: - | F38: 0 | G38: -
A39: 사회복지 | B39: 0 | C39: 0 | D39: 0 | E39: - | F39: 0 | G39: -
A40: 기초생활보장 | B40: 0 | C40: 0 | D40: 0 | E40: - | F40: 0 | G40: -
A41: 취약계층지원 | B41: 0 | C41: 0 | D41: 0 | E41: - | F41: 0 | G41: -
A42: 보육ㆍ가족및여성 | B42: 0 | C42: 0 | D42: 0 | E42: - | F42: 0 | G42: -
A43: 노인ㆍ청소년 | B43: 0 | C43: 0 | D43: 0 | E43: - | F43: 0 | G43: -
A44: 노동 | B44: 0 | C44: 0 | D44: 0 | E44: - | F44: 0 | G44: -
A45: 보훈 | B45: 0 | C45: 0 | D45: 0 | E45: - | F45: 0 | G45: -
A46: 주택 | B46: 0 | C46: 0 | D46: 0 | E46: - | F46: 0 | G46: -
... A79: 기타 | B79: 0 | C79: 0 | D79: 0 | E79: - | F79: 0 | G79: -
A80: Ⅱ.관리운영비 | B80: 0 | C80: 0 | D80: 0 | E80: 0 | F80: 0 | G80: 0
A81: 1.인건비 | B81: 0 | C81: 0 | D81: - | E81: 0 | F81: 0 | G81: 0
A82: 급여 | B82: 0 | C82: 0 | D82: - | E82: 0 | F82: 0 | G82: 0
A83: 복리후생비 | B83: 0 | C83: 0 | D83: - | E83: 0 | F83: 0 | G83: 0
A84: 기타인건비 | B84: 0 | C84: 0 | D84: - | E84: 0 | F84: 0 | G84: 0
A85: 퇴직급여 | B85: 0 | C85: 0 | D85: - | E85: 0 | F85: 0 | G85: 0
A86: 2.경비 | B86: 0 | C86: 0 | D86: - | E86: 0 | F86: 0 | G86: 0
A87: 도서구입및인쇄비 | B87: 0 | C87: 0 | D87: - | E87: 0 | F87: 0 | G87: 0
A88: 소모품비 | B88: 0 | C88: 0 | D88: - | E88: 0 | F88: 0 | G88: 0
A89: 홍보및광고비 | B89: 0 | C89: 0 | D89: - | E89: 0 | F89: 0 | G89: 0
A90: 지급수수료 | B90: 0 | C90: 0 | D90: - | E90: 0 | F90: 0 | G90: 0
A91: 일반유형자산수선유지비 | B91: 0 | C91: 0 | D91: - | E91: 0 | F91: 0 | G91: 0
A92: 주민편의시설수선유지비 | B92: 0 | C92: 0 | D92: - | E92: 0 | F92: 0 | G92: 0
... A128: 기타이전비용 | B128: 0 | C128: 0 | D128: - | E128: 0 | F128: 0 | G128: 0
A129: Ⅲ.비배분비용 | B129: 0 | C129: 0 | D129: 954000 | E129: 0 | F129: 0 | G129: 0
A130: 1.운영비 | B130: 0 | C130: 0 | D130: - | E130: 0 | F130: 0 | G130: 0
A131: 이자비용 | B131: 0 | C131: 0 | D131: - | E131: 0 | F131: 0 | G131: 0
A132: 1.기타비용 | B132: 0 | C132: 0 | D132: 954000 | E132: 0 | F132: 0 | G132: 0
A133: 자산처분손실 | B133: 0 | C133: 0 | D133: - | E133: 0 | F133: 0 | G133: 0
A134: 자산손상차손 | B134: 0 | C134: 0 | D134: - | E134: 0 | F134: 0 | G134: 0
A135: 일반유형자산감가상각비 | B135: 0 | C135: 0 | D135: - | E135: 0 | F135: 0 | G135: 0
A136: 주민편의시설감가상각비 | B136: 0 | C136: 0 | D136: - | E136: 0 | F136: 0 | G136: 0
A137: 사회기반시설감가상각비 | B137: 0 | C137: 0 | D137: 954000 | E137: 0 | F137: 0 | G137: 0
A138: 무형자산상각비 | B138: 0 | C138: 0 | D138: - | E138: 0 | F138: 0 | G138: -
A139: 외화환산손실 | B139: 0 | C139: 0 | D139: - | E139: 0 | F139: 0 | G139: -
A140: 외환차손 | B140: 0 | C140: 0 | D140: - | E140: 0 | F140: 0 | G140: -
A141: 대손상각비 | B141: 0 | C141: 0 | D141: - | E141: 0 | F141: 0 | G141: -
A142: 기타비용 | B142: 0 | C142: 0 | D142: - | E142: 0 | F142: 0 | G142: -
A143: Ⅳ.비배분수익 | B143: 0 | C143: 0 | D143: 15417200 | E143: 0 | F143: 0 | G143: 7403720
A144: 1.자체조달수익 | B144: 0 | C144: 0 | D144: 15417200 | E144: 0 | F144: 0 | G144: 7403720
A145: 경상세외수익 | B145: 0 | C145: 0 | D145: 15417200 | E145: 0 | F145: 0 | G145: 7403720
A146: 임시세외수익 | B146: 0 | C146: 0 | D146: - | E146: 0 | F146: 0 | G146: -
A147: 2.기타수익 | B147: 0 | C147: 0 | D147: - | E147: 0 | F147: 0 | G147: -
A148: 전입금수익 | B148: 0 | C148: 0 | D148: - | E148: 0 | F148: 0 | G148: -
A149: 외화환산이익 | B149: 0 | C149: 0 | D149: - | E149: 0 | F149: 0 | G149: -
A150: 외환차익 | B150: 0 | C150: 0 | D150: - | E150: 0 | F150: 0 | G150: -
A151: 대손충당금환입 | B151: 0 | C151: 0 | D151: - | E151: 0 | F151: 0 | G151: -
A152: 퇴직급여충당부채환입 | B152: 0 | C152: 0 | D152: - | E152: 0 | F152: 0 | G152: -
A153: 자산손상차손환입 | B153: 0 | C153: 0 | D153: - | E153: 0 | F153: 0 | G153: -
A154: 기타수익 | B154: 0 | C154: 0 | D154: - | E154: 0 | F154: 0 | G154: -
A155: 기타비배분수익 | B155: 0 | C155: 0 | D155: - | E155: 0 | F155: 0 | G155: -
A156: Ⅴ.재정운영순원가(Ⅰ+Ⅱ+Ⅲ-Ⅳ) | B156: 0 | C156: 0 | D156: -14463200 | E156: 0 | F156: 0 | G156: -7324220
A157: Ⅵ.일반수익 | B157: 0 | C157: 0 | D157: 7488290000 | E157: 0 | F157: 0 | G157: 1025000000
A158: 1.자체조달수익 | B158: 0 | C158: 0 | D158: - | E158: 0 | F158: 0 | G158: -
A159: 지방세수익 | B159: 0 | C159: 0 | D159: - | E159: 0 | F159: 0 | G159: -
A160: 경상세외수익 | B160: 0 | C160: 0 | D160: - | E160: 0 | F160: 0 | G160: -
A161: 임시세외수익 | B161: 0 | C161: 0 | D161: - | E161: 0 | F161: 0 | G161: -
A162: 2.정부간이전수익 | B162: 0 | C162: 0 | D162: - | E162: 0 | F162: 0 | G162: -
A163: 지방교부세수익 | B163: 0 | C163: 0 | D163: - | E163: 0 | F163: 0 | G163: -
A164: 자치구 조정교부금수익 | B164: 0 | C164: 0 | D164: - | E164: 0 | F164: 0 | G164: -
A165: 시군 조정교부금수익 | B165: 0 | C165: 0 | D165: - | E165: 0 | F165: 0 | G165: -
A166: 시도비보조금반환금수익 | B166: 0 | C166: 0 | D166: - | E166: 0 | F166: 0 | G166: -
A167: 기타정부간이전수익 | B167: 0 | C167: 0 | D167: - | E167: 0 | F167: 0 | G167: -
A168: 1.기타수익 | B168: 0 | C168: 0 | D168: 7488290000 | E168: 0 | F168: 0 | G168: 1025000000
A169: 전입금수익 | B169: 0 | C169: 0 | D169: 7488290000 | E169: 0 | F169: 0 | G169: 1025000000
A170: 기부금수익 | B170: 0 | C170: 0 | D170: - | E170: 0 | F170: 0 | G170: -
A171: 기타일반수익 | B171: 0 | C171: 0 | D171: - | E171: 0 | F171: 0 | G171: -
A172: Ⅶ.재정운영결과(Ⅴ-Ⅵ) | B172: 0 | C172: 0 | D172: -7502753200 | E172: 0 | F172: 0 | G172: -1032324220

Sheet 청소년
A2: 재정운영표(청소년육성기금 )
A4: 해당연도 2016년 1월 1일 부터 2016년 12월 31일 까지
A5: 직전연도 2015년 1월 1일 부터 2015년 12월 31일 까지
A6: 진천군청 | G6: (단위 : 원)
A7: 과목 | B7: 해당연도(2016년) | E7: 직전연도(2015년)
B8: 총원가 | C8: 사업수익 | D8: 순원가 | E8: 총원가 | F8: 사업수익 | G8: 순원가
A10: Ⅰ.사업순원가 | B10: 0 | C10: 0 | D10: 0 | E10: 4000000 | F10: 0 | G10: 4000000
A11: 일반공공행정 | B11: 0 | C11: 0 | D11: 0 | E11: - | F11: 0 | G11: -
A12: 입법및선거관리 | B12: 0 | C12: 0 | D12: 0 | E12: - | F12: 0 | G12: -
A13: 지방행정ㆍ재정지원 | B13: 0 | C13: 0 | D13: 0 | E13: - | F13: 0 | G13: -
A14: 재정ㆍ금융 | B14: 0 | C14: 0 | D14: 0 | E14: - | F14: 0 | G14: -
A15: 일반행정 | B15: 0 | C15: 0 | D15: 0 | E15: - | F15: 0 | G15: -
A16: 공공질서및안전 | B16: 0 | C16: 0 | D16: 0 | E16: - | F16: 0 | G16: -
A17: 경찰 | B17: 0 | C17: 0 | D17: 0 | E17: - | F17: 0 | G17: -
A18: 재난방재ㆍ민방위 | B18: 0 | C18: 0 | D18: 0 | E18: - | F18: 0 | G18: -
A19: 소방 | B19: 0 | C19: 0 | D19: 0 | E19: - | F19: 0 | G19: -
A20: 교육 | B20: 0 | C20: 0 | D20: 0 | E20: - | F20: 0 | G20: -
A21: 유아및초중등교육 | B21: 0 | C21: 0 | D21: 0 | E21: - | F21: 0 | G21: -
A22: 고등교육 | B22: 0 | C22: 0 | D22: 0 | E22: - | F22: 0 | G22: -
... A36: 환경보호일반 | B36: 0 | C36: 0 | D36: 0 | E36: - | F36: 0 | G36: -
A37: 사회복지 | B37: 0 | C37: 0 | D37: 0 | E37: 4000000 | F37: 0 | G37: 4000000
A38: 기초생활보장 | B38: 0 | C38: 0 | D38: 0 | E38: - | F38: 0 | G38: -
A39: 취약계층지원 | B39: 0 | C39: 0 | D39: 0 | E39: - | F39: 0 | G39: -
A40: 보육ㆍ가족및여성 | B40: 0 | C40: 0 | D40: 0 | E40: - | F40: 0 | G40: -
A41: 노인ㆍ청소년 | B41: 0 | C41: 0 | D41: 0 | E41: 4000000 | F41: 0 | G41: 4000000
A42: 주민복지과 | B42: 0 | C42: 0 | D42: 0 | E42: 4000000 | F42: 0 | G42: 4000000
A43: 청소년보호 및 복지증진 | B43: 0 | C43: 0 | D43: 0 | E43: 4000000 | F43: 0 | G43: 4000000
A44: 노동 | B44: 0 | C44: 0 | D44: 0 | E44: - | F44: - | G44: -
A45: 보훈 | B45: 0 | C45: 0 | D45: 0 | E45: - | F45: - | G45: -
A46: 주택 | B46: 0 | C46: 0 | D46: 0 | E46: - | F46: - | G46: -
A47: 사회복지일반 | B47: 0 | C47: 0 | D47: 0 | E47: - | F47: - | G47: -
A48: 보건 | B48: 0 | C48: 0 | D48: 0 | E48: - | F48: - | G48: -
A49: 보건의료 | B49: 0 | C49: 0 | D49: 0 | E49: - | F49: - | G49: -
A50: 식품의약안전 | B50: 0 | C50: 0 | D50: 0 | E50: - | F50: - | G50: -
A51: 농림해양수산 | B51: 0 | C51: 0 | D51: 0 | E51: - | F51: - | G51: -
A52: 농업ㆍ농촌 | B52: 0 | C52: 0 | D52: 0 | E52: - | F52: - | G52: -
A53: 임업ㆍ산촌 | B53: 0 | C53: 0 | D53: 0 | E53: - | F53: - | G53: -
A54: 해양수산ㆍ어촌 | B54: 0 | C54: 0 | D54: 0 | E54: - | F54: - | G54: -
A55: 산업ㆍ중소기업 | B55: 0 | C55: 0 | D55: 0 | E55: - | F55: - | G55: -
... A79: 기타 | B79: 0 | C79: 0 | D79: 0 | E79: - | F79: - | G79: -
A80: Ⅱ.관리운영비 | B80: 0 | C80: 0 | D80: 4000000 | E80: 0 | F80: 0 | G80: 0
A81: 1.인건비 | B81: 0 | C81: 0 | D81: 0 | E81: 0 | F81: 0 | G81: 0
A82: 급여 | B82: 0 | C82: 0 | D82: 0 | E82: 0 | F82: 0 | G82: 0
A83: 복리후생비 | B83: 0 | C83: 0 | D83: 0 | E83: 0 | F83: 0 | G83: 0
A84: 기타인건비 | B84: 0 | C84: 0 | D84: 0 | E84: 0 | F84: 0 | G84: 0
A85: 퇴직급여 | B85: 0 | C85: 0 | D85: 0 | E85: 0 | F85: 0 | G85: 0
A86: 2.경비 | B86: 0 | C86: 0 | D86: 0 | E86: 0 | F86: 0 | G86: 0
A87: 도서구입및인쇄비 | B87: 0 | C87: 0 | D87: 0 | E87: 0 | F87: 0 | G87: 0
A88: 소모품비 | B88: 0 | C88: 0 | D88: 0 | E88: 0 | F88: 0 | G88: 0
A89: 홍보및광고비 | B89: 0 | C89: 0 | D89: 0 | E89: 0 | F89: 0 | G89: 0
A90: 지급수수료 | B90: 0 | C90: 0 | D90: 0 | E90: 0 | F90: 0 | G90: 0
A91: 일반유형자산수선유지비 | B91: 0 | C91: 0 | D91: 0 | E91: 0 | F91: 0 | G91: 0
... A129: Ⅲ.비배분비용 | B129: 0 | C129: 0 | D129: 0 | E129: 0 | F129: 0 | G129: 0
A130: 1.운영비 | B130: 0 | C130: 0 | D130: 0 | E130: 0 | F130: 0 | G130: -
A131: 이자비용 | B131: 0 | C131: 0 | D131: 0 | E131: 0 | F131: 0 | G131: -
A132: 2.기타비용 | B132: 0 | C132: 0 | D132: 0 | E132: 0 | F132: 0 | G132: -
A133: 자산처분손실 | B133: 0 | C133: 0 | D133: 0 | E133: 0 | F133: 0 | G133: -
A134: 자산손상차손 | B134: 0 | C134: 0 | D134: 0 | E134: 0 | F134: 0 | G134: -
A135: 일반유형자산감가상각비 | B135: 0 | C135: 0 | D135: 0 | E135: 0 | F135: 0 | G135: -
A136: 주민편의시설감가상각비 | B136: 0 | C136: 0 | D136: 0 | E136: 0 | F136: 0 | G136: -
A137: 사회기반시설감가상각비 | B137: 0 | C137: 0 | D137: 0 | E137: 0 | F137: 0 | G137: -
A138: 무형자산상각비 | B138: 0 | C138: 0 | D138: 0 | E138: 0 | F138: 0 | G138: -
A139: 외화환산손실 | B139: 0 | C139: 0 | D139: 0 | E139: 0 | F139: 0 | G139: -
A140: 외환차손 | B140: 0 | C140: 0 | D140: 0 | E140: 0 | F140: 0 | G140: -
A141: 대손상각비 | B141: 0 | C141: 0 | D141: 0 | E141: 0 | F141: 0 | G141: -
A142: 기타비용 | B142: 0 | C142: 0 | D142: 0 | E142: 0 | F142: 0 | G142: -
A143: Ⅳ.비배분수익 | B143: 0 | C143: 0 | D143: 4087479 | E143: 0 | F143: 0 | G143: 5380110
A144: 1.자체조달수익 | B144: 0 | C144: 0 | D144: 4087479 | E144: 0 | F144: 0 | G144: 5380110
A145: 경상세외수익 | B145: 0 | C145: 0 | D145: 4087479 | E145: 0 | F145: 0 | G145: 5380110
A146: 임시세외수익 | B146: 0 | C146: 0 | D146: 0 | E146: 0 | F146: 0 | G146: -
A147: 2.기타수익 | B147: 0 | C147: 0 | D147: 0 | E147: 0 | F147: 0 | G147: -
A148: 전입금수익 | B148: 0 | C148: 0 | D148: 0 | E148: 0 | F148: 0 | G148: -
A149: 외화환산이익 | B149: 0 | C149: 0 | D149: 0 | E149: 0 | F149: 0 | G149: -
A150: 외환차익 | B150: 0 | C150: 0 | D150: 0 | E150: 0 | F150: 0 | G150: -
A151: 대손충당금환입 | B151: 0 | C151: 0 | D151: 0 | E151: 0 | F151: 0 | G151: -
A152: 퇴직급여충당부채환입 | B152: 0 | C152: 0 | D152: 0 | E152: 0 | F152: 0 | G152: -
A153: 자산손상차손환입 | B153: 0 | C153: 0 | D153: 0 | E153: 0 | F153: 0 | G153: -
A154: 기타수익 | B154: 0 | C154: 0 | D154: 0 | E154: 0 | F154: 0 | G154: -
A155: 기타비배분수익 | B155: 0 | C155: 0 | D155: 0 | E155: 0 | F155: 0 | G155: -
A156: Ⅴ.재정운영순원가(Ⅰ+Ⅱ+Ⅲ-Ⅳ) | B156: 0 | C156: 0 | D156: -87479 | E156: 0 | F156: 0 | G156: -1380110
A157: Ⅵ.일반수익 | B157: 0 | C157: 0 | D157: 0 | E157: 0 | F157: 0 | G157: 0
A158: 1.자체조달수익 | B158: 0 | C158: 0 | D158: 0 | E158: 0 | F158: 0 | G158: -
A159: 지방세수익 | B159: 0 | C159: 0 | D159: 0 | E159: 0 | F159: 0 | G159: -
A160: 경상세외수익 | B160: 0 | C160: 0 | D160: 0 | E160: 0 | F160: 0 | G160: -
A161: 임시세외수익 | B161: 0 | C161: 0 | D161: 0 | E161: 0 | F161: 0 | G161: -
A162: 2.정부간이전수익 | B162: 0 | C162: 0 | D162: 0 | E162: 0 | F162: 0 | G162: -
A163: 지방교부세수익 | B163: 0 | C163: 0 | D163: 0 | E163: 0 | F163: 0 | G163: -
A164: 자치구 조정교부금수익 | B164: 0 | C164: 0 | D164: 0 | E164: 0 | F164: 0 | G164: -
A165: 시군 조정교부금수익 | B165: 0 | C165: 0 | D165: 0 | E165: 0 | F165: 0 | G165: -
A166: 시도비보조금반환금수익 | B166: 0 | C166: 0 | D166: 0 | E166: 0 | F166: 0 | G166: -
A167: 기타정부간이전수익 | B167: 0 | C167: 0 | D167: 0 | E167: 0 | F167: 0 | G167: -
A168: 3.기타수익 | B168: 0 | C168: 0 | D168: 0 | E168: 0 | F168: 0 | G168: -
A169: 전입금수익 | B169: 0 | C169: 0 | D169: 0 | E169: 0 | F169: 0 | G169: -
... A171: 기타일반수익 | B171: 0 | C171: 0 | D171: 0 | E171: 0 | F171: 0 | G171: -
A172: Ⅶ.재정운영결과(Ⅴ-Ⅵ) | B172: 0 | C172: 0 | D172: -87479 | E172: 0 | F172: 0 | G172: -1380110

Sheet 저소득장학
A2: 재정운영표( 저소득주민자녀장학기금 )
A4: 해당연도 2016년 1월 1일 부터 2016년 12월 31일 까지
A5: 직전연도 2015년 1월 1일 부터 2015년 12월 31일 까지
A6: 진천군청 | G6: (단위 : 원)
A7: 과목 | B7: 해당연도(2016년) | E7: 직전연도(2015년)
B8: 총원가 | C8: 사업수익 | D8: 순원가 | E8: 총원가 | F8: 사업수익 | G8: 순원가
A10: Ⅰ.사업순원가 | B10: 1000000 | C10: 0 | D10: 1000000 | E10: 1350000 | F10: 0 | G10: 1350000
A11: 일반공공행정 | B11: - | C11: - | D11: - | E11: - | F11: 0 | G11: -
A12: 입법및선거관리 | B12: - | C12: - | D12: - | E12: - | F12: 0 | G12: -
A13: 지방행정ㆍ재정지원 | B13: - | C13: - | D13: - | E13: - | F13: 0 | G13: -
A14: 재정ㆍ금융 | B14: - | C14: - | D14: - | E14: - | F14: 0 | G14: -
A15: 일반행정 | B15: - | C15: - | D15: - | E15: - | F15: 0 | G15: -
A16: 공공질서및안전 | B16: - | C16: - | D16: - | E16: - | F16: 0 | G16: -
A17: 경찰 | B17: - | C17: - | D17: - | E17: - | F17: 0 | G17: -
A18: 재난방재ㆍ민방위 | B18: - | C18: - | D18: - | E18: - | F18: 0 | G18: -
A19: 소방 | B19: - | C19: - | D19: - | E19: - | F19: 0 | G19: -
A20: 교육 | B20: - | C20: - | D20: - | E20: - | F20: 0 | G20: -
A21: 유아및초중등교육 | B21: - | C21: - | D21: - | E21: - | F21: 0 | G21: -
A22: 고등교육 | B22: - | C22: - | D22: - | E22: - | F22: 0 | G22: -
... A36: 환경보호일반 | B36: - | C36: - | D36: - | E36: - | F36: 0 | G36: -
A37: 사회복지 | B37: 1000000 | C37: 0 | D37: 1000000 | E37: 1350000 | F37: 0 | G37: 1350000
A38: 기초생활보장 | B38: 1000000 | C38: 0 | D38: 1000000 | E38: 1350000 | F38: 0 | G38: 1350000
A39: 주민복지과 | B39: 1000000 | C39: 0 | D39: 1000000 | E39: 1350000 | F39: 0 | G39: 1350000
A40: 저소득층 생활안정 지원 | B40: 1000000 | C40: 0 | D40: 1000000 | E40: 1350000 | F40: 0 | G40: 1350000
A41: 취약계층지원 | B41: - | C41: - | D41: - | E41: - | F41: 0 | G41: -
A42: 보육ㆍ가족및여성 | B42: - | C42: - | D42: - | E42: - | F42: 0 | G42: -
A43: 노인ㆍ청소년 | B43: - | C43: - | D43: - | E43: - | F43: 0 | G43: -
A44: 노동 | B44: - | C44: - | D44: - | E44: - | F44: 0 | G44: -
A45: 보훈 | B45: - | C45: - | D45: - | E45: - | F45: 0 | G45: -
A46: 주택 | B46: - | C46: - | D46: - | E46: - | F46: 0 | G46: -
A47: 사회복지일반 | B47: - | C47: - | D47: - | E47: - | F47: 0 | G47: -
A48: 보건 | B48: - | C48: - | D48: - | E48: - | F48: 0 | G48: -
A49: 보건의료 | B49: - | C49: - | D49: - | E49: - | F49: 0 | G49: -
A50: 식품의약안전 | B50: - | C50: - | D50: - | E50: - | F50: 0 | G50: -
A51: 농림해양수산 | B51: - | C51: - | D51: - | E51: - | F51: 0 | G51: -
A52: 농업ㆍ농촌 | B52: - | C52: - | D52: - | E52: - | F52: 0 | G52: -
... A79: 기타 | B79: - | C79: - | D79: - | E79: - | F79: 0 | G79: -
A80: Ⅱ.관리운영비 | B80: 0 | C80: 0 | D80: 0 | E80: 0 | F80: 0 | G80: 0
A81: 1.인건비 | B81: 0 | C81: 0 | D81: 0 | E81: 0 | F81: 0 | G81: 0
A82: 급여 | B82: 0 | C82: 0 | D82: 0 | E82: 0 | F82: 0 | G82: 0
A83: 복리후생비 | B83: 0 | C83: 0 | D83: 0 | E83: 0 | F83: 0 | G83: 0
A84: 기타인건비 | B84: 0 | C84: 0 | D84: 0 | E84: 0 | F84: 0 | G84: 0
A85: 퇴직급여 | B85: 0 | C85: 0 | D85: 0 | E85: 0 | F85: 0 | G85: 0
A86: 2.경비 | B86: 0 | C86: 0 | D86: 0 | E86: 0 | F86: 0 | G86: 0
A87: 도서구입및인쇄비 | B87: 0 | C87: 0 | D87: 0 | E87: 0 | F87: 0 | G87: 0
A88: 소모품비 | B88: 0 | C88: 0 | D88: 0 | E88: 0 | F88: 0 | G88: 0
A89: 홍보및광고비 | B89: 0 | C89: 0 | D89: 0 | E89: 0 | F89: 0 | G89: 0
A90: 지급수수료 | B90: 0 | C90: 0 | D90: 0 | E90: 0 | F90: 0 | G90: 0
A91: 일반유형자산수선유지비 | B91: 0 | C91: 0 | D91: 0 | E91: 0 | F91: 0 | G91: 0
... A129: Ⅲ.비배분비용 | B129: 0 | C129: 0 | D129: 0 | E129: 0 | F129: 0 | G129: 0
A130: 1.운영비 | B130: 0 | C130: 0 | D130: - | E130: - | F130: 0 | G130: -
A131: 이자비용 | B131: 0 | C131: 0 | D131: - | E131: - | F131: 0 | G131: -
A132: 2.기타비용 | B132: 0 | C132: 0 | D132: - | E132: - | F132: 0 | G132: -
A133: 자산처분손실 | B133: 0 | C133: 0 | D133: - | E133: - | F133: 0 | G133: -
A134: 자산손상차손 | B134: 0 | C134: 0 | D134: - | E134: - | F134: 0 | G134: -
A135: 일반유형자산감가상각비 | B135: 0 | C135: 0 | D135: - | E135: - | F135: 0 | G135: -
A136: 주민편의시설감가상각비 | B136: 0 | C136: 0 | D136: - | E136: - | F136: 0 | G136: -
A137: 사회기반시설감가상각비 | B137: 0 | C137: 0 | D137: - | E137: - | F137: 0 | G137: -
A138: 무형자산상각비 | B138: 0 | C138: 0 | D138: - | E138: - | F138: 0 | G138: -
A139: 외화환산손실 | B139: 0 | C139: 0 | D139: - | E139: - | F139: 0 | G139: -
A140: 외환차손 | B140: 0 | C140: 0 | D140: - | E140: - | F140: 0 | G140: -
A141: 대손상각비 | B141: 0 | C141: 0 | D141: - | E141: - | F141: 0 | G141: -
A142: 기타비용 | B142: 0 | C142: 0 | D142: - | E142: - | F142: 0 | G142: -
A143: Ⅳ.비배분수익 | B143: 0 | C143: 0 | D143: 1234521 | E143: 0 | F143: 0 | G143: 1529710
A144: 1.자체조달수익 | B144: 0 | C144: 0 | D144: 1234521 | E144: 0 | F144: 0 | G144: 1529710
A145: 경상세외수익 | B145: 0 | C145: 0 | D145: 1234521 | E145: 0 | F145: 0 | G145: 1529710
A146: 임시세외수익 | B146: 0 | C146: 0 | D146: - | E146: 0 | F146: 0 | G146: -
A147: 2.기타수익 | B147: 0 | C147: 0 | D147: - | E147: 0 | F147: 0 | G147: -
A148: 전입금수익 | B148: 0 | C148: 0 | D148: - | E148: 0 | F148: 0 | G148: -
A149: 외화환산이익 | B149: 0 | C149: 0 | D149: - | E149: 0 | F149: 0 | G149: -
A150: 외환차익 | B150: 0 | C150: 0 | D150: - | E150: 0 | F150: 0 | G150: -
A151: 대손충당금환입 | B151: 0 | C151: 0 | D151: - | E151: 0 | F151: 0 | G151: -
A152: 퇴직급여충당부채환입 | B152: 0 | C152: 0 | D152: - | E152: 0 | F152: 0 | G152: -
A153: 자산손상차손환입 | B153: 0 | C153: 0 | D153: - | E153: 0 | F153: 0 | G153: -
A154: 기타수익 | B154: 0 | C154: 0 | D154: - | E154: 0 | F154: 0 | G154: -
A155: 기타비배분수익 | B155: 0 | C155: 0 | D155: - | E155: 0 | F155: 0 | G155: -
A156: Ⅴ.재정운영순원가(Ⅰ+Ⅱ+Ⅲ-Ⅳ) | B156: 0 | C156: 0 | D156: -234521 | E156: 0 | F156: 0 | G156: -179710
A157: Ⅵ.일반수익 | B157: 0 | C157: 0 | D157: 0 | E157: 0 | F157: 0 | G157: 0
A158: 1.자체조달수익 | B158: 0 | C158: 0 | D158: - | E158: 0 | F158: 0 | G158: -
A159: 지방세수익 | B159: 0 | C159: 0 | D159: - | E159: 0 | F159: 0 | G159: -
A160: 경상세외수익 | B160: 0 | C160: 0 | D160: - | E160: 0 | F160: 0 | G160: -
A161: 임시세외수익 | B161: 0 | C161: 0 | D161: - | E161: 0 | F161: 0 | G161: -
A162: 2.정부간이전수익 | B162: 0 | C162: 0 | D162: - | E162: 0 | F162: 0 | G162: -
A163: 지방교부세수익 | B163: 0 | C163: 0 | D163: - | E163: 0 | F163: 0 | G163: -
A164: 자치구 조정교부금수익 | B164: 0 | C164: 0 | D164: - | E164: 0 | F164: 0 | G164: -
A165: 시군 조정교부금수익 | B165: 0 | C165: 0 | D165: - | E165: 0 | F165: 0 | G165: -
A166: 시도비보조금반환금수익 | B166: 0 | C166: 0 | D166: - | E166: 0 | F166: 0 | G166: -
A167: 기타정부간이전수익 | B167: 0 | C167: 0 | D167: - | E167: 0 | F167: 0 | G167: -
A168: 3.기타수익 | B168: 0 | C168: 0 | D168: - | E168: 0 | F168: 0 | G168: -
A169: 전입금수익 | B169: 0 | C169: 0 | D169: - | E169: 0 | F169: 0 | G169: -
... A171: 기타일반수익 | B171: 0 | C171: 0 | D171: - | E171: 0 | F171: 0 | G171: -
A172: Ⅶ.재정운영결과(Ⅴ-Ⅵ) | B172: 0 | C172: 0 | D172: -234521 | E172: 0 | F172: 0 | G172: -179710

Sheet 노인복지
A2: 재정운영표( 노인복지기금 )
A4: 해당연도 2016년 1월 1일 부터 2016년 12월 31일 까지
A5: 직전연도 2015년 1월 1일 부터 2015년 12월 31일 까지
A6: 진천군청 | G6: (단위 : 원)
A7: 과목 | B7: 해당연도(2016년) | E7: 직전연도(2015년)
B8: 총원가 | C8: 사업수익 | D8: 순원가 | E8: 총원가 | F8: 사업수익 | G8: 순원가
A10: Ⅰ.사업순원가 | B10: 8500000 | C10: 0 | D10: 8500000 | E10: 10000000 | F10: 0 | G10: 10000000
A11: 일반공공행정 | B11: 0 | C11: 0 | D11: 0 | E11: - | F11: 0 | G11: -
A12: 입법및선거관리 | B12: 0 | C12: 0 | D12: 0 | E12: - | F12: 0 | G12: -
A13: 지방행정ㆍ재정지원 | B13: 0 | C13: 0 | D13: 0 | E13: - | F13: 0 | G13: -
A14: 재정ㆍ금융 | B14: 0 | C14: 0 | D14: 0 | E14: - | F14: 0 | G14: -
A15: 일반행정 | B15: 0 | C15: 0 | D15: 0 | E15: - | F15: 0 | G15: -
A16: 공공질서및안전 | B16: 0 | C16: 0 | D16: 0 | E16: - | F16: 0 | G16: -
A17: 경찰 | B17: 0 | C17: 0 | D17: 0 | E17: - | F17: 0 | G17: -
A18: 재난방재ㆍ민방위 | B18: 0 | C18: 0 | D18: 0 | E18: - | F18: 0 | G18: -
A19: 소방 | B19: 0 | C19: 0 | D19: 0 | E19: - | F19: 0 | G19: -
A20: 교육 | B20: 0 | C20: 0 | D20: 0 | E20: - | F20: 0 | G20: -
A21: 유아및초중등교육 | B21: 0 | C21: 0 | D21: 0 | E21: - | F21: 0 | G21: -
A22: 고등교육 | B22: 0 | C22: 0 | D22: 0 | E22: - | F22: 0 | G22: -
... A36: 환경보호일반 | B36: 0 | C36: 0 | D36: 0 | E36: - | F36: 0 | G36: -
A37: 사회복지 | B37: 8500000 | C37: 0 | D37: 8500000 | E37: 10000000 | F37: 0 | G37: 10000000
A38: 기초생활보장 | B38: 0 | C38: 0 | D38: 0 | E38: - | F38: 0 | G38: -
A39: 취약계층지원 | B39: 0 | C39: 0 | D39: 0 | E39: - | F39: 0 | G39: -
A40: 보육ㆍ가족및여성 | B40: 0 | C40: 0 | D40: 0 | E40: - | F40: 0 | G40: -
A41: 노인ㆍ청소년 | B41: 8500000 | C41: 0 | D41: 8500000 | E41: 10000000 | F41: 0 | G41: 10000000
A42: 주민복지과 | B42: 8500000 | C42: 0 | D42: 8500000 | E42: 10000000 | F42: 0 | G42: 10000000
A43: 노인복지증진 | B43: 8500000 | C43: 0 | D43: 8500000 | E43: 10000000 | F43: 0 | G43: 10000000
A44: 노동 | B44: 0 | C44: 0 | D44: 0 | E44: - | F44: - | G44: -
A45: 보훈 | B45: 0 | C45: 0 | D45: 0 | E45: - | F45: - | G45: -
A46: 주택 | B46: 0 | C46: 0 | D46: 0 | E46: - | F46: - | G46: -
A47: 사회복지일반 | B47: 0 | C47: 0 | D47: 0 | E47: - | F47: - | G47: -
A48: 보건 | B48: 0 | C48: 0 | D48: 0 | E48: - | F48: - | G48: -
A49: 보건의료 | B49: 0 | C49: 0 | D49: 0 | E49: - | F49: - | G49: -
A50: 식품의약안전 | B50: 0 | C50: 0 | D50: 0 | E50: - | F50: - | G50: -
A51: 농림해양수산 | B51: 0 | C51: 0 | D51: 0 | E51: - | F51: - | G51: -
A52: 농업ㆍ농촌 | B52: 0 | C52: 0 | D52: 0 | E52: - | F52: - | G52: -
A53: 임업ㆍ산촌 | B53: 0 | C53: 0 | D53: 0 | E53: - | F53: - | G53: -
A54: 해양수산ㆍ어촌 | B54: 0 | C54: 0 | D54: 0 | E54: - | F54: - | G54: -
A55: 산업ㆍ중소기업 | B55: 0 | C55: 0 | D55: 0 | E55: - | F55: - | G55: -
... A79: 기타 | B79: 0 | C79: 0 | D79: 0 | E79: - | F79: - | G79: -
A80: Ⅱ.관리운영비 | B80: 0 | C80: 0 | D80: 0 | E80: 0 | F80: 0 | G80: 0
A81: 1.인건비 | B81: 0 | C81: 0 | D81: 0 | E81: 0 | F81: 0 | G81: 0
A82: 급여 | B82: 0 | C82: 0 | D82: 0 | E82: 0 | F82: 0 | G82: 0
A83: 복리후생비 | B83: 0 | C83: 0 | D83: 0 | E83: 0 | F83: 0 | G83: 0
A84: 기타인건비 | B84: 0 | C84: 0 | D84: 0 | E84: 0 | F84: 0 | G84: 0
A85: 퇴직급여 | B85: 0 | C85: 0 | D85: 0 | E85: 0 | F85: 0 | G85: 0
A86: 2.경비 | B86: 0 | C86: 0 | D86: 0 | E86: 0 | F86: 0 | G86: 0
A87: 도서구입및인쇄비 | B87: 0 | C87: 0 | D87: 0 | E87: 0 | F87: 0 | G87: 0
A88: 소모품비 | B88: 0 | C88: 0 | D88: 0 | E88: 0 | F88: 0 | G88: 0
A89: 홍보및광고비 | B89: 0 | C89: 0 | D89: 0 | E89: 0 | F89: 0 | G89: 0
A90: 지급수수료 | B90: 0 | C90: 0 | D90: 0 | E90: 0 | F90: 0 | G90: 0
A91: 일반유형자산수선유지비 | B91: 0 | C91: 0 | D91: 0 | E91: 0 | F91: 0 | G91: 0
... A129: Ⅲ.비배분비용 | B129: 0 | C129: 0 | D129: 0 | E129: 0 | F129: 0 | G129: 0
A130: 1.운영비 | B130: 0 | C130: 0 | D130: 0 | E130: 0 | F130: 0 | G130: -
A131: 이자비용 | B131: 0 | C131: 0 | D131: 0 | E131: 0 | F131: 0 | G131: -
A132: 2.기타비용 | B132: 0 | C132: 0 | D132: 0 | E132: 0 | F132: 0 | G132: -
A133: 자산처분손실 | B133: 0 | C133: 0 | D133: 0 | E133: 0 | F133: 0 | G133: -
A134: 자산손상차손 | B134: 0 | C134: 0 | D134: 0 | E134: 0 | F134: 0 | G134: -
A135: 일반유형자산감가상각비 | B135: 0 | C135: 0 | D135: 0 | E135: 0 | F135: 0 | G135: -
A136: 주민편의시설감가상각비 | B136: 0 | C136: 0 | D136: 0 | E136: 0 | F136: 0 | G136: -
A137: 사회기반시설감가상각비 | B137: 0 | C137: 0 | D137: 0 | E137: 0 | F137: 0 | G137: -
A138: 무형자산상각비 | B138: 0 | C138: 0 | D138: 0 | E138: 0 | F138: 0 | G138: -
A139: 외화환산손실 | B139: 0 | C139: 0 | D139: 0 | E139: 0 | F139: 0 | G139: -
A140: 외환차손 | B140: 0 | C140: 0 | D140: 0 | E140: 0 | F140: 0 | G140: -
A141: 대손상각비 | B141: 0 | C141: 0 | D141: 0 | E141: 0 | F141: 0 | G141: -
A142: 기타비용 | B142: 0 | C142: 0 | D142: 0 | E142: 0 | F142: 0 | G142: -
A143: Ⅳ.비배분수익 | B143: 0 | C143: 0 | D143: 8448791 | E143: 0 | F143: 0 | G143: 9387450
A144: 1.자체조달수익 | B144: 0 | C144: 0 | D144: 8448791 | E144: 0 | F144: 0 | G144: 9387450
A145: 경상세외수익 | B145: 0 | C145: 0 | D145: 8448791 | E145: 0 | F145: 0 | G145: 9387450
A146: 임시세외수익 | B146: 0 | C146: 0 | D146: 0 | E146: 0 | F146: 0 | G146: -
A147: 2.기타수익 | B147: 0 | C147: 0 | D147: 0 | E147: 0 | F147: 0 | G147: -
A148: 전입금수익 | B148: 0 | C148: 0 | D148: 0 | E148: 0 | F148: 0 | G148: -
A149: 외화환산이익 | B149: 0 | C149: 0 | D149: 0 | E149: 0 | F149: 0 | G149: -
A150: 외환차익 | B150: 0 | C150: 0 | D150: 0 | E150: 0 | F150: 0 | G150: -
A151: 대손충당금환입 | B151: 0 | C151: 0 | D151: 0 | E151: 0 | F151: 0 | G151: -
A152: 퇴직급여충당부채환입 | B152: 0 | C152: 0 | D152: 0 | E152: 0 | F152: 0 | G152: -
A153: 자산손상차손환입 | B153: 0 | C153: 0 | D153: 0 | E153: 0 | F153: 0 | G153: -
A154: 기타수익 | B154: 0 | C154: 0 | D154: 0 | E154: 0 | F154: 0 | G154: -
A155: 기타비배분수익 | B155: 0 | C155: 0 | D155: 0 | E155: 0 | F155: 0 | G155: -
A156: Ⅴ.재정운영순원가(Ⅰ+Ⅱ+Ⅲ-Ⅳ) | B156: 0 | C156: 0 | D156: 51209 | E156: 0 | F156: 0 | G156: 612550
A157: Ⅵ.일반수익 | B157: 0 | C157: 0 | D157: 0 | E157: 0 | F157: 0 | G157: 0
A158: 1.자체조달수익 | B158: 0 | C158: 0 | D158: 0 | E158: 0 | F158: 0 | G158: -
A159: 지방세수익 | B159: 0 | C159: 0 | D159: 0 | E159: 0 | F159: 0 | G159: -
A160: 경상세외수익 | B160: 0 | C160: 0 | D160: 0 | E160: 0 | F160: 0 | G160: -
A161: 임시세외수익 | B161: 0 | C161: 0 | D161: 0 | E161: 0 | F161: 0 | G161: -
A162: 2.정부간이전수익 | B162: 0 | C162: 0 | D162: 0 | E162: 0 | F162: 0 | G162: -
A163: 지방교부세수익 | B163: 0 | C163: 0 | D163: 0 | E163: 0 | F163: 0 | G163: -
A164: 자치구 조정교부금수익 | B164: 0 | C164: 0 | D164: 0 | E164: 0 | F164: 0 | G164: -
A165: 시군 조정교부금수익 | B165: 0 | C165: 0 | D165: 0 | E165: 0 | F165: 0 | G165: -
A166: 시도비보조금반환금수익 | B166: 0 | C166: 0 | D166: 0 | E166: 0 | F166: 0 | G166: -
A167: 기타정부간이전수익 | B167: 0 | C167: 0 | D167: 0 | E167: 0 | F167: 0 | G167: -
A168: 3.기타수익 | B168: 0 | C168: 0 | D168: 0 | E168: 0 | F168: 0 | G168: -
A169: 전입금수익 | B169: 0 | C169: 0 | D169: 0 | E169: 0 | F169: 0 | G169: -
... A171: 기타일반수익 | B171: 0 | C171: 0 | D171: 0 | E171: 0 | F171: 0 | G171: -
A172: Ⅶ.재정운영결과(Ⅴ-Ⅵ) | B172: 0 | C172: 0 | D172: 51209 | E172: 0 | F172: 0 | G172: 612550

Sheet 양성평등
A2: 재정운영표( 양성평등기금 )
A4: 해당연도 2016년 1월 1일 부터 2016년 12월 31일 까지
A5: 직전연도 2015년 1월 1일 부터 2015년 12월 31일 까지
A6: 진천군청 | G6: (단위 : 원)
A7: 과목 | B7: 해당연도(2016년) | E7: 직전연도(2015년)
B8: 총원가 | C8: 사업수익 | D8: 순원가 | E8: 총원가 | F8: 사업수익 | G8: 순원가
A10: Ⅰ.사업순원가 | B10: 8000000 | C10: 0 | D10: 8000000 | E10: 9000000 | F10: 0 | G10: 9000000
A11: 일반공공행정 | B11: - | C11: 0 | D11: - | E11: - | F11: 0 | G11: -
A12: 입법및선거관리 | B12: - | C12: 0 | D12: - | E12: - | F12: 0 | G12: -
A13: 지방행정ㆍ재정지원 | B13: - | C13: 0 | D13: - | E13: - | F13: 0 | G13: -
A14: 재정ㆍ금융 | B14: - | C14: 0 | D14: - | E14: - | F14: 0 | G14: -
A15: 일반행정 | B15: - | C15: 0 | D15: - | E15: - | F15: 0 | G15: -
A16: 공공질서및안전 | B16: - | C16: 0 | D16: - | E16: - | F16: 0 | G16: -
A17: 경찰 | B17: - | C17: 0 | D17: - | E17: - | F17: 0 | G17: -
A18: 재난방재ㆍ민방위 | B18: - | C18: 0 | D18: - | E18: - | F18: 0 | G18: -
A19: 소방 | B19: - | C19: 0 | D19: - | E19: - | F19: 0 | G19: -
A20: 교육 | B20: - | C20: 0 | D20: - | E20: - | F20: 0 | G20: -
A21: 유아및초중등교육 | B21: - | C21: 0 | D21: - | E21: - | F21: 0 | G21: -
A22: 고등교육 | B22: - | C22: 0 | D22: - | E22: - | F22: 0 | G22: -
... A36: 환경보호일반 | B36: - | C36: 0 | D36: - | E36: - | F36: 0 | G36: -
A37: 사회복지 | B37: 8000000 | C37: 0 | D37: 8000000 | E37: 9000000 | F37: 0 | G37: 9000000
A38: 기초생활보장 | B38: - | C38: 0 | D38: - | E38: - | F38: 0 | G38: -
A39: 취약계층지원 | B39: - | C39: 0 | D39: - | E39: - | F39: 0 | G39: -
A40: 보육ㆍ가족및여성 | B40: 8000000 | C40: 0 | D40: 8000000 | E40: 9000000 | F40: 0 | G40: 9000000
A41: 주민복지과 | B41: 8000000 | C41: 0 | D41: 8000000 | E41: 9000000 | F41: 0 | G41: 9000000
A42: 여성 복지 증진 | B42: 8000000 | C42: 0 | D42: 8000000 | E42: 9000000 | F42: 0 | G42: 9000000
A43: 노인ㆍ청소년 | B43: - | C43: 0 | D43: - | E43: - | F43: 0 | G43: -
A44: 노동 | B44: - | C44: 0 | D44: - | E44: - | F44: 0 | G44: -
A45: 보훈 | B45: - | C45: 0 | D45: - | E45: - | F45: 0 | G45: -
A46: 주택 | B46: - | C46: 0 | D46: - | E46: - | F46: 0 | G46: -
A47: 사회복지일반 | B47: - | C47: 0 | D47: - | E47: - | F47: 0 | G47: -
A48: 보건 | B48: - | C48: 0 | D48: - | E48: - | F48: 0 | G48: -
A49: 보건의료 | B49: - | C49: 0 | D49: - | E49: - | F49: 0 | G49: -
A50: 식품의약안전 | B50: - | C50: 0 | D50: - | E50: - | F50: 0 | G50: -
A51: 농림해양수산 | B51: - | C51: 0 | D51: - | E51: - | F51: 0 | G51: -
A52: 농업ㆍ농촌 | B52: - | C52: 0 | D52: - | E52: - | F52: 0 | G52: -
A53: 임업ㆍ산촌 | B53: - | C53: 0 | D53: - | E53: - | F53: 0 | G53: -
A54: 해양수산ㆍ어촌 | B54: - | C54: 0 | D54: - | E54: - | F54: 0 | G54: -
... A79: 기타 | B79: - | C79: 0 | D79: - | E79: - | F79: 0 | G79: -
A80: Ⅱ.관리운영비 | B80: 0 | C80: 0 | D80: 0 | E80: 0 | F80: 0 | G80: 0
A81: 1.인건비 | B81: - | C81: 0 | D81: 0 | E81: 0 | F81: 0 | G81: 0
A82: 급여 | B82: - | C82: 0 | D82: 0 | E82: 0 | F82: 0 | G82: 0
A83: 복리후생비 | B83: - | C83: 0 | D83: 0 | E83: 0 | F83: 0 | G83: 0
A84: 기타인건비 | B84: - | C84: 0 | D84: 0 | E84: 0 | F84: 0 | G84: 0
A85: 퇴직급여 | B85: - | C85: 0 | D85: 0 | E85: 0 | F85: 0 | G85: 0
A86: 2.경비 | B86: - | C86: 0 | D86: 0 | E86: 0 | F86: 0 | G86: 0
A87: 도서구입및인쇄비 | B87: - | C87: 0 | D87: 0 | E87: 0 | F87: 0 | G87: 0
A88: 소모품비 | B88: - | C88: 0 | D88: 0 | E88: 0 | F88: 0 | G88: 0
A89: 홍보및광고비 | B89: - | C89: 0 | D89: 0 | E89: 0 | F89: 0 | G89: 0
A90: 지급수수료 | B90: - | C90: 0 | D90: 0 | E90: 0 | F90: 0 | G90: 0
A91: 일반유형자산수선유지비 | B91: - | C91: 0 | D91: 0 | E91: 0 | F91: 0 | G91: 0
A92: 주민편의시설수선유지비 | B92: - | C92: 0 | D92: 0 | E92: 0 | F92: 0 | G92: 0
... A128: 기타이전비용 | B128: - | C128: 0 | D128: 0 | E128: 0 | F128: 0 | G128: 0
A129: Ⅲ.비배분비용 | B129: 0 | C129: 0 | D129: 0 | E129: 0 | F129: 0 | G129: 0
A130: 1.운영비 | B130: 0 | C130: 0 | D130: - | E130: 0 | F130: 0 | G130: -
A131: 이자비용 | B131: 0 | C131: 0 | D131: - | E131: 0 | F131: 0 | G131: -
A132: 2.기타비용 | B132: 0 | C132: 0 | D132: - | E132: 0 | F132: 0 | G132: -
A133: 자산처분손실 | B133: 0 | C133: 0 | D133: - | E133: 0 | F133: 0 | G133: -
A134: 자산손상차손 | B134: 0 | C134: 0 | D134: - | E134: 0 | F134: 0 | G134: -
A135: 일반유형자산감가상각비 | B135: 0 | C135: 0 | D135: - | E135: 0 | F135: 0 | G135: -
A136: 주민편의시설감가상각비 | B136: 0 | C136: 0 | D136: - | E136: 0 | F136: 0 | G136: -
A137: 사회기반시설감가상각비 | B137: 0 | C137: 0 | D137: - | E137: 0 | F137: 0 | G137: -
A138: 무형자산상각비 | B138: 0 | C138: 0 | D138: - | E138: 0 | F138: 0 | G138: -
A139: 외화환산손실 | B139: 0 | C139: 0 | D139: - | E139: 0 | F139: 0 | G139: -
A140: 외환차손 | B140: 0 | C140: 0 | D140: - | E140: 0 | F140: 0 | G140: -
A141: 대손상각비 | B141: 0 | C141: 0 | D141: - | E141: 0 | F141: 0 | G141: -
A142: 기타비용 | B142: 0 | C142: 0 | D142: - | E142: 0 | F142: 0 | G142: -
A143: Ⅳ.비배분수익 | B143: 0 | C143: 0 | D143: 8773968 | E143: 0 | F143: 0 | G143: 9031630
A144: 1.자체조달수익 | B144: 0 | C144: 0 | D144: 8773968 | E144: 0 | F144: 0 | G144: 9031630
A145: 경상세외수익 | B145: 0 | C145: 0 | D145: 8773968 | E145: 0 | F145: 0 | G145: 9031630
A146: 임시세외수익 | B146: 0 | C146: 0 | D146: - | E146: 0 | F146: 0 | G146: -
A147: 2.기타수익 | B147: 0 | C147: 0 | D147: - | E147: 0 | F147: 0 | G147: -
A148: 전입금수익 | B148: 0 | C148: 0 | D148: - | E148: 0 | F148: 0 | G148: -
A149: 외화환산이익 | B149: 0 | C149: 0 | D149: - | E149: 0 | F149: 0 | G149: -
A150: 외환차익 | B150: 0 | C150: 0 | D150: - | E150: 0 | F150: 0 | G150: -
A151: 대손충당금환입 | B151: 0 | C151: 0 | D151: - | E151: 0 | F151: 0 | G151: -
A152: 퇴직급여충당부채환입 | B152: 0 | C152: 0 | D152: - | E152: 0 | F152: 0 | G152: -
A153: 자산손상차손환입 | B153: 0 | C153: 0 | D153: - | E153: 0 | F153: 0 | G153: -
A154: 기타수익 | B154: 0 | C154: 0 | D154: - | E154: 0 | F154: 0 | G154: -
A155: 기타비배분수익 | B155: 0 | C155: 0 | D155: - | E155: 0 | F155: 0 | G155: -
A156: Ⅴ.재정운영순원가(Ⅰ+Ⅱ+Ⅲ-Ⅳ) | B156: 0 | C156: 0 | D156: -773968 | E156: 0 | F156: 0 | G156: -31630
A157: Ⅵ.일반수익 | B157: 0 | C157: 0 | D157: 50000000 | E157: 0 | F157: 0 | G157: 50000000
A158: 1.자체조달수익 | B158: 0 | C158: 0 | D158: - | E158: 0 | F158: 0 | G158: -
A159: 지방세수익 | B159: 0 | C159: 0 | D159: - | E159: 0 | F159: 0 | G159: -
A160: 경상세외수익 | B160: 0 | C160: 0 | D160: - | E160: 0 | F160: 0 | G160: -
A161: 임시세외수익 | B161: 0 | C161: 0 | D161: - | E161: 0 | F161: 0 | G161: -
A162: 2.정부간이전수익 | B162: 0 | C162: 0 | D162: - | E162: 0 | F162: 0 | G162: -
A163: 지방교부세수익 | B163: 0 | C163: 0 | D163: - | E163: 0 | F163: 0 | G163: -
A164: 자치구 조정교부금수익 | B164: 0 | C164: 0 | D164: - | E164: 0 | F164: 0 | G164: -
A165: 시군 조정교부금수익 | B165: 0 | C165: 0 | D165: - | E165: 0 | F165: 0 | G165: -
A166: 시도비보조금반환금수익 | B166: 0 | C166: 0 | D166: - | E166: 0 | F166: 0 | G166: -
A167: 기타정부간이전수익 | B167: 0 | C167: 0 | D167: - | E167: 0 | F167: 0 | G167: -
A168: 1.기타수익 | B168: 0 | C168: 0 | D168: 50000000 | E168: 0 | F168: 0 | G168: 50000000
A169: 전입금수익 | B169: 0 | C169: 0 | D169: 50000000 | E169: 0 | F169: 0 | G169: 50000000
A170: 기부금수익 | B170: 0 | C170: 0 | D170: - | E170: 0 | F170: 0 | G170: -
A171: 기타일반수익 | B171: 0 | C171: 0 | D171: - | E171: 0 | F171: 0 | G171: -
A172: Ⅶ.재정운영결과(Ⅴ-Ⅵ) | B172: 0 | C172: 0 | D172: -50773968 | E172: 0 | F172: 0 | G172: -50031630

Sheet 장애인
A2: 재정운영표( 장애인복지기금 )
A4: 해당연도 2016년 1월 1일 부터 2016년 12월 31일 까지
A5: 직전연도 2015년 1월 1일 부터 2015년 12월 31일 까지
A6: 진천군청 | G6: (단위 : 원)
A7: 과목 | B7: 해당연도(2016년) | E7: 직전연도(2015년)
B8: 총원가 | C8: 사업수익 | D8: 순원가 | E8: 총원가 | F8: 사업수익 | G8: 순원가
A10: Ⅰ.사업순원가 | B10: 4800000 | C10: 0 | D10: 4800000 | E10: 7000000 | F10: 0 | G10: 7000000
A11: 일반공공행정 | B11: - | C11: 0 | D11: - | E11: - | F11: 0 | G11: -
A12: 입법및선거관리 | B12: - | C12: 0 | D12: - | E12: - | F12: 0 | G12: -
A13: 지방행정ㆍ재정지원 | B13: - | C13: 0 | D13: - | E13: - | F13: 0 | G13: -
A14: 재정ㆍ금융 | B14: - | C14: 0 | D14: - | E14: - | F14: 0 | G14: -
