Workbook
Name _: #REF!
Name _: #REF!
Name _: #REF!
Name _: #REF!
Name _.4: #REF!
Name _.4: #REF!
Name _.4: #REF!
Name _?: [1]손익합산!$L$5:$L$92
Name _?__C: #REF!
Name _?__C: #REF!
Name __?: [1]손익합산!$L$5:$L$92
Name __?__C: #REF!
Name __?__C: #REF!
Name ___?: [1]손익합산!$L$5:$L$92
Name ___?__C: #REF!
Name ___?__C: #REF!
Name ____?: [1]손익합산!$L$5:$L$92
Name ____?__C: #REF!
Name ____?__C: #REF!
Name _____A100000: #REF!
Name _____A100000: #REF!
Name _____A70000: #REF!
Name _____A70000: #REF!
Name _____COM1: #N/A
Name _____DAT1: #REF!
Name _____DAT1: #REF!
Name _____DAT10: #REF!
Name _____DAT10: #REF!
Name _____DAT11: #REF!
Name _____DAT11: #REF!
Name _____DAT12: #REF!
Name _____DAT12: #REF!
Name _____DAT13: #REF!
Name _____DAT13: #REF!
Name _____DAT14: #REF!
Name _____DAT14: #REF!
Name _____DAT15: #REF!
Name _____DAT15: #REF!
Name _____DAT16: #REF!
Name _____DAT16: #REF!
Name _____DAT17: #REF!
Name _____DAT17: #REF!
Name _____DAT18: #REF!
Name _____DAT18: #REF!
Name _____DAT19: #REF!
Name _____DAT19: #REF!
Name _____DAT2: #REF!
Name _____DAT2: #REF!
Name _____DAT20: #REF!
Name _____DAT20: #REF!
Name _____DAT21: #REF!
Name _____DAT21: #REF!
Name _____DAT22: #REF!
Name _____DAT22: #REF!
Name _____DAT23: #REF!
Name _____DAT23: #REF!
Name _____DAT24: #REF!
Name _____DAT24: #REF!
Name _____DAT25: #REF!
Name _____DAT25: #REF!

Sheet 검토보고서
A2: 지방자치단체 재무제표에 대한 검토보고서
A4: 진천군수 귀하
B6: 우리는 첨부된 진천군의 2016년 12월31일로 종료되는 회계연도의 재무제표(현금흐름표는 ｢지방자치단체 회계기준에 관한 규칙｣의 부칙에 따라 작성되지 아니하였습니다)를 검토하였습니다. 이 재무제표를 작성할 책임은 지방자치단체의 장에게 있으며, 우리의 책임은 동 재무제표에 대하여 검토를 실시하고 이를 근거로 이 재무제표에 대하여 검토결과를 보고하는데 있습니다.
B8: 우리는 ｢지방자치단체 재무제표 검토 기준｣에 따라 검토를 실시하였습니다. 이 기준은 우리가 재무제표가 중대하게 왜곡표시되지 아니하였다는 것에 관해 보통수준의 확신을 얻도록 검토를 계획하고 실시할 것을 요구하고 있습니다. 검토는 주로 질문과 분석적 절차에 의거 수행되므로 감사보다는 낮은 수준의 확신을 제공합니다. 우리는 감사를 실시하지 않았으므로 감사의견을 표명하지 아니합니다.
B10: 우리의 검토결과 상기 재무제표는 ｢지방자치단체 회계기준에 관한 규칙｣ 및 ｢지방자치단체 재무회계 운영규정｣에 중요하게 위배되어 표시되었다는 점이 발견되지 아니하였습니다.
A12: 서울시 강남구 역삼로 221
A13: 회계법인 성 지
A14: 대표이사 공인회계사 김 진 헌
A15: 42797

Sheet Sheet4

Sheet 목차
A5: 목 차
A12: I . 재무제표 총괄설명 . . . . . . . . . . . . . . . . . . . . . . . . . 1
A17: Ⅱ. 재무제표 . . . . . . . . . . . . . . . . . . . . . . 11
A22: Ⅲ. 재무제표에 대한 주석 . . . . . . . . . . . . . . . . . . . . . 23
A27: Ⅳ. 필수보충정보 . . . . . . . . . . . . . . . . . . . . . 47
A32: Ⅴ. 부속명세서 . . . . . . . . . . . . . . . . . . . . . 87
A37: Ⅵ. 재무제표의 첨부서류 . . . . . . . . . . . . . . . . . . . . . . . 97

Sheet Sheet5

Sheet 간지1
A16: Ⅰ. 재무제표 총괄설명

Sheet Sheet7

Sheet 총괄설명1
A2: 제1장. 재무제표 총괄설명
A4: 1. 재무제표의 구성
A6: 지방자치단체의 재정상황을 표시하는 가장 중요한 요소로서 재정상태표, 재정운영표, 순자산변동표 및 현금흐름표로 구성되며, 뒤에 설명되는 재무제표에 대한 주석을 포함하는 것입니다. 다만, 현금흐름표는 ‘지방자치단체의 회계기준에 관한 규칙(이하 “지방회계기준”)’ 부칙에 따라 작성이 유예되어 포함되지 않았습니다. 한편, 재정운영표는 비용항목을 기능별로 분류하여 나타내는 기능별재정운영표와 비용항목을 성질별로 분류하여 나타내는 성질별재정운영표 두 가지를 작성하고 있는데, 재무제표에는 기능별재정운영표가 포함되며, 성질별재정운영표는 필수보충정보에 포함되어 있습니다.
A8: (1) 재정상태표
A10: 특정 시점의 지방자치단체의 자산과 부채의 내역 및 상호관계 등 재정상태를 나타내는 재무제표로서 자산, 부채 및 순자산으로 구성됩니다.
A12: (2) 재정운영표
A14: 회계연도 동안의 재정운영 결과인 수익(사업수익, 비배분수익, 일반수익)과 비용(총원가, 관리운영비, 비배분비용)의 내역을 일정기준에 따라 체계적으로 표시하는 재무제표로서 수익, 비용 및 재정운영결과로 구성됩니다. 기업회계와는 달리 재정운영표는 회계연도 동안의 이익 또는 손실의 산정을 목적으로 하지 않습니다.
A16: (3) 순자산변동표
A18: 회계연도 동안의 순자산의 증감내역을 표시하는 재무제표로서 재정운영에 따른 재정운영결과와 기타순자산의 변동을 기재합니다.
A20: (4) 재무제표에 대한 주석
A22: 정보이용자에게 충분한 회계정보를 제공하기 위하여 지방자치단체가 채택한 주요한 회계정책과 재무제표에 표시된 회계과목의 세부내역 및 기타 재무제표에 중대한 영향을 미치는 사항을 설명하는 것입니다.
A24: (5) 필수보충정보
... A34: 「지방회계법」 제17조, 「지방회계법 시행령」 제14조에 따라 재무제표에 첨부하는 서류로서 채무관리보고서, 채권현재액보고서가 포함되어 있습니다.

Sheet 총괄설명2.3
A2: 2. 주요 제도적 변화
A4: 진천군은 2012회계연도부터 적용되는 지방자치단체 원가계산준칙 (훈령 제1호)에 따라 원가 개념을 반영한 재정운영표를 작성 및 공시하였습니다. 지방자치단체의 경우, 기업과 달리 수익 창출이 아닌 공공서비스나 재화를 생산, 제공하여 주민들의 복지를 높이는데 목적이 있기 때문에 기존의 수익과 비용으로 표시된 재정운영표가 아닌, 사업성과와 사업원가를 나타내는 재정운영표를 작성하게 되었습니다.
A6: 3. 재무제표에 대한 요약 설명
A8: (1) 재정상태
A10: 재정상태표는 특정시점(2016.12.31 현재)의 재정상태를 나타내는 재무제표로 자산, 부채, 순자산으로 구성되어 있습니다.
A12: 재정상태표에 의하면, 진천군의 총자산은 1,944,649,814,437원이고, 총부채는 100,546,854,121원으로 총자산에서 총부채를 차감한 순자산 규모는 1,844,102,960,316원입니다.
A14: 순자산은 지방자치단체가 장래에 공공서비스 제공을 위해 보유하고 있는 자원을 의미하며, 순자산 규모가 부채에 비해 상대적으로 큰 것은 민간기업과 다른 지방자치단체의 고유특성에 기인하는 것으로 이해됩니다. 이와 같은 재정상태를 각 계정별 구체적으로 살펴보면 다음과 같습니다.
A16: (1)-1. 자산
A18: 자산의 구성내역은 유동자산이 127,931백만원(6.58%)이고, 유동자산을 제외한 비유동자산이 1,816,719백만원(93.42%)으로 비유동자산이 상대적으로 큰 비중을 차지하고 있습니다.
A20: 유동자산은 현금및현금성자산 48,141백만원(2.48%), 단기금융상품 64,899백만원(3.34%) 등으로 구성되어 있으며, 지방세에 대한 미수채권인 미수세금은 5,050백만원, 세외수입에 대한 미수채권인 미수세외수입금은 6,843백만원, 재고자산 137백만원, 기타유동자산 791백만원이며 결손을 예상한 대손충당금이 904백만원입니다.
A22: 비유동자산은 투자자산 5,729백만원(0.29%), 일반유형자산 235,446백만원(12.11%), 주민편의시설 279,888백만원(14.39%), 사회기반시설 1,289,143백만원(66.29%), 기타비유동자산 6,513백만원(0.33%) 등으로 구성되어 있습니다.
A24: 지난해에 비해 190,809백만원의 자산이 증가하였으며 이것은 주로 사회기반시설(87,217백만원, 7.26% 증가)의 증가에 의한 것입니다. 유동자산의 총액은 127,931백만원으로 작년에 비해 24,483백만원이 증가하였으며 이것은 주로 현금및현금성자산(20,253백만원, 72.62% 증가)에 의한 것입니다. 비유동성 자산의 총액은 1,816,719백만원으로 작년에 비해 166,326백만원이 증가하였으며 이것은 주로 사회기반시설(87,217백만원, 7.26% 증가) 등의 증가에 의한 것입니다.
... A32: [요약재정상태표]
J33: (단위:백만원)
A34: 구 분 | D34: 2016년 | H34: 2015년
D35: 금 액 | F35: 구성비 | H35: 금 액 | J35: 구성비
A36: 유동자산 | D36: 127931 | F36: 6.58 | H36: 103447 | J36: 5.9
A37: 투자자산 | D37: 5729 | F37: 0.29 | H37: 5403 | J37: 0.31
A38: 일반유형자산 | D38: 235446 | F38: 12.11 | H38: 209612 | J38: 11.95
A39: 주민편의시설 | D39: 279888 | F39: 14.39 | H39: 227639 | J39: 12.98
A40: 사회기반시설 | D40: 1289143 | F40: 66.29 | H40: 1201926 | J40: 68.53
A41: 기타비유동자산 | D41: 6513 | F41: 0.34 | H41: 5814 | J41: 0.33
A42: 자산총계 | D42: 1944650 | F42: 100 | H42: 1753841 | J42: 100
A44: 구 분 | D44: 2016년 | H44: 2015년
D45: 금 액 | F45: 구성비 | H45: 금 액 | J45: 구성비
A46: 유동부채 | D46: 39599 | F46: 39.38 | H46: 34265 | J46: 34.87
A47: 장기차입부채 | D47: 13300 | F47: 13.23 | H47: 16100 | J47: 16.38
A48: 기타비유동부채 | D48: 47648 | F48: 47.39 | H48: 47902 | J48: 48.75
A49: 부채총계 | D49: 100547 | F49: 100 | H49: 98267 | J49: 100
A50: 고정순자산 | D50: 1747290 | F50: 94.75 | H50: 1575942 | J50: 95.19
A51: 특정순자산 | D51: 6669 | F51: 0.36 | H51: 5840 | J51: 0.35
A52: 일반순자산 | D52: 90144 | F52: 4.89 | H52: 73792 | J52: 4.46
A53: 순자산총계 | D53: 1844103 | F53: 100 | H53: 1655574 | J53: 100
A54: 부채및순자산총계 | D54: 1944650 | F54: - | H54: 1753841 | J54: -
A56: (1)-3. 지방공사 · 공단의 자산 · 부채를 포함한 재정상태
A58: 지방자치단체가 출자한 지방공사 · 공단의 자산 · 부채를 포함할 경우 진천군의 총자산은 이고, 총부채는 입니다.
A60: [시의 지방공사 · 공단의 자산 · 부채를 포함한 재정상태]
J61: (단위:백만원)
A62: 구분 | C62: 계 | F62: 지방자치단체 | I62: 지방공사 · 공단
A63: 총자산*
...

Sheet 결산총평4.재무분석
A1: 4. 발생주의 복식부기 재무분석
E2: (단위 : 원, %)
A3: 분야 | B3: 지 표 명 | C3: 산 식 | D3: 2016 | E3: 2015
A4: 재정 상태 | B4: ① 총자산 대비 총부채 비율 | C4: 총부채 / 총자산 × 100 | D4: 5.17 | E4: 5.6
B5: ② 총부채 대비 차입부채 비율 | C5: 차입부채 / 총부채 × 100 | D5: 58 | E5: 64.94
B6: ③ 유형고정자산 대비 부채비율 | C6: 부채 / 유형고정자산 × 100 ※ 부채 : 유동부채+장기차입부채 ※ 유형고정자산 : 일반유형자산+주민편의시설+사회기반시설 | D6: 2.93 | E6: 3.07
B7: ④ 재정자금 대비 금융상품 비율 | C7: 장·단기 금융상품 / 재정자금 × 100 | D7: 58.11 | E7: 68.95
B8: ⑤ 현금창출자산 대비 총부채 비율 | C8: 총부채 / 현금창출자산 × 100 ※ 현금창출자산:(유동자산-기타유동자산+일반미수금)+ 장기금융상품+(장기융자금-학자금위탁대여금)+기타투자자산 | D8: 77.76 | E8: 95.79
B9: ⑥ 재정자금 대비 차입부채 비율 | C9: 차입부채 / 재정자금 × 100 ※ 재정자금 : 현금 및 현금성자산+장·단기 금융상품 | D9: 50.74 | E9: 71.05
B10: ⑦ 유동자산 대비 유동부채 비율 | C10: 유동부채 / 유동자산 × 100 | D10: 30.95 | E10: 33.12
B11: ⑧ 미수세금 대비 대손충당금 비율 | C11: 미수세금 대손충당금 / 미수세금(대손충당금 차감전) × 100 | D11: 11.38 | E11: 9.88
B12: ⑨ 단기민간융자금 비율 | C12: 단기민간융자금 / 장·단기 민간융자금 × 100 | D12: 87.88 | E12: 81.59
A13: 재정 운영 | B13: ① 예산 대비 세출 비율 | C13: 세출액(일반회계+기타특별회계) / 예산현액(일반회계+기타특별회계) × 100 | D13: 81.49 | E13: 82.47
B14: ② 경상수익 대비 경상비용 비율 | C14: 경상비용 / 경상수익 × 100 ※ 경상비용 : 인건비+운영비+재정보전금+조정교부금+교육비특별회계전출금 ※ 경상수익 : 지방세수익+경상세외수익+지방교부세+재정보전금+조정교부금 | D14: 69.68 | E14: 73.23
B15: ③ 경상비용 대비 이자비용 비율 | C15: 이자비용 / 경상비용 × 100 ※ 이자비용 : 차입부채 이자비용 | D15: 1.38 | E15: 1.86
B16: ④ 이자수익 대비 이자비용 비율 | C16: 이자비용 / 이자수익 × 100 | D16: 193.57 | E16: 186.87
B17: ⑤ 총수익 대비 경상수익 비율 | C17: 경상수익 / 총수익 × 100 | D17: 62.95 | E17: 60.22
B18: ⑥ 경상수익 대비 경상자체조달수익 비율 | C18: 경상자체조달수익 / 경상수익 × 100 ※ 경상자체조달수익 : 지방세수익+경상세외수익 | D18: 43.46 | E18: 42.35
B19: ⑦ 자체조달수익 대비 채권 비율 | C19: 미수자체조달수익(대손충당금 차감후) / 자체조달수익 × 100 ※ 미수자체조달수익 : 미수세금+미수세외수입금+일반미수금 | D19: 9.34 | E19: 12.44
B20: ⑧ 세외수익 대비 채권 비율 | C20: 미수세외수익(대손충당금 차감후) / 세외수익 × 100 ※ 미수세외수익 : 미수세외수입금+일반미수금 | D20: 14.96 | E20: 25.47
B21: ⑨ 총비용 대비 경상비용 비율 | C21: 경상비용 / 총비용 × 100 | D21: 53.57 | E21: 52.26
B22: ⑩ 지출액 대비 자산취득 비율 | C22: 자산 취득액 / 지출액 × 100 | D22: 21.35 | E22: 25.49
A23: 회계 책임 | B23: ① 주민 1인당 총자산 | C23: 총자산 / 인구수(회계연도말 인구수) | D23: 27800569 | E23: 25798991
B24: ② 주민 1인당 총부채 | C24: 총부채 / 인구수(회계연도말 인구수) | D24: 1437410.4 | E24: 1445505.4
B25: ③ 주민 1인당 실질부채 | C25: 실질부채 / 인구수(회계연도말 인구수) | D25: 1437410.4 | E25: 1445505.4
B26: ④ 주민 1인당 총수익 | C26: 총수익 / 인구수(회계연도말 인구수) | D26: 5099006.9 | E26: 4754769.2
B27: ⑤ 주민 1인당 자체조달수익 | C27: 자체조달수익 / 인구수(회계연도말 인구수) | D27: 1706877 | E27: 1383641.6
B28: ⑥ 주민 1인당 지방세수익 | C28: 지방세수익 / 인구수(회계연도말 인구수) | D28: 1068459.6 | E28: 948966.68
B29: ⑦ 주민 1인당 총비용 | C29: 총비용 / 인구수(회계연도말 인구수) | D29: 4174858.5 | E29: 4011825.4
B30: ⑧ 주민 1인당 민간등이전비용 | C30: 기타이전비용 / 인구수(회계연도말 인구수) | D30: 1435604.5 | E30: 1356906.1
B31: ⑨ 공무원 1인당 총수익 | C31: 총수익 / 공무원( 현원=(기초+기말)/2 ) | D31: 6.0147644e+08 | E31: 5.6117008e+08
B32: ⑩ 공무원 1인당 총비용 | C32: 총비용 / 공무원( 현원=(기초+기말)/2 ) | D32: 4.9246434e+08 | E32: 4.7348594e+08
B33: ⑪ 공무원 1인당 급여 | C33: 총급여 / 공무원( 현원=(기초+기말)/2 ) | D33: 55263684 | E33: 54763650

Sheet Sheet6

Sheet 간지2
A16: Ⅱ. 재무제표
E19: 1. 재정상태표
E21: 2. 재정운영표
E23: 3. 순자산변동표

Sheet Sheet9

Sheet 재정상태(당기)
A1: 재정상태표
A3: 해당연도 2016년 12월 31일 현재
A4: 직전연도 2015년 12월 31일 현재
A5: 진천군청 | I5: (단위: 원)
A6: 과 목 | D6: 해당연도(2016년)
D7: 일반회계 | E7: 기타 특별회계 | F7: 기금 | G7: 지방공기업 특별회계 | H7: 내부거래 | I7: 계
A9: 자 산
A10: 1. 유동자산 | D10: 82912570632 | E10: 14544608828 | F10: 4813444617 | G10: 25659919240 | H10: 0 | I10: 127930543317
B11: 현금및현금성자산 | D11: 10346569930 | E11: 11994646220 | F11: 564924304 | G11: 25235248650 | H11: 0 | I11: 48141389104
B12: 단기금융상품 | D12: 59000000000 | E12: 1750000000 | F12: 4149013199 | G12: 0 | H12: 0 | I12: 64899013199
B13: 미수세금 | D13: 5049988700 | E13: 0 | F13: 0 | G13: 0 | H13: 0 | I13: 5049988700
B14: 미수세금대손충당금 | D14: -574614760 | E14: 0 | F14: 0 | G14: 0 | H14: 0 | I14: -574614760
B15: 미수세외수입금 | D15: 6039120530 | E15: 462479390 | F15: 0 | G15: 341273240 | H15: 0 | I15: 6842873160
B16: 미수세외수입금대손충당금 | D16: -308771220 | E16: -4624800 | F16: 0 | G16: -11445540 | H16: 0 | I16: -324841560
B17: 미수징수교부금 | D17: 284028000 | E17: 0 | F17: 0 | G17: 0 | H17: 0 | I17: 284028000
B18: 미수정부간이전수익 | D18: 2240207000 | E18: 0 | F18: 0 | G18: 0 | H18: 0 | I18: 2240207000
B19: 단기대여금 | D19: 274096690 | E19: 175260000 | F19: 0 | G19: 0 | H19: 0 | I19: 449356690
B20: 단기대여금대손충당금 | D20: -2740970 | E20: -1752600 | F20: 0 | G20: 0 | H20: 0 | I20: -4493570
B21: 재고자산 | D21: 48154525 | E21: 0 | F21: 0 | G21: 88969510 | H21: 0 | I21: 137124035
B22: 기타유동자산 | D22: 516532207 | E22: 168600618 | F22: 99507114 | G22: 5873380 | H22: 0 | I22: 790513319
A24: 2. 투자자산 | D24: 4282275300 | E24: 0 | F24: 1880000000 | G24: 0 | H24: -433269000 | I24: 5729006300
B25: 장기금융상품 | D25: 0 | E25: 0 | F25: 1880000000 | G25: 0 | H25: 0 | I25: 1880000000
B26: 장기대여금 | D26: 2681526300 | E26: 0 | F26: 0 | G26: 0 | H26: 0 | I26: 2681526300
B27: 장기대여금대손충당금 | D27: -620000 | E27: 0 | F27: 0 | G27: 0 | H27: 0 | I27: -620000
B28: 장기투자증권 | D28: 1110000000 | E28: 0 | F28: 0 | G28: 0 | H28: 0 | I28: 1110000000
B29: 기타투자자산 | D29: 491369000 | E29: 0 | F29: 0 | G29: 0 | H29: -433269000 | I29: 58100000
A31: 3. 일반유형자산 | D31: 212938880344 | E31: 21950076928 | F31: 556686125 | G31: 0 | H31: 0 | I31: 235445643397
B32: 토지 | D32: 149181013291 | E32: 14437156350 | F32: 0 | G32: 0 | H32: 0 | I32: 163618169641
B33: 입목 | D33: 28327396730 | E33: 0 | F33: 0 | G33: 0 | H33: 0 | I33: 28327396730
B34: 건물 | D34: 33216047179 | E34: 1197150407 | F34: 0 | G34: 0 | H34: 0 | I34: 34413197586
B35: 건물감가상각누계액 | D35: -12935248254 | E35: -669106558 | F35: 0 | G35: 0 | H35: 0 | I35: -13604354812
B36: 구축물 | D36: 7749094100 | E36: 12213115420 | F36: 95442290 | G36: 0 | H36: 0 | I36: 20057651810
B37: 구축물감가상각누계액 | D37: -3000253315 | E37: -5247732492 | F37: -19088458 | G37: 0 | H37: 0 | I37: -8267074265
B38: 기계장치 | D38: 5035033330 | E38: 26046890 | F38: 773242210 | G38: 0 | H38: 0 | I38: 5834322430
B39: 기계장치감가상각누계액 | D39: -2572844734 | E39: -14573854 | F39: -297443464 | G39: 0 | H39: 0 | I39: -2884862052
B40: 차량운반구 | D40: 3962283700 | E40: 0 | F40: 0 | G40: 0 | H40: 0 | I40: 3962283700
B41: 차량운반구감가상각누계액 | D41: -2014446529 | E41: 0 | F41: 0 | G41: 0 | H41: 0 | I41: -2014446529
B42: 집기비품 | D42: 19136128114 | E42: 22372880 | F42: 7260000 | G42: 0 | H42: 0 | I42: 19165760994
B43: 집기비품감가상각누계액 | D43: -15371462312 | E43: -14352115 | F43: -2726453 | G43: 0 | H43: 0 | I43: -15388540880
... B48: 건설중인일반유형자산 | D48: 2154463020 | E48: 0 | F48: 0 | G48: 0 | H48: 0 | I48: 2154463020
...

Sheet 재정상태(전기)
A1: 재정상태표
A3: 해당연도 2016년 12월 31일 현재
A4: 직전연도 2015년 12월 31일 현재
A5: 진천군청 | I5: (단위: 원)
A6: 과 목 | D6: 직전연도(2015년)
D7: 일반회계 | E7: 기타 특별회계 | F7: 기금 | G7: 지방공기업 특별회계 | H7: 내부거래 | I7: 계
A9: 자 산
A10: 1. 유동자산 | D10: 73608104450 | E10: 7873539120 | F10: 3912354103 | G10: 18053459810 | H10: 0 | I10: 103447457483
B11: 현금및현금성자산 | D11: 4940945780 | E11: 4441157810 | F11: 864255295 | G11: 17642114140 | H11: 0 | I11: 27888473025
B12: 단기금융상품 | D12: 55000000000 | E12: 2008404360 | F12: 2991737828 | G12: 0 | H12: 0 | I12: 60000142188
B13: 미수세금 | D13: 4632062380 | E13: 0 | F13: 0 | G13: 0 | H13: 0 | I13: 4632062380
B14: 미수세금대손충당금 | D14: -457419250 | E14: 0 | F14: 0 | G14: 0 | H14: 0 | I14: -457419250
B15: 미수세외수입금 | D15: 6404448710 | E15: 776930940 | F15: 0 | G15: 337982700 | H15: 0 | I15: 7519362350
B16: 미수세외수입금대손충당금 | D16: -121025520 | E16: -7769310 | F16: 0 | G16: -27002890 | H16: 0 | I16: -155797720
B17: 미수징수교부금 | D17: 0 | E17: 0 | F17: 0 | G17: 0 | H17: 0 | I17: 0
B18: 단기대여금 | D18: 0 | E18: 476161130 | F18: 0 | G18: 0 | H18: 0 | I18: 476161130
B19: 단기대여금대손충당금 | D19: 0 | E19: -4761610 | F19: 0 | G19: 0 | H19: 0 | I19: -4761610
B20: 재고자산 | D20: 340913240 | E20: 0 | F20: 0 | G20: 83255050 | H20: 0 | I20: 424168290
B21: 기타유동자산 | D21: 2868179110 | E21: 183415800 | F21: 56360980 | G21: 17110810 | H21: 0 | I21: 3125066700
A23: 2. 투자자산 | D23: 3366237000 | E23: 106345220 | F23: 1930000000 | G23: 0 | H23: 0 | I23: 5402582220
B24: 장기금융상품 | D24: 0 | E24: 0 | F24: 1930000000 | G24: 0 | H24: 0 | I24: 1930000000
B25: 장기대여금 | D25: 2708137000 | E25: 107419410 | F25: 0 | G25: 0 | H25: 0 | I25: 2815556410
B26: 장기대여금대손충당금 | D26: 0 | E26: -1074190 | F26: 0 | G26: 0 | H26: 0 | I26: -1074190
B27: 장기투자증권 | D27: 600000000 | E27: 0 | F27: 0 | G27: 0 | H27: 0 | I27: 600000000
B28: 기타투자자산 | D28: 58100000 | E28: 0 | F28: 0 | G28: 0 | H28: 0 | I28: 58100000
A30: 3. 일반유형자산 | D30: 198789942343 | E30: 10362014433 | F30: 459492362 | G30: 0 | H30: 0 | I30: 209611449138
B31: 토지 | D31: 140235836721 | E31: 2211901450 | F31: 0 | G31: 0 | H31: 0 | I31: 142447738171
B32: 입목 | D32: 28297396730 | E32: 0 | F32: 0 | G32: 0 | H32: 0 | I32: 28297396730
B33: 건물 | D33: 29068237065 | E33: 1197150407 | F33: 0 | G33: 0 | H33: 0 | I33: 30265387472
B34: 건물감가상각누계액 | D34: -12197283747 | E34: -639738424 | F34: 0 | G34: 0 | H34: 0 | I34: -12837022171
B35: 구축물 | D35: 5813511480 | E35: 12213115420 | F35: 0 | G35: 0 | H35: 0 | I35: 18026626900
B36: 구축물감가상각누계액 | D36: -2681360636 | E36: -4637626221 | F36: 0 | G36: 0 | H36: 0 | I36: -7318986857
B37: 기계장치 | D37: 4881832710 | E37: 26046890 | F37: 654317040 | G37: 0 | H37: 0 | I37: 5562196640
B38: 기계장치감가상각누계액 | D38: -2158131418 | E38: -10852870 | F38: -200569985 | G38: 0 | H38: 0 | I38: -2369554273
B39: 차량운반구 | D39: 3383021630 | E39: 0 | F39: 0 | G39: 0 | H39: 0 | I39: 3383021630
B40: 차량운반구감가상각누계액 | D40: -1695418499 | E40: 0 | F40: 0 | G40: 0 | H40: 0 | I40: -1695418499
B41: 집기비품 | D41: 19043333943 | E41: 15042480 | F41: 7260000 | G41: 0 | H41: 0 | I41: 19065636423
B42: 집기비품감가상각누계액 | D42: -14332600491 | E42: -13024699 | F42: -1514693 | G42: 0 | H42: 0 | I42: -14347139883
... B47: 건설중인일반유형자산 | D47: 990932330 | E47: 0 | F47: 0 | G47: 0 | H47: 0 | I47: 990932330
A49: 4. 주민편의시설 | D49: 227416864808 | E49: 222531713 | F49: 0 | G49: 0 | H49: 0 | I49: 227639396521
...

Sheet 재정운영-기능별(당기)
A1: 재정운영표
A3: 해당연도 2016년 1월 1일 부터 2016년 12월 31일 까지
A4: 직전연도 2015년 1월 1일 부터 2015년 12월 31일 까지
A5: 진천군청 | H5: (단위:원)
A6: 과목 | D6: 해당연도(2016)
D7: 총원가 | E7: 사업수익 | F7: 순원가 | G7: 내부거래 | H7: 계
A9: Ⅰ.사업순원가 | D9: 218693256626 | E9: 126756289960 | F9: 91936966666 | G9: 0 | H9: 91936966666
C10: 일반공공행정 | D10: 14252474197 | E10: 2229711590 | F10: 12022762607 | G10: 0 | H10: 12022762607
C11: 공공질서및안전 | D11: 1354576668 | E11: 140000160 | F11: 1214576508 | G11: 0 | H11: 1214576508
C12: 교육 | D12: 4485892133 | E12: 1401724010 | F12: 3084168123 | G12: 0 | H12: 3084168123
C13: 문화및관광 | D13: 11165043911 | E13: 11440235720 | F13: -275191809 | G13: 0 | H13: -275191809
C14: 환경보호 | D14: 33096735180 | E14: 20027425190 | F14: 13069309990 | G14: 0 | H14: 13069309990
C15: 사회복지 | D15: 62886510754 | E15: 44667504790 | F15: 18219005964 | G15: 0 | H15: 18219005964
C16: 보건 | D16: 5925597947 | E16: 2878207180 | F16: 3047390767 | G16: 0 | H16: 3047390767
C17: 농림해양수산 | D17: 50757582788 | E17: 31779019770 | F17: 18978563018 | G17: 0 | H17: 18978563018
C18: 산업ㆍ중소기업 | D18: 6808429273 | E18: 2538710100 | F18: 4269719173 | G18: 0 | H18: 4269719173
C19: 수송및교통 | D19: 8054280349 | E19: 1196743300 | F19: 6857537049 | G19: 0 | H19: 6857537049
C20: 국토및지역개발 | D20: 19906133426 | E20: 8457008150 | F20: 11449125276 | G20: 0 | H20: 11449125276
C21: 과학기술 | D21: 0 | E21: 0 | F21: 0 | G21: 0 | H21: 0
... C23: 기타 | D23: 0 | E23: 0 | F23: 0 | G23: 0 | H23: 0
A24: Ⅱ.관리운영비 | D24: 0 | E24: 0 | F24: 69981440844 | G24: -21868258750 | H24: 48113182094
B25: 1.인건비 | D25: 0 | E25: 0 | F25: 44884778094 | G25: 0 | H25: 44884778094
C26: 급여 | D26: 0 | E26: 0 | F26: 32876566780 | G26: 0 | H26: 32876566780
C27: 복리후생비 | D27: 0 | E27: 0 | F27: 7494684160 | G27: 0 | H27: 7494684160
C28: 기타인건비 | D28: 0 | E28: 0 | F28: 3577689290 | G28: 0 | H28: 3577689290
C29: 퇴직급여 | D29: 0 | E29: 0 | F29: 935837864 | G29: 0 | H29: 935837864
B30: 2.경비 | D30: 0 | E30: 0 | F30: 3210020000 | G30: 0 | H30: 3210020000
C31: 도서구입및인쇄비 | D31: 0 | E31: 0 | F31: 6983620 | G31: 0 | H31: 6983620
C32: 소모품비 | D32: 0 | E32: 0 | F32: 318287750 | G32: 0 | H32: 318287750
C33: 홍보및광고비 | D33: 0 | E33: 0 | F33: 8761600 | G33: 0 | H33: 8761600
C34: 지급수수료 | D34: 0 | E34: 0 | F34: 27784110 | G34: 0 | H34: 27784110
C35: 일반유형자산수선유지비 | D35: 0 | E35: 0 | F35: 4853000 | G35: 0 | H35: 4853000
C36: 주민편의시설수선유지비 | D36: 0 | E36: 0 | F36: 9171000 | G36: 0 | H36: 9171000
C37: 사회기반시설수선유지비 | D37: 0 | E37: 0 | F37: 1306379270 | G37: 0 | H37: 1306379270
C38: 기타자산수선유지비 | D38: 0 | E38: 0 | F38: 0 | G38: 0 | H38: 0
C39: 교육훈련비 | D39: 0 | E39: 0 | F39: 2736000 | G39: 0 | H39: 2736000
C40: 제세공과금 | D40: 0 | E40: 0 | F40: 128708600 | G40: 0 | H40: 128708600
C41: 보험료및공제료 | D41: 0 | E41: 0 | F41: 538260 | G41: 0 | H41: 538260
C42: 임차료 | D42: 0 | E42: 0 | F42: 7770120 | G42: 0 | H42: 7770120
... C56: 기타운영비 | D56: 0 | E56: 0 | F56: 16408000 | G56: 0 | H56: 16408000
...

Sheet 재정운영-기능별(전기)
A1: 재정운영표
A3: 해당연도 2016년 1월 1일 부터 2016년 12월 31일 까지
A4: 직전연도 2015년 1월 1일 부터 2015년 12월 31일 까지
A5: 진천군청 | H5: (단위:원)
A6: 과목 | D6: 직전연도(2015)
D7: 총원가 | E7: 사업수익 | F7: 순원가 | G7: 내부거래 | H7: 계
A9: Ⅰ.사업순원가 | D9: 210115498467 | E9: 125718551470 | F9: 84396946997 | G9: 0 | H9: 84396946997
C10: 일반공공행정 | D10: 13437229128 | E10: 888058180 | F10: 12549170948 | G10: 0 | H10: 12549170948
C11: 공공질서및안전 | D11: 1150880134 | E11: 485412800 | F11: 665467334 | G11: 0 | H11: 665467334
C12: 교육 | D12: 4388554680 | E12: 777313520 | F12: 3611241160 | G12: 0 | H12: 3611241160
C13: 문화및관광 | D13: 10886584807 | E13: 5018149420 | F13: 5868435387 | G13: 0 | H13: 5868435387
C14: 환경보호 | D14: 37748426602 | E14: 18636501030 | F14: 19111925572 | G14: 0 | H14: 19111925572
C15: 사회복지 | D15: 59609016263 | E15: 44265579300 | F15: 15343436963 | G15: 0 | H15: 15343436963
C16: 보건 | D16: 5403289782 | E16: 2790532230 | F16: 2612757552 | G16: 0 | H16: 2612757552
C17: 농림해양수산 | D17: 55122464956 | E17: 30877417520 | F17: 24245047436 | G17: 0 | H17: 24245047436
C18: 산업ㆍ중소기업 | D18: 5188433233 | E18: 4186106690 | F18: 1002326543 | G18: 0 | H18: 1002326543
C19: 수송및교통 | D19: 6829917226 | E19: 785666520 | F19: 6044250706 | G19: 0 | H19: 6044250706
C20: 국토및지역개발 | D20: 10350701656 | E20: 17007814260 | F20: -6657112604 | G20: 0 | H20: -6657112604
C21: 과학기술 | D21: 0 | E21: 0 | F21: 0 | G21: 0 | H21: 0
... C23: 기타 | D23: 0 | E23: 0 | F23: 0 | G23: 0 | H23: 0
A24: Ⅱ.관리운영비 | D24: 0 | E24: 0 | F24: 59693981388 | G24: -14383274000 | H24: 45310707388
B25: 1.인건비 | D25: 0 | E25: 0 | F25: 43127230334 | G25: 0 | H25: 43127230334
C26: 급여 | D26: 0 | E26: 0 | F26: 31757644190 | G26: 0 | H26: 31757644190
C27: 복리후생비 | D27: 0 | E27: 0 | F27: 7624973300 | G27: 0 | H27: 7624973300
C28: 기타인건비 | D28: 0 | E28: 0 | F28: 3464041140 | G28: 0 | H28: 3464041140
C29: 퇴직급여 | D29: 0 | E29: 0 | F29: 280571704 | G29: 0 | H29: 280571704
B30: 2.경비 | D30: 0 | E30: 0 | F30: 2121277170 | G30: 0 | H30: 2121277170
C31: 도서구입및인쇄비 | D31: 0 | E31: 0 | F31: 3022330 | G31: 0 | H31: 3022330
C32: 소모품비 | D32: 0 | E32: 0 | F32: 174730380 | G32: 0 | H32: 174730380
C33: 홍보및광고비 | D33: 0 | E33: 0 | F33: 10268000 | G33: 0 | H33: 10268000
C34: 지급수수료 | D34: 0 | E34: 0 | F34: 17563970 | G34: 0 | H34: 17563970
C35: 일반유형자산수선유지비 | D35: 0 | E35: 0 | F35: 1920750 | G35: 0 | H35: 1920750
C36: 주민편의시설수선유지비 | D36: 0 | E36: 0 | F36: 0 | G36: 0 | H36: 0
C37: 사회기반시설수선유지비 | D37: 0 | E37: 0 | F37: 0 | G37: 0 | H37: 0
C38: 기타자산수선유지비 | D38: 0 | E38: 0 | F38: 0 | G38: 0 | H38: 0
C39: 교육훈련비 | D39: 0 | E39: 0 | F39: 3193370 | G39: 0 | H39: 3193370
C40: 제세공과금 | D40: 0 | E40: 0 | F40: 119762150 | G40: 0 | H40: 119762150
C41: 보험료및공제료 | D41: 0 | E41: 0 | F41: 5000 | G41: 0 | H41: 5000
C42: 임차료 | D42: 0 | E42: 0 | F42: 0 | G42: 0 | H42: 0
... C56: 기타운영비 | D56: 0 | E56: 0 | F56: 266879180 | G56: 0 | H56: 266879180
...

Sheet 순자산변동
A1: 순자산변동표
A3: 해당연도 2016년 1월 1일 부터 2016년 12월 31일 까지
A4: 직전연도 2015년 1월 1일 부터 2015년 12월 31일 까지
A5: 진천군청 | H5: (단위:원)
A6: 과 목 | C6: 해당연도 (2016년)
C7: 일반회계 | D7: 기타 특별회계 | E7: 기 금 | F7: 지방공기업 특별회계 | G7: 내부거래 | H7: 계
A9: 1. 기초순자산 | C9: 1477844240443 | D9: 41521833502 | E9: 8149147818 | F9: 128059091806 | G9: 0 | H9: 1655574313569
A11: 2. 재정운영결과 | C11: -64592664198 | D11: -3274279703 | E11: -1087116359 | F11: 4309882590 | G11: 0 | H11: -64644177670
A13: 3. 순자산의 증가 | C13: 106106004953 | D13: 12150451960 | E13: 0 | F13: 21222660230 | G13: -882237320 | H13: 138596879823
B15: 전기오류수정이익 | C15: 0 | D15: 0 | E15: 0 | F15: 0 | H15: 0
B16: 회계변경으로생긴누적이익 | C16: 0 | D16: 0 | E16: 0 | F16: 0 | H16: 0
B17: 재산이관·관리전환으로생긴자산증가 | C17: 449468320 | D17: 0 | E17: 0 | F17: 0 | G17: -448968320 | H17: 500000
B18: 양여·기부로생긴자산증가 | C18: 98767355850 | D18: 0 | E18: 0 | F18: 0 | G18: 0 | H18: 98767355850
B19: 기타순자산의 증가 | C19: 6889180783 | D19: 12150451960 | E19: 0 | F19: 21222660230 | G19: -433269000 | H19: 39829023973
A21: 4. 순자산의 감소 | C21: 14179655196 | D21: 960596100 | E21: 19210120 | F21: 1917650 | G21: -448968320 | H21: 14712410746
B23: 전기오류수정손실 | C23: 0 | D23: 0 | E23: 0 | F23: 0 | H23: 0
B24: 회계변경으로생긴누적손실 | C24: 0 | D24: 0 | E24: 0 | F24: 0 | H24: 0
B25: 재산이관·관리전환으로생긴자산감소 | C25: 0 | D25: 429758200 | E25: 19210120 | F25: 0 | G25: -448968320 | H25: 0
B26: 양여·기부로생긴자산감소 | C26: 3485185 | D26: 0 | E26: 0 | F26: 0 | G26: 0 | H26: 3485185
B27: 기타순자산의 감소 | C27: 14176170011 | D27: 530837900 | E27: 0 | F27: 1917650 | G27: 0 | H27: 14708925561
A29: 5. 기말순자산 | C29: 1634363254398 | D29: 55985969065 | E29: 9217054057 | F29: 144969951796 | G29: -433269000 | H29: 1844102960316
A32: 순자산변동표
A34: 해당연도 2016년 1월 1일 부터 2016년 12월 31일 까지
A35: 직전연도 2015년 1월 1일 부터 2015년 12월 31일 까지
A36: 진천군청 | H36: (단위:원)
A37: 과 목 | C37: 직전연도 (2015년)
C38: 일반회계 | D38: 기타 특별회계 | E38: 기 금 | F38: 지방공기업 특별회계 | G38: 내부거래 | H38: 계
A40: 1. 기초순자산 | C40: 1422294152388 | D40: 40727657669 | E40: 7291700283 | F40: 95508230187 | G40: 0 | H40: 1565821740527
A42: 2. 재정운영결과 | C42: -53038419860 | D42: -831101463 | E42: -857447535 | F42: 4220903896 | G42: 0 | H42: -50506064962
A44: 3. 순자산의 증가 | C44: 5318399654 | D44: 0 | E44: 0 | F44: 36771765515 | G44: 0 | H44: 42090165169
B46: 전기오류수정이익 | C46: 0 | D46: 0 | E46: 0 | F46: 154486225 | G46: 0 | H46: 154486225
B47: 회계변경으로생긴누적이익 | C47: 0 | D47: 0 | E47: 0 | F47: 0 | G47: 0 | H47: 0
B48: 재산이관·관리전환으로생긴자산증가 | C48: 24615600 | D48: 0 | E48: 0 | F48: 0 | G48: 0 | H48: 24615600
B49: 양여·기부로생긴자산증가 | C49: 271 | D49: 0 | E49: 0 | F49: 0 | G49: 0 | H49: 271
B50: 기타순자산의 증가 | C50: 5293783783 | D50: 0 | E50: 0 | F50: 36617279290 | G50: 0 | H50: 41911063073
A52: 4. 순자산의 감소 | C52: 2806731459 | D52: 36925630 | E52: 0 | F52: 0 | G52: 0 | H52: 2843657089
B54: 전기오류수정손실 | C54: 0 | D54: 0 | E54: 0 | F54: 0 | G54: 0 | H54: 0
B55: 회계변경으로생긴누적손실 | C55: 0 | D55: 0 | E55: 0 | F55: 0 | G55: 0 | H55: 0
B56: 재산이관·관리전환으로생긴자산감소 | C56: 0 | D56: 0 | E56: 0 | F56: 0 | G56: 0 | H56: 0
B57: 양여·기부로생긴자산감소 | C57: 5102380 | D57: 0 | E57: 0 | F57: 0 | G57: 0 | H57: 5102380
...

Sheet Sheet10

Sheet 간지3
A2: Ⅲ. 재무제표에 대한 주석
D4: 1. 주요 회계정책
D6: 2. 재정자금
D8: 3. 미수세금 및 미수세금대손충당금
D10: 4. 미수세외수입금 및 대손충당금
D12: 5. 장·단기대여금
D14: 6. 재고자산
D16: 7. 기타유동자산
D18: 8. 장기투자증권
D20: 9. 기타투자자산
D22: 10. 유형자산 등에 포함된 토지
D24: 11. 일반유형자산에 포함된 일반재산
D26: 12. 감가상각대상에서 제외된 상각자산
... D52: 25. 지방공기업특별회계 원가정보

Sheet Sheet12

Sheet 주석사항
A2: 1. 주요 회계정책
A4: 진천군이 재무제표 작성을 위하여 채택한 회계정책은 지방회계기준과 일관성을 가지고 있으며, 세부적인 회계처리와 관련된 사항은 ‘지방자치단체 재무회계 운영규정’(이하 “운영규정”)을 중요성의 관점에 따라 준수하였습니다.
A6: 재무제표의 작성을 위하여 채택한 회계정책 중 중요한 것은 다음과 같습니다.
A8: 1-1. 재정운영표의 공시사항의 변경
A10: 진천군은 2012회계연도부터 적용되는 지방자치단체 원가계산준칙에 따라 원가 개념을 반영한 재정운영표를 작성 및 공시하였습니다.
A12: 1-2. 지방공기업특별회계의 회계처리기준
A14: 지방공기업특별회계는 지방회계기준을 적용하지 않으며, 재무제표에 표시된 지방공기업특별회계의 수치는 지방공기업법 등에서 정하는 기준에 따라 작성된 재무제표를 통합한 것입니다. 이 때 지방공기업특별회계 재무제표의 과목과 지방회계기준의 과목이 불일치하는 것은 지방회계기준의 적절한 과목으로 재분류한 것이며, 그렇지 않은 경우에는 지방공기업특별회계의 과목체계를 준용하여 표시하였습니다. 한편, 지방공기업특별회계의 과목 체계에 의한 원가정보는 재무제표에 대한 주석 [25]에 제시하였습니다.
A16: 1-3. 지방회계기준 시행일 현재의 자산·부채 평가
A18: 지방회계기준 시행일인 2007년 1월 1일 현재의 자산·부채는 지방회계기준 부칙 제2조에 따라 행정자치부장관이 정하는 바에 따라 평가하였습니다. 평가시 2006년 1월 1일 이전에 취득한 토지와 입목은 모두 대체평가 방법을 적용하였으며, 나머지 자산은 취득원가로 평가하는 것을 원칙으로 하되 취득원가를 확인할 수 없거나 취득원가 확인에 과다한 노력과 비용이 소모되는 자산에 대하여는 대체평가방법에 따라 평가하였습니다.
A20: 한편, 지방공기업특별회계는 2007년 1월 1일 이전부터 발생주의 회계원리에 의한 재무제표를 작성하여 왔기 때문에 별도의 대체평가방법을 적용하지 않고 이미 작성된 2006년 12월 31일 현재의 대차대조표상의 가액으로 평가하였습니다.
A22: 1-4. 출납폐쇄기한 단축에 따른 자금거래의 회계처리
A24: ｢지방회계법｣ 제7조 제1항 본문에 따른 출납 폐쇄기한 및 동항 단서에 따라 발생한 자금의 출납거래는 2016회계연도의 거래로 회계처리 하고, 회계연도 종료일이 경과한 후 발생한 자금의 출납거래는 2017회계연도의 거래로 회계처리 합니다. 따라서 2016회계연도 재정상태표 상 자산·부채 또한 출납 폐쇄기한(｢지방회계법｣ 제7조 제1항 본문) 및 출납 폐쇄기한 내 회계처리의 예외(｢지방회계법｣ 제7조 제1항 단서)의 경우 1월 20일까지 발생한 거래를 반영한 수치로 표시됩니다.
... A84: 유형자산은 추정 내용연수에 따라 정액법에 의하여 계산된 감가상각누계액을 차감하여 표시하고 있습니다. 유형자산 감가상각시 적용된 각 자산별 내용연수는 다음과 같으며, 물품관리지침에 규정된 것은 물품관리지침을 준용하고, 지방공기업특별회계의 유형자산은 지방공기업법시행규칙에서 정하는 내용연수를 준용하고 있습니다.
A86: 구 분 | D86: 내 역 | I86: 내용연수
A87: 건물 · 구축물 | D87: 철골·철근콘크리트, 철근콘크리트, 석조, 연와석조, 철골조인 것 | I87: 40년
D88: 연와조, 블록조, 콘크리트조, 토조, 토벽조, 목조, 목골모르타르조, 기타의 구조인 것 | I88: 20년
D89: 상수도사업특별회계의 것 | I89: 10년~30년
D90: 하수도사업특별회계의 것 | I90: 20년~30년
D91: 위에 속하지 않는 소규모 구축물 | I91: 5년
A92: 기계장치 | D92: 물품관리지침에 규정된 것 | I92: 물품관리지침 준용
D93: 상수도사업특별회계의 것 | I93: 15년
D94: 하수도사업특별회계의 것 | I94: 15년
D95: 공영개발사업특별회계의 것 | I95: 5년
D96: 위에 속하지 않는 기계장치 | I96: 5년
A97: 차량운반구 | D97: 물품관리지침에 규정된 것 | I97: 물품관리지침 준용
D98: 선박 및 항공기 | I98: 12년
D99: 위에 속하지 않는 차량운반구 | I99: 5년
A100: 집기비품 | D100: 물품관리지침에 규정된 것 | I100: 물품관리지침 준용
D101: 위에 속하지 않는 집기비품 | I101: 5년
A102: 기 타 | D102: 위에 속하지 않는 기타의 유형자산 | I102: 5년
A104: 라. 감가상각 제외 유형자산
A106: 사회기반시설 중 유지보수를 통하여 현상이 유지되며 효율적인 사회기반시설 관리시스템 등을 갖추고 있어 취득 후 지속적인 사회기반시설의 유지보수 지출을 통하여 사회기반시설의 공공서비스잠재력을 취득 당시와 동일한 수준으로 유지시킬 수 있다고 판단되는 자산인 도로, 도시철도, 하천부속시설, 농로·소류지·방조제 등의 농수산기반시설, 해안에 위치한 제방, 방조제, 방파제 등의 어항및항만시설, 사방댐 등의 댐, 마을안길·마을광장 포장 등의 기타사회기반시설 등은 감가상각 대상에서 제외하고 있습니다.
A108: 마. 취득 또는 완성 후의 지출
A110: 유형자산을 취득한 이후의 유지보수 중 해당 자산의 내용연수를 연장시키거나 가치를 실질적으로 증가시키는 지출은 해당 자산의 취득원가에 가산되며, 능률유지 또는 손상부위의 원상회복을 위한 지출은 발생한 기간의 비용으로 처리됩니다. 한편 감가상각 대상에서 제외된 사회기반시설에 대한 유지보수 지출은 전부 발생한 기간의 비용으로 처리합니다.
A112: 1-12. 무형자산의 평가 및 감가상각방법
A114: 무형자산은 해당 자산의 개발원가나 매입가액에 부대비용을 더한 취득원가로 평가하고 있으며, 추정 내용연수에 따라 정액법에 의하여 계산된 상각액을 직접 차감하여 표시하고 있습니다.
A116: 무형자산의 내용연수는 독점적·배타적인 권리를 부여하는 관계 법령이나 계약에서 정한 경우를 제외하고는 20년을 넘을 수 없으며, 감가상각시 각 자산별로 적용하고 있는 내용연수는 다음과 같습니다. 다만 용익물권 중 전세권과 구분지상권(존속기간이 사실상 영구인 것에 한합니다)은 감가상각하지 않습니다.
A118: 구 분 | D118: 내 역 | I118: 내용연수
A119: 지적재산권 | D119: 의장권, 실용신안권, 상표권 | I119: 5년
D120: 특허권 | I120: 10년
...

Sheet 간지4
D16: Ⅳ. 필수보충정보
D19: 1. 예산결산요약표
D21: 2. 성질별 재정운영표
D23: 3. 관리책임자산명세서
D25: 4. 예산회계와 재무회계의 차이에 대한 명세서
D27: 5. 재정운영표

Sheet Sheet1

Sheet 세입
A1: 1. 예산결산요약표
A3: 1-1. 세입결산총괄(2016 회계연도)
G4: (단위: 원) | N4: (단위: 원)
A5: 구 분 | D5: 예산액 | E5: 전년도이월액 | F5: 예산현액 | G5: 징수결정액 | I5: 수납총액 | J5: 과오납환부액 | K5: 실제수납액 | L5: 미수납액 | M5: 결손처분 | N5: 다음연도이월액
A6: 합 계 | D6: 413349581000 | E6: 67070715430 | F6: 480420296430 | G6: 501648385980 | I6: 492173959840 | J6: 4066102930 | K6: 488107856910 | L6: 13540529070 | M6: 1671868750 | N6: 11868660320
A7: 일 반 회 계 | D7: 345225811000 | E7: 51452600890 | F7: 396678411890 | G7: 413460911890 | I7: 404252889440 | J7: 3520753990 | K7: 400732135450 | L7: 12728776440 | M7: 1671868750 | N7: 11056907690
B8: 지방세수입 | D8: 69070564000 | E8: 0 | F8: 69070564000 | G8: 79370810080 | I8: 74897406310 | J8: 1518955640 | K8: 73378450670 | L8: 5992359410 | M8: 942370710 | N8: 5049988700
C9: 보통세 | D9: 68244564000 | E9: 0 | F9: 68244564000 | G9: 75300006890 | I9: 73510926810 | J9: 750980070 | K9: 72759946740 | L9: 2540060150 | M9: 243338750 | N9: 2296721400
C10: 지난년도수입 | D10: 826000000 | E10: 0 | F10: 826000000 | G10: 4070803190 | I10: 1386479500 | J10: 767975570 | K10: 618503930 | L10: 3452299260 | M10: 699031960 | N10: 2753267300
B11: 세외수입 | D11: 25769818000 | E11: 0 | F11: 25769818000 | G11: 37304517690 | I11: 31558283340 | J11: 990182680 | K11: 30568100660 | L11: 6736417030 | M11: 729498040 | N11: 6006918990
C12: 경상적세외수입 | D12: 7127971000 | E12: 0 | F12: 7127971000 | G12: 7643169270 | I12: 8492716410 | J12: 957703210 | K12: 7535013200 | L12: 108156070 | M12: 0 | N12: 108156070
C13: 임시적세외수입 | D13: 18641847000 | E13: 0 | F13: 18641847000 | G13: 29661348420 | I13: 23065566930 | J13: 32479470 | K13: 23033087460 | L13: 6628260960 | M13: 729498040 | N13: 5898762920
B14: 지방교부세 | D14: 104004496000 | E14: 0 | F14: 104004496000 | G14: 104413701000 | I14: 104413701000 | J14: 0 | K14: 104413701000 | L14: 0 | M14: 0 | N14: 0
C15: 지방교부세 | D15: 104004496000 | E15: 0 | F15: 104004496000 | G15: 104413701000 | I15: 104413701000 | J15: 0 | K15: 104413701000 | L15: 0 | M15: 0 | N15: 0
B16: 조정교부금등 | D16: 18503252000 | E16: 0 | F16: 18503252000 | G16: 20305340000 | I16: 20305340000 | J16: 0 | K16: 20305340000 | L16: 0 | M16: 0 | N16: 0
C17: 시ㆍ군조정교부금등 | D17: 18503252000 | E17: 0 | F17: 18503252000 | G17: 20305340000 | I17: 20305340000 | J17: 0 | K17: 20305340000 | L17: 0 | M17: 0 | N17: 0
B18: 보조금 | D18: 110405747000 | E18: 0 | F18: 110405747000 | G18: 107359912590 | I18: 108371528260 | J18: 1011615670 | K18: 107359912590 | L18: 0 | M18: 0 | N18: 0
C19: 국고보조금등 | D19: 81523526000 | E19: 0 | F19: 81523526000 | G19: 80052736160 | I19: 80841633160 | J19: 788897000 | K19: 80052736160 | L19: 0 | M19: 0 | N19: 0
C20: 시ㆍ도비보조금등 | D20: 28882221000 | E20: 0 | F20: 28882221000 | G20: 27307176430 | I20: 27529895100 | J20: 222718670 | K20: 27307176430 | L20: 0 | M20: 0 | N20: 0
B21: 보전수입등및내부거래 | D21: 17471934000 | E21: 51452600890 | F21: 68924534890 | G21: 64706630530 | I21: 64706630530 | J21: 0 | K21: 64706630530 | L21: 0 | M21: 0 | N21: 0
C22: 보전수입등 | D22: 12698404000 | E22: 51452600890 | F22: 64151004890 | G22: 59947770530 | I22: 59947770530 | J22: 0 | K22: 59947770530 | L22: 0 | M22: 0 | N22: 0
B23: 내부거래 | D23: 4773530000 | E23: 0 | F23: 4773530000 | G23: 4758860000 | I23: 4758860000 | J23: 0 | K23: 4758860000 | L23: 0 | M23: 0 | N23: 0
A24: 특 별 회 계 | D24: 68123770000 | E24: 15618114540 | F24: 83741884540 | G24: 88187474090 | I24: 87921070400 | J24: 545348940 | K24: 87375721460 | L24: 811752630 | M24: 0 | N24: 811752630
B25: 공기업특별회계 | D25: 38539506000 | E25: 14925051490 | F25: 53464557490 | G25: 57439055390 | I25: 57643124850 | J25: 545342700 | K25: 57097782150 | L25: 341273240 | M25: 0 | N25: 341273240
C26: 상수도공기업특별회계 | D26: 13905025000 | E26: 2496558100 | F26: 16401583100 | G26: 19391520390 | I26: 19269473380 | J26: 129509850 | K26: 19139963530 | L26: 251556860 | M26: 0 | N26: 251556860
C27: 하수도공기업특별회계 | D27: 24634481000 | E27: 12428493390 | F27: 37062974390 | G27: 38047535000 | I27: 38373651470 | J27: 415832850 | K27: 37957818620 | L27: 89716380 | M27: 0 | N27: 89716380
B28: 기타특별회계 | D28: 29584264000 | E28: 693063050 | F28: 30277327050 | G28: 30748418700 | I28: 30277945550 | J28: 6240 | K28: 30277939310 | L28: 470479390 | M28: 0 | N28: 470479390
C29: 폐수종말처리시설 운영특별회계 | D29: 4092780000 | E29: 460040000 | F29: 4552820000 | G29: 4574465060 | I29: 4574465060 | J29: 0 | K29: 4574465060 | L29: 0 | M29: 0 | N29: 0
C30: 의료급여특별회계 | D30: 212054000 | E30: 0 | F30: 212054000 | G30: 241338530 | I30: 212159950 | J30: 6240 | K30: 212153710 | L30: 29184820 | M30: 0 | N30: 29184820
C31: 주민소득지원사업특별회계 | D31: 776561000 | E31: 0 | F31: 776561000 | G31: 648545790 | I31: 639974860 | J31: 0 | K31: 639974860 | L31: 8570930 | M31: 0 | N31: 8570930
C32: 농공지구조성특별회계 | D32: 14350304000 | E32: 233023050 | F32: 14583327050 | G32: 14592835680 | I32: 14592835680 | J32: 0 | K32: 14592835680 | L32: 0 | M32: 0 | N32: 0
C33: 주차장운영특별회계 | D33: 810421000 | E33: 0 | F33: 810421000 | G33: 1341267780 | I33: 908544140 | J33: 0 | K33: 908544140 | L33: 432723640 | M33: 0 | N33: 432723640
C34: 대지보상특별회계 | D34: 834531000 | E34: 0 | F34: 834531000 | G34: 832934940 | I34: 832934940 | J34: 0 | K34: 832934940 | L34: 0 | M34: 0 | N34: 0
C35: 폐기물처리시설 사업특별회계 | D35: 8507613000 | E35: 0 | F35: 8507613000 | G35: 8517030920 | I35: 8517030920 | J35: 0 | K35: 8517030920 | L35: 0 | M35: 0 | N35: 0

Sheet 세출
A2: 1-2. 세출결산총괄(2015 회계연도)
G3: (단위: 원) | N3: (단위: 원)
A4: 과 목 | D4: 예산액 | E4: 예산성립후 | F4: 예산현액 | G4: 지출원인 | I4: 지출액 | J4: 다음연도 이월액㉳ | N4: 집행잔액
D5: ㉮ | E5: 증감액㉯ | F5: ㉰=㉮+㉯ | G5: 행위액㉱ | I5: ㉲ | J5: 계 | K5: 명시이월 | L5: 사고이월 | M5: 계속비이월 | N5: ㉰-㉲-㉳
A6: 합 계 | D6: 413349581000 | E6: 67070715430 | F6: 480420296430 | G6: 395922360370 | I6: 379781392110 | J6: 76367849900 | K6: 34474348940 | L6: 4537151540 | M6: 37356349420 | N6: 24271054420
A7: 일 반 회 계 | D7: 345225811000 | E7: 51452600890 | F7: 396678411890 | G7: 343411797580 | I7: 331385565520 | J7: 53421224280 | K7: 34254508940 | L7: 4346949120 | M7: 14819766220 | N7: 11871622090
B8: 일반공공행정 | D8: 25887068000 | E8: 799373700 | F8: 26686441700 | G8: 23540986390 | I8: 21929949170 | J8: 3450445330 | K8: 3432486730 | L8: 17958600 | M8: 0 | N8: 1306047200
B9: 공공질서및안전 | D9: 1529844000 | E9: 752510070 | F9: 2282354070 | G9: 2069561990 | I9: 2069561990 | J9: 100000000 | K9: 100000000 | L9: 0 | M9: 0 | N9: 112792080
B10: 교육 | D10: 5045848000 | E10: 500000000 | F10: 5545848000 | G10: 4864890010 | I10: 4845990010 | J10: 66951990 | K10: 48051990 | L10: 18900000 | M10: 0 | N10: 632906000
B11: 문화및관광 | D11: 27680775000 | E11: 7064954500 | F11: 34745729500 | G11: 24924037010 | I11: 20580819210 | J11: 13313495410 | K11: 7367277960 | L11: 709931800 | M11: 5236285650 | N11: 851414880
B12: 환경보호 | D12: 28679831000 | E12: 256322720 | F12: 28936153720 | G12: 26517855260 | I12: 26318255260 | J12: 2195940000 | K12: 2175940000 | L12: 20000000 | M12: 0 | N12: 421958460
B13: 사회복지 | D13: 71177294000 | E13: 6629442730 | F13: 77806736730 | G13: 69034079000 | I13: 67807381190 | J13: 8727556870 | K13: 1899437230 | L13: 610112090 | M13: 6218007550 | N13: 1271798670
B14: 보건 | D14: 13483775000 | E14: 0 | F14: 13483775000 | G14: 13335857970 | I14: 13335857970 | J14: 14237000 | K14: 14237000 | L14: 0 | M14: 0 | N14: 133680030
B15: 농림해양수산 | D15: 59493092000 | E15: 6638804870 | F15: 66131896870 | G15: 55058951160 | I15: 52928496040 | J15: 10496312150 | K15: 6465751000 | L15: 2130455120 | M15: 1900106030 | N15: 2707088680
B16: 산업ㆍ중소기업 | D16: 10684467000 | E16: 6260703430 | F16: 16945170430 | G16: 15612705800 | I16: 15612705800 | J16: 581048000 | K16: 581048000 | L16: 0 | M16: 0 | N16: 751416630
B17: 수송및교통 | D17: 15669149000 | E17: 674202880 | F17: 16343351880 | G17: 15007710820 | I17: 14916185450 | J17: 1189130980 | K17: 1144179610 | L17: 44951370 | M17: 0 | N17: 238035450
B18: 국토및지역개발 | D18: 36883879000 | E18: 22350263060 | F18: 59234142060 | G18: 47031316100 | I18: 44626517360 | J18: 13286106550 | K18: 11026099420 | L18: 794640140 | M18: 1465366990 | N18: 1321518150
B19: 예비비 | D19: 1959856000 | E19: △477,712,000 | F19: 1482144000 | G19: 0 | I19: 0 | J19: 0 | K19: 0 | L19: 0 | M19: 0 | N19: 1482144000
B20: 기타 | D20: 47050933000 | E20: 3734930 | F20: 47054667930 | G20: 46413846070 | I20: 46413846070 | J20: 0 | K20: 0 | L20: 0 | M20: 0 | N20: 640821860
A21: 특 별 회 계 | D21: 68123770000 | E21: 15618114540 | F21: 83741884540 | G21: 52510562790 | I21: 48395826590 | J21: 22946625620 | K21: 219840000 | L21: 190202420 | M21: 22536583200 | N21: 12399432330
B22: 공기업특별회계 | D22: 38539506000 | E22: 14925051490 | F22: 53464557490 | G22: 35953929700 | I22: 31862533500 | J22: 20554588570 | K22: 103652000 | L22: 190202420 | M22: 20260734150 | N22: 1047435420
C23: 상수도공기업특별회계 | D23: 13905025000 | E23: 2496558100 | F23: 16401583100 | G23: 15951231780 | I23: 15847210240 | J23: 136237200 | K23: 103652000 | L23: 32585200 | M23: 0 | N23: 418135660
C24: 하수도공기업특별회계 | D24: 24634481000 | E24: 12428493390 | F24: 37062974390 | G24: 20002697920 | I24: 16015323260 | J24: 20418351370 | K24: 0 | L24: 157617220 | M24: 20260734150 | N24: 629299760
B25: 기타특별회계 | D25: 29584264000 | E25: 693063050 | F25: 30277327050 | G25: 16556633090 | I25: 16533293090 | J25: 2392037050 | K25: 116188000 | L25: 0 | M25: 2275849050 | N25: 11351996910
C26: 폐수종말처리시설 운영특별회계 | D26: 4092780000 | E26: 460040000 | F26: 4552820000 | G26: 3094159780 | I26: 3094159780 | J26: 116188000 | K26: 116188000 | L26: 0 | M26: 0 | N26: 1342472220
C27: 의료급여특별회계 | D27: 212054000 | E27: 0 | F27: 212054000 | G27: 172161390 | I27: 172161390 | J27: 0 | K27: 0 | L27: 0 | M27: 0 | N27: 39892610
C28: 주민소득지원사업특별회계 | D28: 776561000 | E28: 0 | F28: 776561000 | G28: 600000000 | I28: 600000000 | J28: 0 | K28: 0 | L28: 0 | M28: 0 | N28: 176561000
C29: 농공지구조성특별회계 | D29: 14350304000 | E29: 233023050 | F29: 14583327050 | G29: 11647653460 | I29: 11624313460 | J29: 2275849050 | K29: 0 | L29: 0 | M29: 2275849050 | N29: 683164540
C30: 주차장운영특별회계 | D30: 810421000 | E30: 0 | F30: 810421000 | G30: 307067430 | I30: 307067430 | J30: 0 | K30: 0 | L30: 0 | M30: 0 | N30: 503353570
C31: 대지보상특별회계 | D31: 834531000 | E31: 0 | F31: 834531000 | G31: 735591030 | I31: 735591030 | J31: 0 | K31: 0 | L31: 0 | M31: 0 | N31: 98939970
C32: 폐기물처리시설사업특별회계 | D32: 8507613000 | E32: 0 | F32: 8507613000 | G32: 0 | I32: 0 | J32: 0 | K32: 0 | L32: 0 | M32: 0 | N32: 8507613000

Sheet 재정운영-성질별(당기)
A1: 2. 성질별 재정운영표
A2: 재정운영표
A4: 해당연도 2016년 1월 1일 부터 2016년 12월 31일 까지
A5: 직전연도 2015년 1월 1일 부터 2015년 12월 31일 까지
A6: 진천군청 | I6: (단위: 원)
A7: 과 목 | D7: 해당연도 (2016년)
D8: 일반회계 | E8: 기타 특별회계 | F8: 기 금 | G8: 지방공기업 특별회계 | H8: 내부거래 | I8: 계
A10: 1. 인 건 비 | D10: 49914086645 | E10: 220667480 | F10: 0 | G10: 1293882389 | H10: 0 | I10: 51428636514
B11: 급여 | D11: 31618065860 | E11: 0 | F11: 0 | G11: 1258500920 | H11: 0 | I11: 32876566780
B12: 복리후생비 | D12: 7494684160 | E12: 0 | F12: 0 | G12: 0 | H12: 0 | I12: 7494684160
B13: 기타인건비 | D13: 9919566110 | E13: 169599320 | F13: 0 | G13: 32382280 | H13: 0 | I13: 10121547710
B14: 퇴직급여 | D14: 881770515 | E14: 51068160 | F14: 0 | G14: 2999189 | H14: 0 | I14: 935837864
A16: 2. 운 영 비 | D16: 84484759247 | E16: 2411185448 | F16: 531245570 | G16: 17593450385 | H16: 0 | I16: 105020640650
B17: 도서구입및인쇄비 | D17: 571492210 | E17: 2115000 | F17: 0 | G17: 0 | H17: 0 | I17: 573607210
B18: 소모품비 | D18: 4140856810 | E18: 6782130 | F18: 0 | G18: 252953390 | H18: 0 | I18: 4400592330
B19: 홍보및광고비 | D19: 1598641670 | E19: 3511000 | F19: 20000000 | G19: 0 | H19: 0 | I19: 1622152670
B20: 지급수수료 | D20: 4581698830 | E20: 13576350 | F20: 22734300 | G20: 215022070 | H20: 0 | I20: 4833031550
B21: 일반유형자산수선유지비 | D21: 1010826270 | E21: 748330 | F21: 249940870 | G21: 0 | H21: 0 | I21: 1261515470
B22: 주민편의시설수선유지비 | D22: 3738505590 | E22: 121378400 | F22: 0 | G22: 0 | H22: 0 | I22: 3859883990
B23: 사회기반시설수선유지비 | D23: 7545870110 | E23: 299055960 | F23: 238010400 | G23: 4790347790 | H23: 0 | I23: 12873284260
B24: 기타자산수선유지비 | D24: 2320742240 | E24: 0 | F24: 0 | G24: 0 | H24: 0 | I24: 2320742240
B25: 교육훈련비 | D25: 1262237920 | E25: 0 | F25: 0 | G25: 0 | H25: 0 | I25: 1262237920
B26: 제세공과금 | D26: 4426711530 | E26: 359100 | F26: 0 | G26: 913664330 | H26: 0 | I26: 5340734960
B27: 보험료및공제료 | D27: 282194384 | E27: 369808 | F27: 0 | G27: 0 | H27: 0 | I27: 282564192
B28: 임차료 | D28: 426896441 | E28: 0 | F28: 0 | G28: 0 | H28: 0 | I28: 426896441
... B41: 기타운영비 | D41: 460171990 | E41: 14338000 | F41: 560000 | G41: 0 | H41: 0 | I41: 475069990
A43: 3. 정부간이전비용 | D43: 5415069080 | E43: 0 | F43: 14384000 | G43: 54826000 | H43: 0 | I43: 5484279080
B44: 지방자치단체간부담금 | D44: 593402750 | E44: 0 | F44: 0 | G44: 54826000 | H44: 0 | I44: 648228750
B45: 국가에대한부담금 | D45: 73951330 | E45: 0 | F45: 14384000 | G45: 0 | H45: 0 | I45: 88335330
B46: 교육비특별회계전출금 | D46: 0 | E46: 0 | F46: 0 | G46: 0 | H46: 0 | I46: 0
B47: 교육기관운영비보조금 | D47: 4747715000 | E47: 0 | F47: 0 | G47: 0 | H47: 0 | I47: 4747715000
A49: 4. 민간등이전비용 | D49: 117967872460 | E49: 4279000650 | F49: 40300000 | G49: 1620000 | H49: -21868258750 | I49: 100420534360
B50: 민간보조금 | D50: 85107310640 | E50: 72175900 | F50: 39300000 | G50: 0 | H50: 0 | I50: 85218786540
B51: 민간장학금 | D51: 121183450 | E51: 0 | F51: 1000000 | G51: 0 | H51: 0 | I51: 122183450
B52: 이차보전금 | D52: 2382329660 | E52: 0 | F52: 0 | G52: 0 | H52: 0 | I52: 2382329660
B53: 출연금 | D53: 254232000 | E53: 0 | F53: 0 | G53: 0 | H53: 0 | I53: 254232000
B54: 전출금비용 | D54: 17661434000 | E54: 4206824750 | F54: 0 | G54: 0 | H54: -21868258750 | I54: 0
B55: 지방공공기관보조금 | D55: 0 | E55: 0 | F55: 0 | G55: 0 | I55: 0
B56: 기타이전비용 | D56: 12441382710 | E56: 0 | F56: 0 | G56: 1620000 | H56: 0 | I56: 12443002710
A58: 5. 기타비용 | D58: 18473093500 | E58: 2430459055 | F58: 159324425 | G58: 8614384406 | H58: 0 | I58: 29677261386
...

Sheet 재정운영-성질별(전기)
A1: 재정운영표
A3: 해당연도 2016년 1월 1일 부터 2016년 12월 31일 까지
A4: 직전연도 2015년 1월 1일 부터 2015년 12월 31일 까지
A5: 진천군청 | I5: (단위: 원)
A6: 과 목 | D6: 직전연도 (2015년)
D7: 일반회계 | E7: 기타 특별회계 | F7: 기 금 | G7: 지방공기업 특별회계 | H7: 내부거래 | I7: 계
A9: 1. 인 건 비 | D9: 47659264830 | E9: 189342150 | F9: 0 | G9: 1261886794 | H9: 0 | I9: 49110493774
B10: 급여 | D10: 30533712020 | E10: 0 | F10: 0 | G10: 1223932170 | H10: 0 | I10: 31757644190
B11: 복리후생비 | D11: 7624973300 | E11: 0 | F11: 0 | G11: 0 | H11: 0 | I11: 7624973300
B12: 기타인건비 | D12: 9250212360 | E12: 165863880 | F12: 0 | G12: 31228340 | H12: 0 | I12: 9447304580
B13: 퇴직급여 | D13: 250367150 | E13: 23478270 | F13: 0 | G13: 6726284 | H13: 0 | I13: 280571704
A15: 2. 운 영 비 | D15: 75633159593 | E15: 1968161740 | F15: 315330060 | G15: 15513530745 | H15: 0 | I15: 93430182138
B16: 도서구입및인쇄비 | D16: 508023580 | E16: 2490000 | F16: 0 | G16: 0 | H16: 0 | I16: 510513580
B17: 소모품비 | D17: 4560354150 | E17: 23555820 | F17: 174798260 | G17: 22315770 | H17: 0 | I17: 4781024000
B18: 홍보및광고비 | D18: 1644708610 | E18: 2315950 | F18: 20000000 | G18: 0 | H18: 0 | I18: 1667024560
B19: 지급수수료 | D19: 4030267470 | E19: 67701900 | F19: 20600000 | G19: 0 | H19: 0 | I19: 4118569370
B20: 일반유형자산수선유지비 | D20: 1090961780 | E20: 1803000 | F20: 0 | G20: 0 | H20: 0 | I20: 1092764780
B21: 주민편의시설수선유지비 | D21: 3670806290 | E21: 14134000 | F21: 0 | G21: 0 | H21: 0 | I21: 3684940290
B22: 사회기반시설수선유지비 | D22: 7907489380 | E22: 496427270 | F22: 98180000 | G22: 2428851300 | H22: 0 | I22: 10930947950
B23: 기타자산수선유지비 | D23: 2373721860 | E23: 0 | F23: 0 | G23: 0 | H23: 0 | I23: 2373721860
B24: 교육훈련비 | D24: 1200787050 | E24: 0 | F24: 0 | G24: 0 | H24: 0 | I24: 1200787050
B25: 제세공과금 | D25: 3868089420 | E25: 379040 | F25: 1471800 | G25: 742369950 | H25: 0 | I25: 4612310210
B26: 보험료및공제료 | D26: 254243850 | E26: 329450 | F26: 0 | G26: 0 | H26: 0 | I26: 254573300
B27: 임차료 | D27: 322363643 | E27: 0 | F27: 0 | G27: 0 | H27: 0 | I27: 322363643
... B40: 기타운영비 | D40: 282817610 | E40: 29200000 | F40: 280000 | G40: 457752730 | H40: 0 | I40: 770050340
A42: 3. 정부간이전비용 | D42: 5767899810 | E42: 0 | F42: 20336000 | G42: 39576000 | H42: 0 | I42: 5827811810
B43: 지방자치단체간부담금 | D43: 857999810 | E43: 0 | F43: 0 | G43: 39576000 | H43: 0 | I43: 897575810
B44: 국가에대한부담금 | D44: 303893000 | E44: 0 | F44: 20336000 | G44: 0 | H44: 0 | I44: 324229000
B45: 교육비특별회계전출금 | D45: 0 | E45: 0 | F45: 0 | G45: 0 | H45: 0 | I45: 0
B46: 교육기관운영비보조금 | D46: 4606007000 | E46: 0 | F46: 0 | G46: 0 | H46: 0 | I46: 4606007000
A49: 4. 민간등이전비용 | D49: 104253824714 | E49: 2333090680 | F49: 37950000 | G49: 2239000 | H49: -14383274000 | I49: 92243830394
B50: 민간보조금 | D50: 71461943510 | E50: 501244680 | F50: 32600000 | G50: 0 | H50: 0 | I50: 71995788190
B51: 민간장학금 | D51: 161967300 | E51: 0 | F51: 5350000 | G51: 0 | H51: 0 | I51: 167317300
B52: 이차보전금 | D52: 2270920140 | E52: 0 | F52: 0 | G52: 0 | H52: 0 | I52: 2270920140
B53: 출연금 | D53: 442447000 | E53: 0 | F53: 0 | G53: 0 | H53: 0 | I53: 442447000
B54: 전출금비용 | D54: 12551428000 | E54: 1831846000 | F54: 0 | G54: 0 | H54: -14383274000 | I54: 0
B55: 지방공공기관보조금 | D55: 0 | E55: 0 | F55: 0 | G55: 0 | H55: 0 | I55: 0
B56: 기타이전비용 | D56: 17365118764 | E56: 0 | F56: 0 | G56: 2239000 | H56: 0 | I56: 17367357764
A58: 5. 기타비용 | D58: 22202305734 | E58: 1619488447 | F58: 124242299 | G58: 8169548137 | H58: 0 | I58: 32115584617
B59: 자산처분손실 | D59: 5313740659 | E59: 0 | F59: 0 | G59: 0 | H59: 0 | I59: 5313740659
...

Sheet 관리책임자산명세서
A1: 3. 관리책임자산명세서
A3: 2016년 12월 31일 현재
A5: 구분 | B5: 내역 | C5: 자산명 | D5: 관리부서 | E5: 비고
A6: 유 산 자 산 | B6: 전시물 | C6: 종 158점 | D6: 시설관리사업소 | E6: 종박물관
C7: 판화작품 223점 | D7: 시설관리사업소 | E7: 생거판화미술관
C8: 농기구 등 780점 | D8: 시설관리사업소 | E8: 향토민속자료전시관
B9: 유형문화재 | C9: 진천 향교 | D9: 문화홍보체육과 | E9: 제101호
C10: 진천 사곡리 마애여래입상 | D10: 문화홍보체육과 | E10: 제124호
C11: 진천 용화사 석조여래입상 | D11: 문화홍보체육과 | E11: 제138호
C12: 진천 이시발 신도비 | D12: 문화홍보체육과 | E12: 제142호
C13: 진천 정철 신도비 | D13: 문화홍보체육과 | E13: 제187호
C14: 진천 노원리 마애여래입상 | D14: 문화홍보체육과 | E14: 제189호
C15: 진천 지암리 석조여래입상 | D15: 문화홍보체육과 | E15: 제216호
C16: 홍정명 지석 | D16: 문화홍보체육과 | E16: 제241호
C17: 홍우경 초상 | D17: 문화홍보체육과 | E17: 제245호
C18: 진천 영수사 신중도 | D18: 문화홍보체육과 | E18: 제317호
C19: 진천 태화사년명 마애불입상 | D19: 문화홍보체육과 | E19: 제91호
C20: 진천 농다리 | D20: 문화홍보체육과 | E20: 제28호
C21: 신잡 초상 | D21: 문화홍보체육과 | E21: 제45호
B22: 무형문화재 | C22: 진천 용몽리 농요 | D22: 문화홍보체육과 | E22: 제11호
B23: 기념물 | C23: 진천 길상사 | D23: 문화홍보체육과 | E23: 제1호
C24: 진천 정송강사 | D24: 문화홍보체육과 | E24: 제9호
C25: 진천 이상설 생가 | D25: 문화홍보체육과 | E25: 제77호
C26: 진천 홍우경 정인옹주 묘소 | D26: 문화홍보체육과 | E26: 제78호
C27: 진천 남지 묘소 및 신도비 | D27: 문화홍보체육과 | E27: 제80호
C28: 진천 대모산성 | D28: 문화홍보체육과 | E28: 제83호
C29: 진천 송인 묘소 | D29: 문화홍보체육과 | E29: 제91호
C30: 진천 이정 묘소 | D30: 문화홍보체육과 | E30: 제94호
C31: 진천 이거이 묘소 | D31: 문화홍보체육과 | E31: 제95호
C32: 진천 이집 묘소 | D32: 문화홍보체육과 | E32: 제104호
C33: 진천 정철 묘소 | D33: 문화홍보체육과 | E33: 제106호
C34: 진천 석장리 유적 | D34: 문화홍보체육과 | E34: 제124호
C35: 진천 김덕숭 효자각 | D35: 문화홍보체육과 | E35: 제134호
... C37: 진천 배티성지 | D37: 문화홍보체육과 | E37: 제150호
A39: 구분 | B39: 내역 | C39: 자산명 | D39: 관리부서 | E39: 비고
A40: 유 산 자 산 | B40: 민속문화재 | C40: 신화국 백자청화묘지 | D40: 문화홍보체육과 | E40: 제7호
C41: 진천 산우물 대동계 문서 및 관련자료 | D41: 문화홍보체육과 | E41: 제21호
B42: 문화재자료 | C42: 진천 신헌고가 | D42: 문화홍보체육과 | E42: 제1호
C43: 진천 금성대군 사당 | D43: 문화홍보체육과 | E43: 제10호
C44: 진천 산수리 마애여래좌상 | D44: 문화홍보체육과 | E44: 제20호
...

Sheet 재정분석
A2: 재정분석
A4: 분야 | B4: 지표명 | C4: 산식 | D4: 지표값 | E4: 산식 | G4: 안산시 | H4: 안산수치로 수정함
A5: 재정상태 | B5: 총자산 대비 총부채 비율 | C5: 총부채 / 총자산 * 100 | D5: =D38/D39*100 -> 1934.0733 | G5: 인구 | H5: 741073
B6: 총부채 대비 차입부채 비율 | C6: 차입부채 / 총부채 * 100 | D6: =D42/D39*100 -> 14.321681 | G6: 공무원(현원) | H6: 1713
B7: 총부채 대비 실질부채 비율 | C7: (총부채 - 기초단체 융자액) / 총부채 * 100 | D7: =D40/D39*100 -> 100
B8: 재정자금 대비 금융상품 비율 | C8: 장·단기 금융상품 / 재정자금 * 100 | D8: =D44/D43*100 -> 58.108927
B9: 총부채 대비 현금창출자산 비율 | C9: 현금창출자산 / 총부채 * 100 | D9: =D45/D39*100 -> #REF! | E9: ※ 현금창출자산 : (유동자산-기타유동자산+일반미수금)+장기금융상품+(장기대여금-학자금위탁대여금)+기타투자자산
B10: 차입부채 대비 재정자금 비율 | C10: 재정자금 / 차입부채 * 100 | D10: =D43/D42*100 -> 798.05835 | E10: ※ 재정자금 : 현금 및 현금성자산 + 장·단기 금융상품
B11: 유동부채 대비 유동자산 비율 | C11: 유동자산 / 유동부채 * 100 | D11: =D57/D41*100 -> 323.06378
B12: 미수세금 대비 대손충당금 비율 | C12: 미수세금 대손충당금 / 미수세금(대손충당금 차감전) * 100 | D12: =D59/D58*100 -> 11.378536
B13: 단기민간융자금 비율 | C13: 단기민간융자금 / 장·단기 민간융자금 * 100 | D13: =D66/(D66+D71)*100 -> #REF!
A14: 재정운영 | B14: 예산 대비 세출 비율 | C14: 세출액(일반회계+특별회계) / 예산현액(일반회계+특별회계) * 100 | D14: =D75/D79*100 -> 74.41806
B15: 경상비용 대비 이자비용 비율 | C15: 이자비용 / 경상비용 * 100 | D15: =D84/D86*100 -> #REF! | E15: ※ 이자비용 : 차입부채 이자비용 ※ 경상비용 : 인건비+운영비+재정보전금+조정교부금+교육비특별회계전출금
B16: 이자수익 대비 이자비용 비율 | C16: 이자비용 / 이자수익 * 100 | D16: =D85/D93*100 -> #REF!
B17: 총수익 대비 경상자체조달수익 비율 | C17: 경상수익 / 총수익 * 100 | D17: =D94/D98*100 -> 62.953796 | E17: ※ 경상수익 : 지방세수익+경상세외수익+지방교부세+재정보전금+조정교부금
B18: 경상수익 대비경상자체조달수익 비율 | C18: 경상자체조달수익 / 경상수익 * 100 | D18: =D99/D94*100 -> 43.458268 | E18: ※ 경상자체조달수익 : 지방세수익 + 경상세외수익
B19: 자체조달수익 대비 채권 비율 | C19: 미수자체조달수익(대손충당금 차감후) / 자체조달수익 * 100 | D19: =D100/D95*100 -> #REF! | E19: ※ 미수자체조달수익 : 미수세금+미수세외수익금+일반미수금
B20: 새외수익 대비 채권 비율 | C20: 미수세외수익(대손충담금 차감후) / 세외수익 * 100 | D20: =D101/D97*100 -> #REF! | E20: ※ 미수세외수익 : 미수세외수입금+일반미수금
B21: 총비용 대비 경상비용 비율 | C21: 경상비용 / 총비용 * 100 | D21: =D86/D88*100 -> 53.572767
B22: 지출액 대비 자산취득 비율 | C22: 자산 취득액 / 지출액 * 100 | D22: =D102/D103*100 -> #REF!
A23: 회계책임 | B23: 주민 1인당 총자산 | C23: 총자산 / 인구수(회계연도말 인구수) | D23: =D38/$H$5 -> 2624100.2
B24: 주민 1인당 총부채 | C24: 총부채 / 인구수(회계연도말 인구수) | D24: =D39/$H$5 -> 135677.39
B25: 주민 1인당 실질부채 | C25: 실질부채 / 인구수(회계연도말 인구수) | D25: =D40/$H$5 -> 135677.39
B26: 주민 1인당 총수익 | C26: 총수익 / 인구수(회계연도말 인구수) | D26: =D98/$H$5 -> 481296.08
B27: 주민 1인당 자체조달수익 | C27: 자체조달수익 / 인구수(회계연도말 인구수) | D27: =D95/$H$5 -> 161112.39
B28: 주민 1인당 지방세수익 | C28: 지방세수익 / 인구수(회계연도말 인구수) | D28: =D96/$H$5 -> 100852.07
B29: 주민 1인당 총비용 | C29: 총비용 / 인구수(회계연도말 인구수) | D29: =D88/$H$5 -> 394065.57
B30: 주민 1인당 기타이전비용 | C30: 기타이전비용 / 인구수(회계연도말 인구수) | D30: =D87/$H$5 -> 135506.94
B31: 공무원 1인당 총수익 | C31: 총수익 / 공무원(현원) | D31: =D98/$H$6 -> 2.0821689e+08
B32: 공무원 1인당 총비용 | C32: 총비용 / 공무원(현원) | D32: =D88/$H$6 -> 1.7047948e+08
B33: 공무원 1인당 총급여 | C33: 총급여 / 공무원(현원) | D33: =D104/$H$6 -> 19192392
B36: 재정분석지표 구성요소 | F36: (주의사항) | G36: 인구 및 공무원현원(2010년말 기준)을 파악하여 위에 기재할 것
B37: 구 분 | C37: 회계구분 | D37: 금 액 | E37: 비 고 | H37: 노란색 칠한 셀은 값을 직접 대입하거나 확인해야 함
B38: 총자산 | D38: =SUM('재정상태(당기)'!I104) -> 1944649814437
B39: 총부채 | D39: =SUM('재정상태(당기)'!I120) -> 100546854121
B40: 실질부채 | D40: =D39 -> 100546854121
B41: 유동부채 | D41: =SUM('재정상태(당기)'!I107) -> 39599159852
B42: 차입부채 | D42: =SUM('재정상태(당기)'!I108,'재정상태(당기)'!I109,'재정상태(당기)'!I113) -> 14400000000
B43: 재정자금 | D43: =SUM('재정상태(당기)'!I11,'재정상태(당기)'!I12,'재정상태(당기)'!I25) -> 114920402303
B44: 장단기금융상품 | D44: =SUM('재정상태(당기)'!I12,'재정상태(당기)'!I25) -> 66779013199
...

Sheet 차이명세서
A1: 4. 예산회계와 재무회계의 차이에 대한 명세서
A3: 2016년 1월 1일부터 2016년 12월 31일까지
K4: (단위:원)
A5: 구 분 | F5: 일반회계 | G5: 기타 특별회계 | H5: 기금 | I5: 지방공기업 특별회계 | J5: 내부거래 | K5: 금 액
A6: Ⅰ. 2016회계연도 세출액 | F6: 331385565520 | G6: 16533293090 | H6: 1006075680 | I6: 31862533500 | J6: -22301527750 | K6: 358485940040
A7: Ⅱ. 세출 조정사항 | F7: -55130684588 | G7: -7191980457 | H7: -260821685 | I7: -4304370320 | J7: 433269000 | K7: -66454588050
B8: 1. 자금유출이 없는 비용 | D8: 1. 자금유출이 없는 비용 가산 | F8: 19497920614 | G8: 2463710503 | H8: 159324425 | I8: 8349949545 | J8: 0 | K8: 30470905087
C9: 자산처분손실 | E9: 자산처분손실 | F9: 0 | G9: 0 | H9: 0 | I9: 0 | J9: 0 | K9: 0
C10: 자산손상차손 | E10: 자산감액손실 | F10: 1007591 | G10: 0 | H10: 0 | I10: 0 | J10: 0 | K10: 1007591
C11: 감가상각비 | E11: 감가상각비 | F11: 16066251949 | G11: 1896165815 | H11: 159058135 | I11: 8605876766 | J11: 0 | K11: 26727352665
C12: 대손상각비 | E12: 대손상각비 | F12: 1998956220 | G12: 5710 | H12: 0 | I12: 0 | J12: 0 | K12: 1998961930
C13: 퇴직급여 | E13: 퇴직급여 | F13: 881770515 | G13: 51068160 | H13: 0 | I13: 2999189 | J13: 0 | K13: 935837864
C14: 기타 자금유출이 없는 비용 | E14: 기타 자금유출이 없는 비용 | F14: 406877740 | G14: 534287530 | H14: 266290 | I14: 8507640 | J14: 0 | K14: 949939200
C15: 발생주의 기간비용 조정사항 | E15: 발생주의 기간비용 조정사항 | F15: 143056599 | G15: -17816712 | H15: 0 | I15: -267434050 | J15: 0 | K15: -142194163
B16: 2. 자산취득으로 인한 자금 유출액 | D16: 2. 자산취득으로 인한 자금 유출액 차감 | F16: -68267775290 | G16: -7130850750 | H16: -417877460 | I16: -10003915130 | J16: 433269000 | K16: -85387149630
C17: 판매용 부동산 등 취득 | E17: 판매용 재고자산 취득 | F17: -168921520 | G17: 0 | H17: 0 | I17: 0 | J17: 0 | K17: -168921520
C18: 장·단기융자금 대여 | D18: 장·단기대여금의 대여및 보증금의 취득 | E18: 장·단기대여금의 대여및 보증금의 취득 | F18: 0 | G18: 0 | H18: 0 | I18: 0 | J18: 0 | K18: 0
C19: 일반유형자산 취득 | E19: 일반유형자산 취득 | F19: -10734594320 | G19: -7330400 | H19: -214367460 | I19: 0 | J19: 0 | K19: -10956292180
C20: 주민편의시설 취득 | E20: 주민편의시설 취득 | F20: -24243112650 | G20: 0 | H20: 0 | I20: 0 | J20: 0 | K20: -24243112650
C21: 사회기반시설 취득 | E21: 사회기반시설 취득 | F21: -31367069430 | G21: -7123520350 | H21: -203510000 | I21: -10003915130 | J21: 0 | K21: -48698014910
C22: 기타 자산취득으로 인한 자금 유출 | E22: 기타 자산취득으로 인한 자금 유출 | F22: -1754077370 | G22: 0 | H22: 0 | I22: 0 | J22: 433269000 | K22: -1320808370
B23: 3. 부채 상환으로 인한 자금 유출액 | D23: 3. 부채 상환으로 인한 자금 유출액 차감 | F23: -6360829912 | G23: -2524840210 | H23: -2268650 | I23: -2650404735 | J23: 0 | K23: -11538343507
C24: 차입부채 상환 | E24: 차입부채 상환 | F24: -1100000000 | G24: -1700000000 | H24: 0 | I24: 0 | J24: 0 | K24: -2800000000
C25: 보조금 반납 | E25: 보조금 반납 | F25: -5127644600 | G25: -824840210 | H25: -2268650 | I25: 0 | J25: 0 | K25: -5954753460
C26: 퇴직금 지급 | E26: 퇴직금 또는 퇴직보험료 지급 | F26: -85030930 | G26: 0 | H26: 0 | I26: 0 | J26: 0 | K26: -85030930
C27: 기타 부채상환 등으로 인한 자금 유출 | E27: 기타 부채상환으로 인한 자금 유출 | F27: -48154382 | G27: 0 | H27: 0 | I27: -2650404735 | J27: 0 | K27: -2698559117
A28: Ⅲ. 성질별 재정운영보고서의 비용(Ⅰ+Ⅱ) | F28: 276254880932 | G28: 9341312633 | H28: 745253995 | I28: 27558163180 | J28: -21868258750 | K28: 292031351990
A29: Ⅳ. 2016회계연도 세입액 | F29: 400732135450 | G29: 30277939310 | H29: 7600013183 | I29: 57097782150 | J29: -22301527750 | K29: 473406342343
A30: Ⅴ. 세입조정사항 | F30: -59884590320 | G30: -17662346974 | H30: -5767642829 | I30: -33849501560 | J30: 433269000 | K30: -116730812683
B31: 1. 전년도 순세계잉여금 및 이월금 | F31: -59940945780 | G31: -6449562170 | H31: -5785993123 | I31: -17642114140 | J31: 0 | K31: -89818615213
B32: 2. 자금유입이 없는 수익 | F32: 9624517410 | G32: -25977084 | H32: 43146134 | I32: 1822915680 | J32: 0 | K32: 11464602140
C33: 징수결정액과 수납액의 차이 | D33: 징수결정액과 수납액의 차이 | E33: 징수결정액과 수납액의 차이 | F33: 1193023100 | G33: -34496330 | H33: 0 | I33: 3290540 | J33: 0 | K33: 1161817310
C34: 자산처분이익 | D34: 자산처분이익 | E34: 자산처분이익 | F34: 5765893999 | G34: 0 | H34: 0 | I34: 0 | J34: 0 | K34: 5765893999
C35: 대손충당금환입 | D35: 대손충당금환입 | E35: 대손충당금환입 | F35: 23126280 | G35: 2171510 | H35: 0 | I35: 500270 | J35: 0 | K35: 25798060
C36: 퇴직급여충당부채환입 | D36: 퇴직급여충당부채환입 | E36: 퇴직급여충당부채환입 | F36: 0 | G36: 0 | H36: 0 | I36: 0 | J36: 0 | K36: 0
C37: 자산손상차손환입 | D37: 자산감액손실환입 | E37: 자산감액손실환입 | F37: 0 | G37: 0 | H37: 0 | I37: 0 | J37: 0 | K37: 0
C38: 기타 자금유입이 없는 수익 | D38: 기타 자금유입이 없는 수익 | E38: 기타 자금유입이 없는 수익 | F38: 2574916954 | G38: 21160550 | H38: 0 | I38: 0 | J38: 0 | K38: 2596077504
C39: 발생주의 기간수익 조정사항 | D39: 발생주의 기간수익 조정사항 | E39: 발생주의 기간수익 조정사항 | F39: 67557077 | G39: -14812814 | H39: 43146134 | I39: 1819124870 | J39: 0 | K39: 1915015267
B40: 3. 자산처분으로 인한 자금 유입액 | F40: -7075587500 | G40: -11186807720 | H40: 0 | I40: 0 | J40: 0 | K40: -18262395220
C41: 재고자산 판매 | D41: 판매용 재고자산 판매 | E41: 판매용 재고자산 판매 | F41: -799160330 | G41: 0 | H41: 0 | I41: 0 | J41: 0 | K41: -799160330
...

Sheet 일반
A1: 5. 재정운영표
A2: 재정운영표(일반회계)
A4: 해당연도 2016년 1월 1일 부터 2016년 12월 31일 까지
A5: 직전연도 2015년 1월 1일 부터 2015년 12월 31일 까지
A6: 진천군청 | G6: (단위:원)
A7: 과목 | B7: 해당연도(2016년) | E7: 직전연도(2015년)
B8: 총원가 | C8: 사업수익 | D8: 순원가 | E8: 총원가 | F8: 사업수익 | G8: 순원가
A10: Ⅰ.사업순원가 | B10: 200637251500 | C10: 109579757430 | D10: 91057494070 | E10: 183172353849 | F10: 112695757850 | G10: 70476595999
A11: 일반공공행정 | B11: 14252474197 | C11: 2229711590 | D11: 12022762607 | E11: 13437229128 | F11: 888058180 | G11: 12549170948
A12: 입법및선거관리 | B12: 582950254 | C12: 0 | D12: 582950254 | E12: 565695160 | F12: 0 | G12: 565695160
A13: 의회사무과 | B13: 582950254 | C13: 0 | D13: 582950254 | E13: 565695160 | F13: 0 | G13: 565695160
A14: 선진 지방자치 구현을 위한 의회상 정립 | B14: 582950254 | C14: 0 | D14: 582950254 | E14: 565695160 | F14: 0 | G14: 565695160
A15: 지방행정ㆍ재정지원 | B15: 439869690 | C15: 0 | D15: 439869690 | E15: 500391806 | F15: 0 | G15: 500391806
A16: 세정과 | B16: 439869690 | C16: 0 | D16: 439869690 | E16: 500391806 | F16: 0 | G16: 500391806
A17: 원활한 재정의 지원 | B17: 439869690 | C17: 0 | D17: 439869690 | E17: 500391806 | F17: 0 | G17: 500391806
A18: 재정ㆍ금융 | B18: 0 | C18: 0 | D18: 0 | E18: - | F18: - | G18: -
A19: 일반행정 | B19: 13229654253 | C19: 2229711590 | D19: 10999942663 | E19: 12371142162 | F19: 888058180 | G19: 11483083982
A20: 기획조정실 | B20: 637358503 | C20: 17668050 | D20: 619690453 | E20: 1730375165 | F20: 20534360 | G20: 1709840805
A21: 군정의 종합기획 및 추진역량 강화 | B21: 336070143 | C21: 0 | D21: 336070143 | E21: 568904692 | F21: 0 | G21: 568904692
A22: 건전하고 효율적인 예산운영관리 | B22: 141817931 | C22: 0 | D22: 141817931 | E22: 174414053 | F22: 0 | G22: 174414053
A23: 투명한 감사운용 | B23: 21690516 | C23: 0 | D23: 21690516 | E23: 18991573 | F23: 0 | G23: 18991573
A24: 정확하고 신뢰받는 법무통계 행정구현 | B24: 137779913 | C24: 17668050 | D24: 120111863 | E24: 140052573 | F24: 20534360 | G24: 119518213
A25: 종합민원과 | B25: 206000974 | C25: 149099110 | D25: 56901864 | E25: 191220992 | F25: 182832650 | G25: 8388342
A26: 군민이 만족하는 민원행정 구현 | B26: 206000974 | C26: 149099110 | D26: 56901864 | E26: 191220992 | F26: 182832650 | G26: 8388342
A27: 행정지원과 | B27: 2489683004 | C27: 175529070 | D27: 2314153934 | E27: 2618079673 | F27: 54690390 | G27: 2563389283
A28: 지방행정역량강화 | B28: 1468150567 | C28: 0 | D28: 1468150567 | E28: 1661595713 | F28: 1427220 | G28: 1660168493
A29: 더불어 함께하는 참다운 이웃사랑 실현 | B29: 337914951 | C29: 43232000 | D29: 294682951 | E29: 339991278 | F29: 41266970 | G29: 298724308
A30: 열린미래를위한자치행정역량강화 | B30: 683617486 | C30: 132297070 | D30: 551320416 | E30: 616492682 | F30: 11996200 | G30: 604496482
... A57: 공공질서및안전 | B57: 684832963 | C57: 44796000 | D57: 640036963 | E57: 731867775 | F57: 407015160 | G57: 324852615
A58: 경찰 | B58: 0 | C58: 0 | D58: 0 | E58: - | F58: - | G58: -
A59: 재난방재ㆍ민방위 | B59: 684832963 | C59: 44796000 | D59: 640036963 | E59: 731867775 | F59: 407015160 | G59: 324852615
A60: 안전건설과 | B60: 684832963 | C60: 44796000 | D60: 640036963 | E60: 731867775 | F60: 407015160 | G60: 324852615
A61: 재해 및 재난예방 | B61: 114729310 | C61: 15771600 | D61: 98957710 | E61: 230584636 | F61: 332773020 | G61: -102188384
A62: 민방위및위기대응 | B62: 289846016 | C62: 18309400 | D62: 271536616 | E62: 377116311 | F62: 63348140 | G62: 313768171
A63: 군민이 체감하는 재난안전 추진 | B63: 280257637 | C63: 10715000 | D63: 269542637 | E63: 124166828 | F63: 10894000 | G63: 113272828
A64: 소방 | B64: 0 | C64: 0 | D64: 0 | E64: - | F64: - | G64: -
A65: 교육 | B65: 4485892133 | C65: 1401724010 | D65: 3084168123 | E65: 4388554680 | F65: 777313520 | G65: 3611241160
A66: 유아및초중등교육 | B66: 4485892133 | C66: 1401724010 | D66: 3084168123 | E66: 4388554680 | F66: 777313520 | G66: 3611241160
A67: 미래전략실 | B67: 553086722 | C67: 663759500 | D67: -110672778 | E67: 0 | F67: 0 | G67: 0
A68: 품격있는 문화교육도시 육성 | B68: 553086722 | C68: 663759500 | D68: -110672778 | E68: 0 | F68: 0 | G68: 0
...

Sheet 상수도
A2: 재정운영표( 상수도사업특별회계 )
A4: 해당연도 2016년 1월 1일 부터 2016년 12월 31일 까지
A5: 직전연도 2015년 1월 1일 부터 2015년 12월 31일 까지
A6: 진천군청 | G6: (단위 : 원)
A7: 과목 | B7: 해당연도(2016년) | E7: 직전연도(2015년)
B8: 총원가 | C8: 사업수익 | D8: 순원가 | E8: 총원가 | F8: 사업수익 | G8: 순원가
A10: Ⅰ.사업순원가 | B10: 9485038540 | C10: 14113065040 | D10: -4628026500 | E10: 10565719045 | F10: 10006221580 | G10: 559497465
A11: 일반공공행정 | B11: - | C11: - | D11: - | E11: - | F11: - | G11: -
A12: 입법및선거관리 | B12: - | C12: - | D12: - | E12: - | F12: - | G12: -
A13: 지방행정ㆍ재정지원 | B13: - | C13: - | D13: - | E13: - | F13: - | G13: -
A14: 재정ㆍ금융 | B14: - | C14: - | D14: - | E14: - | F14: - | G14: -
A15: 일반행정 | B15: - | C15: - | D15: - | E15: - | F15: - | G15: -
A16: 공공질서및안전 | B16: - | C16: - | D16: - | E16: - | F16: - | G16: -
A17: 경찰 | B17: - | C17: - | D17: - | E17: - | F17: - | G17: -
A18: 재난방재ㆍ민방위 | B18: - | C18: - | D18: - | E18: - | F18: - | G18: -
A19: 소방 | B19: - | C19: - | D19: - | E19: - | F19: - | G19: -
A20: 교육 | B20: - | C20: - | D20: - | E20: - | F20: - | G20: -
A21: 유아및초중등교육 | B21: - | C21: - | D21: - | E21: - | F21: - | G21: -
A22: 고등교육 | B22: - | C22: - | D22: - | E22: - | F22: - | G22: -
